{"text_format":"1","workbook":"xlsx","n_sheets":3,"sheets":[" ","графік платежів","Лист1"],"not_rendered":{"charts":0,"images":0,"macros":0,"external_links":1,"defined_names":1,"comments":1,"pivot_tables":0},"unopened":[],"bounds":{"document_bytes":16777216,"sheet_cells":100000,"rows_first":2000,"rows_last":500,"rows_between":2000,"halvings":0,"cell_chars":16384,"cell_head_chars":4096},"cells_cut":0,"cells_raw":0,"read":"whole","date_system":"1900"}

{"sheet":" ","index":0,"n_rows":267,"n_cols":29,"rows_kept":267,"cut":false,"hidden":true,"merged":[[21,17,22,17],[21,8,21,11],[21,13,22,13],[2,7,2,12],[2,13,2,14],[3,7,3,12],[3,13,3,14],[4,13,4,14],[5,8,5,14],[6,8,6,12],[6,13,6,14],[7,8,7,12],[8,13,8,14],[11,13,11,14],[12,13,12,14],[13,13,13,14],[21,0,22,0],[21,15,22,15],[10,13,10,14],[5,7,10,7],[0,0,0,16],[21,5,22,5],[21,14,22,14],[3,1,4,2],[3,3,4,5],[5,1,6,2],[5,3,6,5],[10,3,10,5],[7,1,7,2],[8,1,8,2],[2,3,2,5],[7,3,7,5],[8,3,8,5],[2,1,2,2],[21,16,22,16],[21,12,22,12],[21,7,22,7],[21,6,22,6],[9,1,9,2],[9,3,9,5],[9,8,9,12],[21,4,22,4],[21,2,22,2]]}
["Таблиця обчислення орієнтовної вартості споживчого кредиту під заставу рухомого майна",null,null,null,null,null,null,null,null,null,null,null,null,null,null,null,null,null,null,null,null,null,null,null,"застава","позичальник"]
[null,null,null,null,null,null,null,null,null,null,null,null,null,null,null,null,null,null,null,null,null,null,null,1,{"$f":"O8+O10","v":60000},{"$f":"Y2-O8","v":60000}]
[null,"Дата кредиту",null,{"$f":"[1]калькулятор!C4","v":"2021-01-01"},null,null,null,"Одноразова комісія за надання кредиту, % від суми кредиту",null,null,null,null,null,{"$f":"[1]калькулятор!G4","v":0},null,{"$f":"N3","v":0},null,null,null,null,null,null,null,2,{"$f":"IF($D$8>12,K37,0)","v":53100.134368929874},{"$f":"IF(Y3>0,$Z$2,0)","v":60000}]
[null,"Мінімальна вартість ТЗ, грн",null,{"$f":"'графік платежів'!C5","v":1333334},null,null,null,"Одноразова комісія за надання кредиту, грн",null,null,null,null,null,{"$f":"N3*D6","v":0},null,{"$f":"D6*P3","v":0},null,null,null,null,null,null,null,3,{"$f":"IF($D$8>24,K49,0)","v":44263.27553785975},{"$f":"IF(Y4>0,$Z$2,0)","v":60000}]
[null,null,null,null,null,null,null,"Розрахунково-касове обслуговування, грн",null,null,null,null,null,{"$f":"[1]калькулятор!C8","v":0},null,0,null,null,null,null,null,null,null,4,{"$f":"IF($D$8>36,K61,0)","v":32945.653706789621},60000]
[null,"Сумма кредиту, грн",null,{"$f":"'графік платежів'!C6","v":1000000},null,null,null,"Послуги третіх осіб","Додаткові витрати, повязані з оформленням кредиту",null,null,null,null,null,null,null,null,null,null,null,null,null,null,5,{"$f":"IF($D$8>48,K73,0)","v":18457.047475719508},60000]
[null,null,null,null,null,null,{"$f":"IF(D6<30000,\"Мин. Сумма кредита - 30 тис грн\",IF(D6>500000,\"Макс. сума кредиту 500 тыс  грн\",\" \"))","v":"Макс. сума кредиту 500 тыс  грн"},null,"Послуги нотаріуса, грн",null,null,null,null,{"$f":"[1]калькулятор!G6","v":4000},null,{"$f":"N7","v":4000},null,null,null,null,null,null,null,6,{"$f":"IF($D$8>60,K85,0)","v":0},0,"відсутнє"]
[null,"Строк кредиту, міс",null,{"$f":"'графік платежів'!C7","v":60},null,null,{"$f":"IF(D8>120,\"Макс. строк- 60 міс.\",\" \")","v":" "},null,"Страхування застави %/грн",null,null,null,null,{"$f":"[1]калькулятор!G8","v":0},{"$f":"N8*D4","v":0},{"$f":"P4","v":0},null,null,null,"кредит",null,null,null,7,{"$f":"IF($D$8>72,K97,0)","v":0},0,"наявне","ПМ",1700]
[null,"Відсоткова ставка",null,{"$f":"'графік платежів'!C8","v":0.25},null,null,{"$f":"-PMT(D9/12,D8,D6)","v":29351.323376486274},null,"Послуги оцінювача, грн",null,null,null,null,{"$f":"[1]калькулятор!G7","v":1500},null,{"$f":"P5","v":0},null,null,null,"за власні кошти",null,null,null,8,{"$f":"IF($D$8>84,K109,0)","v":0},0]
[null,"Дата погашення",null,{"$f":"EDATE(D3,D8)","v":"2026-01-01"},null,null,null,null,"Страхування позичальника,%/грн",null,null,null,null,0.06,{"$f":"N10*D6","v":60000},null,null,null,null,null,null,null,null,9,{"$f":"IF($D$8>96,K121,0)","v":0},0,null,null,{"$f":"D4/AC8","v":784.31411764705888}]
[null,null,"Дата початку плаваючої ставки",null,null,null,null,null,"Інші послуги третіх осіб",null,null,null,null,0,null,null,null,null,null,null,null,null,null,10,{"$f":"IF($D$8>108,K133,0)","v":0},0]
[null,null,"Діючий Індекс UIDR (12 міс у гривні)",null,{"$f":"F12+F13","v":0},0,null,null,null,null,null,null,null,null,null,{"$f":"IF(M12=\"наявне\",D6*D8*0.12%,0)","v":0},null,null,null,null,null,null,null,11,{"$f":"IF($D$8>120,K145,0)","v":0},0]
[null,null,"Маржа",null,null,0,null,null,null,null,null,null,null,null,null,null,null,null,null,null,null,null,null,12,{"$f":"IF($D$8>132,K157,0)","v":0},0]
[null,null,"Відсоткова ставка з 25 місяця",null,null,0.1699,null,"Інші послуги банку",null,null,null,null,"Пакет \"Фамільний\"",0,null,null,null,null,null,null,null,null,null,13,{"$f":"IF($D$8>144,K169,0)","v":0},0]
[null,null,"Відсоткова ставка з 25 місяця",null,null,0.1699,null,null,null,null,null,null,null,null,null,null,null,null,null,null,null,null,null,14,{"$f":"IF($D$8>156,K181,0)","v":0},0,null,null,{"$f":"IF(AC10<165,\"3%\",IF(AC10>290,\"5%\",\"4%\"))","v":"5%"}]
[null,null,null,null,null,null,null,null,null,null,null,null,null,null,null,null,null,null,null,null,null,null,null,15,{"$f":"IF($D$8>168,K193,0)","v":0},0]
[null,null,null,null,null,null,null,null,null,null,null,null,null,null,null,null,null,null,null,null,null,null,null,16,{"$f":"IF($D$8>180,K205,0)","v":0},0]
[null,null,null,null,null,null,null,null,null,null,null,null,null,null,null,null,null,null,null,null,null,null,null,17,{"$f":"IF($D$8>192,K217,0)","v":0},0]
[null,null,null,null,null,null,null,null,null,null,null,null,null,null,null,null,null,null,null,null,null,null,null,18,{"$f":"IF($D$8>204,K229,0)","v":0},0]
[null,null,null,null,null,null,null,null,null,null,null,null,null,null,null,null,null,null,null,null,null,null,null,19,{"$f":"IF($D$8>216,K241,0)","v":0},0]
[null,null,null,null,null,null,null,null,null,null,null,null,null,null,null,null,null,null,null,null,null,null,null,20,{"$f":"IF($D$8>228,K253,0)","v":0},0]
["№","Дата платежу","Дата платежу","Кіль-кість днів у звітньо-му періоді","Залишок основного боргу для нарахування відсотків","Погашення основної суми кредиту","Орієнтовна сума відсотків","Орієнтовна сума платежу за розрахунковий період","Послуги третіх осіб",null,null,null,"Одноразова комісія за надання кредиту","Інші послуги банка","Щомісячна комісія","Реальна річна процентна ставка, %","Загальна вартість кредиту, грн.","Грошовий потік",null,null,null,null,null,null,{"$f":"SUM(Y2:Y21)","v":208766.11108929873},{"$f":"SUM(Z2:Z21)","v":300000}]
[null,null,null,null,null,null,null,null,"Послуги нотаріуса","Послуги оцінювача","Послуги страховика","Інші послуги третіх осіб"]
[null,{"$f":"D3","v":"2021-01-01"},{"$f":"IF(A24>$D$8,\"\",B24)","v":"2021-01-01"},null,{"$f":"D6","v":1000000},null,null,{"$f":"-E24+I24+J24+K24+L24+M24+N24+O24","v":-934500},{"$f":"P7","v":4000},{"$f":"$N$9","v":1500},{"$f":"O8+O10","v":60000},{"$f":"N11","v":0},{"$f":"P8","v":0},{"$f":"N14","v":0},null," "," ",{"$f":"H24","v":-934500},null,{"$f":"T25","v":365}]
[1,{"$f":"EDATE($B$24,A25)","v":"2021-02-01"},{"$f":"IF(A25>$D$8,\"\",B25)","v":"2021-02-01"},{"$f":"B25-B24","v":31},{"$f":"E24-F25","v":991881.55662351369},{"$f":"IF(AND(A24=\"\",A26=\"\"),\"\",IF(A25=\"\",ROUND(SUM($F24:F$25),2),IF(A25=$D$8,$E$24-ROUND(SUM($F24:F$25),2),($G$9-G25))))","v":8118.4433764862733},{"$f":"IF(T25<>T24,ROUND(SUM(V25*$D$9*E24/T25,W25*$D$9*E24/T24),2),ROUND(E24*$D$9*D25/T24,2))","v":21232.880000000001},{"$f":"IF(A24=$D$8,SUM($H24:H$25),IF(A24>$D$8,\"\",F25+G25+O25))","v":29351.323376486274}," ",null,null,null," ",null,{"$f":"IF(A24=$D$8,SUM($O24:O$25),IF(A24>$D$8,\" \",$N$5*$D$6))","v":0},{"$f":"IF(A24=$D$8,XIRR(H$24:H24,C$24:C24),\"\")","v":""}," ",{"$f":"SUM(H25:Q25)","v":29351.323376486274},{"$f":"IF(C25=\"\",\"\",YEAR(C25))","v":2021},{"$f":"IF(OR(S25=2024,S25=2028,S25=2016,S25=2020,S25=2024,S25=2028,S25=2032,S25=2036,S25=2040),366,365)","v":365},{"$f":"IF(C25=\"\",\"\",DAY(C25))","v":1},{"$f":"U25-1","v":0},{"$f":"D25-V25","v":31}]
[{"$f":"IF(A25<$D$8,A25+1,\"\")","v":2},{"$f":"EDATE($B$24,A26)","v":"2021-03-01"},{"$f":"IF(B26=$D$10,B26-1,(IF(B26>$D$10,\" \",B26)))","v":"2021-03-01"},28,{"$f":"E25-F26","v":981552.6232470274},{"$f":"IF(AND(A25=\"\",A27=\"\"),\"\",IF(A26=\"\",ROUND(SUM($F25:F$25),2),IF(A26=$D$8,$E$24-ROUND(SUM($F25:F$25),2),($G$9-G26))))","v":10328.933376486275},{"$f":"IF(A25=$D$8,ROUND(SUM($G$25:G25),2),IF(A26>$D$8,\"\",IF(T26<>T25,ROUND(SUM(V26*$D$9*E25/T26,W26*$D$9*E25/T25),2),ROUND(E25*$D$9*D26/T25,2))))","v":19022.39},{"$f":"IF(A25=$D$8,SUM($H$25:H25),IF(A25>$D$8,\"\",F26+G26+O26))","v":29351.323376486274}," ",null,null,null," ",null,{"$f":"IF(A25=$D$8,SUM($O$25:O25),IF(A25>$D$8,\" \",$N$5*$D$6))","v":0},{"$f":"IF(A25=$D$8,XIRR(H$24:H25,C$24:C25),\"\")","v":""}," ",{"$f":"SUM(H26:Q26)","v":29351.323376486274},{"$f":"IF(C26=\"\",\"\",YEAR(C26))","v":2021},{"$f":"IF(OR(S26=2024,S26=2028,S26=2016,S26=2020,S26=2024,S26=2028,S26=2032,S26=2036,S26=2040),366,365)","v":365},{"$f":"IF(C26=\"\",\"\",DAY(C26))","v":1},{"$f":"U26-1","v":0},{"$f":"D26-V26","v":28}]
[3,{"$f":"IF(A27=\"\",\"\",EDATE($B$24,A27))","v":"2021-04-01"},"2021-04-01",31,{"$f":"E26-F27","v":973042.48987054115},{"$f":"IF(AND(A26=\"\",A28=\"\"),\"\",IF(A27=\"\",ROUND(SUM($F$25:F26),2),IF(A27=$D$8,$E$24-ROUND(SUM($F$25:F26),2),($G$9-G27))))","v":8510.1333764862757},{"$f":"IF(A26=$D$8,ROUND(SUM($G$25:G26),2),IF(A27>$D$8,\"\",IF(T27<>T26,ROUND(SUM(V27*$D$9*E26/T27,W27*$D$9*E26/T26),2),ROUND(E26*$D$9*D27/T26,2))))","v":20841.189999999999},{"$f":"IF(A26=$D$8,SUM($H$25:H26),IF(A26>$D$8,\"\",F27+G27+O27))","v":29351.323376486274}," ",null,null,null," ",null,{"$f":"IF(A26=$D$8,SUM($O$25:O26),IF(A26>$D$8,\" \",$N$5*$D$6))","v":0},{"$f":"IF(A26=$D$8,XIRR(H$24:H26,C$24:C26),\"\")","v":""},{"$f":"IF(A26=$D$8,G27+M27+F27+I27+J27+K29+L27+N27+O27,\"\")","v":""},29351.323376486274,2021,365,1,0,31]
[4,"2021-05-01","2021-05-01",30,963685.18649405485,{"$f":"IF(AND(A27=\"\",A29=\"\"),\"\",IF(A28=\"\",ROUND(SUM($F$25:F27),2),IF(A28=$D$8,$E$24-ROUND(SUM($F$25:F27),2),($G$9-G28))))","v":9357.3033764862739},{"$f":"IF(A27=$D$8,ROUND(SUM($G$25:G27),2),IF(A28>$D$8,\"\",IF(T28<>T27,ROUND(SUM(V28*$D$9*E27/T28,W28*$D$9*E27/T27),2),ROUND(E27*$D$9*D28/T27,2))))","v":19994.02},{"$f":"IF(A27=$D$8,SUM($H$25:H27),IF(A27>$D$8,\"\",F28+G28+O28))","v":29351.323376486274}," ",null,null,null," ",null,{"$f":"IF(A27=$D$8,SUM($O$25:O27),IF(A27>$D$8,\" \",$N$5*$D$6))","v":0},{"$f":"IF(A27=$D$8,XIRR(H$24:H27,C$24:C27),\"\")","v":""},{"$f":"IF(A27=$D$8,G28+M28+F28+I28+J28+#REF!+L28+N28+O28,\"\")","v":""},29351.323376486274,2021,365,1,0,30]
[5,"2021-06-01","2021-06-01",31,954795.6731175686,{"$f":"IF(AND(A28=\"\",A30=\"\"),\"\",IF(A29=\"\",ROUND(SUM($F$25:F28),2),IF(A29=$D$8,$E$24-ROUND(SUM($F$25:F28),2),($G$9-G29))))","v":8889.513376486273},{"$f":"IF(A28=$D$8,ROUND(SUM($G$25:G28),2),IF(A29>$D$8,\"\",IF(T29<>T28,ROUND(SUM(V29*$D$9*E28/T29,W29*$D$9*E28/T28),2),ROUND(E28*$D$9*D29/T28,2))))","v":20461.810000000001},{"$f":"IF(A28=$D$8,SUM($H$25:H28),IF(A28>$D$8,\"\",F29+G29+O29))","v":29351.323376486274},{"$f":"IF(A29=\"\",$I$24,\"\")","v":""},{"$f":"IF(A29=\"\",$J$24,\"\")","v":""},null,{"$f":"IF(A29=\"\",$L$29,\"\")","v":""}," ",{"$f":"IF(A28=$D$8,$N$24,\"\")","v":""},{"$f":"IF(A28=$D$8,SUM($O$25:O28),IF(A28>$D$8,\" \",$N$5*$D$6))","v":0},{"$f":"IF(A28=$D$8,XIRR(H$24:H28,C$24:C28),\"\")","v":""},{"$f":"IF(A28=$D$8,G29+M29+F29+I29+J29+#REF!+L29+N29+O29,\"\")","v":""},29351.323376486274,2021,365,1,0,31]
[6,"2021-07-01","2021-07-01",30,945063.43974108237,{"$f":"IF(AND(A29=\"\",A31=\"\"),\"\",IF(A30=\"\",ROUND(SUM($F$25:F29),2),IF(A30=$D$8,$E$24-ROUND(SUM($F$25:F29),2),($G$9-G30))))","v":9732.2333764862742},{"$f":"IF(A29=$D$8,ROUND(SUM($G$25:G29),2),IF(A30>$D$8,\"\",IF(T30<>T29,ROUND(SUM(V30*$D$9*E29/T30,W30*$D$9*E29/T29),2),ROUND(E29*$D$9*D30/T29,2))))","v":19619.09},{"$f":"IF(A29=$D$8,SUM($H$25:H29),IF(A29>$D$8,\"\",F30+G30+O30))","v":29351.323376486274},{"$f":"IF(A29=$D$8,$I$24,\"\")","v":""},{"$f":"IF(A30=\"\",$J$24,\"\")","v":""},null,{"$f":"IF(A30=\"\",$L$24,\"\")","v":""},{"$f":"IF(A29=$D$8,$M$24,\"\")","v":""},"",{"$f":"IF(A29=$D$8,SUM($O$25:O29),IF(A29>$D$8,\" \",$N$5*$D$6))","v":0},{"$f":"IF(A29=$D$8,XIRR(H$24:H29,C$24:C29),\"\")","v":""},{"$f":"IF(A29=$D$8,G30+M30+F30+I30+J30+K30+L30+N30+O30,\"\")","v":""},29351.323376486274,2021,365,1,0,30]
[7,"2021-08-01","2021-08-01",{"$f":"IF(A31>$D$8,\"\",C31-C30)","v":31},935778.5363645961,{"$f":"IF(AND(A30=\"\",A32=\"\"),\"\",IF(A31=\"\",ROUND(SUM($F$25:F30),2),IF(A31=$D$8,$E$24-ROUND(SUM($F$25:F30),2),($G$9-G31))))","v":9284.9033764862761},{"$f":"IF(A30=$D$8,ROUND(SUM($G$25:G30),2),IF(A31>$D$8,\"\",IF(T31<>T30,ROUND(SUM(V31*$D$9*E30/T31,W31*$D$9*E30/T30),2),ROUND(E30*$D$9*D31/T30,2))))","v":20066.419999999998},{"$f":"IF(A30=$D$8,SUM($H$25:H30),IF(A30>$D$8,\"\",F31+G31+O31))","v":29351.323376486274},"","",null,{"$f":"IF(A31=\"\",$L$24,\"\")","v":""},"","",{"$f":"IF(A30=$D$8,SUM($O$25:O30),IF(A30>$D$8,\" \",$N$5*$D$6))","v":0},{"$f":"IF(A30=$D$8,XIRR(H$24:H30,C$24:C30),\"\")","v":""},"",29351.323376486274,2021,365,1,0,31]
[8,"2021-09-01","2021-09-01",31,{"$f":"IF(A32>$D$8,\"\",E31-F32)","v":926296.48298810981},{"$f":"IF(AND(A31=\"\",A33=\"\"),\"\",IF(A32=\"\",ROUND(SUM($F$25:F31),2),IF(A32=$D$8,$E$24-ROUND(SUM($F$25:F31),2),($G$9-G32))))","v":9482.0533764862739},{"$f":"IF(A31=$D$8,ROUND(SUM($G$25:G31),2),IF(A32>$D$8,\"\",IF(T32<>T31,ROUND(SUM(V32*$D$9*E31/T32,W32*$D$9*E31/T31),2),ROUND(E31*$D$9*D32/T31,2))))","v":19869.27},{"$f":"IF(A31=$D$8,SUM($H$25:H31),IF(A31>$D$8,\"\",F32+G32+O32))","v":29351.323376486274},"",{"$f":"IF(A31=$D$8,$J$24,\"\")","v":""},null,"","","",{"$f":"IF(A31=$D$8,SUM($O$25:O31),IF(A31>$D$8,\" \",$N$5*$D$6))","v":0},{"$f":"IF(A31=$D$8,XIRR(H$24:H31,C$24:C31),\"\")","v":""},"",29351.323376486274,2021,365,1,0,31]
[9,"2021-10-01","2021-10-01",30,915978.64961162349,{"$f":"IF(AND(A32=\"\",A34=\"\"),\"\",IF(A33=\"\",ROUND(SUM($F$25:F32),2),IF(A33=$D$8,$E$24-ROUND(SUM($F$25:F32),2),($G$9-G33))))","v":10317.833376486273},{"$f":"IF(A32=$D$8,ROUND(SUM($G$25:G32),2),IF(A33>$D$8,\"\",IF(T33<>T32,ROUND(SUM(V33*$D$9*E32/T33,W33*$D$9*E32/T32),2),ROUND(E32*$D$9*D33/T32,2))))","v":19033.490000000002},{"$f":"IF(A32=$D$8,SUM($H$25:H32),IF(A32>$D$8,\"\",F33+G33+O33))","v":29351.323376486274},"","",null,"","","",{"$f":"IF(A32=$D$8,SUM($O$25:O32),IF(A32>$D$8,\" \",$N$5*$D$6))","v":0},{"$f":"IF(A32=$D$8,XIRR(H$24:H32,C$24:C32),\"\")","v":""},"",29351.323376486274,2021,365,1,0,30]
[10,"2021-11-01","2021-11-01",31,906076.18623513717,{"$f":"IF(AND(A33=\"\",A35=\"\"),\"\",IF(A34=\"\",ROUND(SUM($F$25:F33),2),IF(A34=$D$8,$E$24-ROUND(SUM($F$25:F33),2),($G$9-G34))))","v":9902.4633764862738},{"$f":"IF(A33=$D$8,ROUND(SUM($G$25:G33),2),IF(A34>$D$8,\"\",IF(T34<>T33,ROUND(SUM(V34*$D$9*E33/T34,W34*$D$9*E33/T33),2),ROUND(E33*$D$9*D34/T33,2))))","v":19448.86},{"$f":"IF(A33=$D$8,SUM($H$25:H33),IF(A33>$D$8,\"\",F34+G34+O34))","v":29351.323376486274},"","",null,"","","",{"$f":"IF(A33=$D$8,SUM($O$25:O33),IF(A33>$D$8,\" \",$N$5*$D$6))","v":0},{"$f":"IF(A33=$D$8,XIRR(H$24:H33,C$24:C33),\"\")","v":""},"",29351.323376486274,2021,365,1,0,31]
[11,"2021-12-01","2021-12-01",30,895342.86285865086,{"$f":"IF(AND(A34=\"\",A36=\"\"),\"\",IF(A35=\"\",ROUND(SUM($F$25:F34),2),IF(A35=$D$8,$E$24-ROUND(SUM($F$25:F34),2),($G$9-G35))))","v":10733.323376486274},{"$f":"IF(A34=$D$8,ROUND(SUM($G$25:G34),2),IF(A35>$D$8,\"\",IF(T35<>T34,ROUND(SUM(V35*$D$9*E34/T35,W35*$D$9*E34/T34),2),ROUND(E34*$D$9*D35/T34,2))))","v":18618},{"$f":"IF(A34=$D$8,SUM($H$25:H34),IF(A34>$D$8,\"\",F35+G35+O35))","v":29351.323376486274},"","",null,"","","",{"$f":"IF(A34=$D$8,SUM($O$25:O34),IF(A34>$D$8,\" \",$N$5*$D$6))","v":0},{"$f":"IF(A34=$D$8,XIRR(H$24:H34,C$24:C34),\"\")","v":""},"",29351.323376486274,2021,365,1,0,30]
[12,"2022-01-01","2022-01-01",31,885002.23948216462,{"$f":"IF(AND(A35=\"\",A37=\"\"),\"\",IF(A36=\"\",ROUND(SUM($F$25:F35),2),IF(A36=$D$8,$E$24-ROUND(SUM($F$25:F35),2),($G$9-G36))))","v":10340.623376486274},{"$f":"IF(A35=$D$8,ROUND(SUM($G$25:G35),2),IF(A36>$D$8,\"\",IF(T36<>T35,ROUND(SUM(V36*$D$9*E35/T36,W36*$D$9*E35/T35),2),ROUND(E35*$D$9*D36/T35,2))))","v":19010.7},{"$f":"IF(A35=$D$8,SUM($H$25:H35),IF(A35>$D$8,\"\",F36+G36+O36))","v":29351.323376486274},"","",null,"","","",{"$f":"IF(A35=$D$8,SUM($O$25:O35),IF(A35>$D$8,\" \",$N$5*$D$6))","v":0},{"$f":"IF(A35=$D$8,XIRR(H$24:H35,C$24:C35),\"\")","v":""},"",29351.323376486274,2022,365,1,0,31]
[13,{"$f":"IF(A37=\"\",\"\",EDATE($B$24,A37))","v":"2022-02-01"},"2022-02-01",31,874442.05610567832,{"$f":"IF(AND(A36=\"\",A38=\"\"),\"\",IF(A37=\"\",ROUND(SUM($F$25:F36),2),IF(A37=$D$8,$E$24-ROUND(SUM($F$25:F36),2),($G$9-G37))))","v":10560.183376486275},{"$f":"IF(A36=$D$8,ROUND(SUM($G$25:G36),2),IF(A37>$D$8,\"\",IF(T37<>T36,ROUND(SUM(V37*$D$9*E36/T37,W37*$D$9*E36/T36),2),ROUND(E36*$D$9*D37/T36,2))))","v":18791.14},{"$f":"IF(A36=$D$8,SUM($H$25:H36),IF(A36>$D$8,\"\",F37+G37+O37))","v":29351.323376486274},"",{"$f":"IF($D$8>A36,J24,N9)","v":1500},{"$f":"IF(D8>12,(O8+$N$10*E36),IF($A$36=$D$8,K24,\"\"))","v":53100.134368929874},"","","",{"$f":"IF(A36=$D$8,SUM($O$25:O36),IF(A36>$D$8,\" \",$N$5*$D$6))","v":0},{"$f":"IF(A36=$D$8,XIRR(H$24:H36,C$24:C36),\"\")","v":""},"",83951.457745416148,2022,365,1,0,31]
[14,{"$f":"IF(A38=\"\",\"\",EDATE($B$24,A38))","v":"2022-03-01"},"2022-03-01",{"$f":"IF(A38>$D$8,\"\",C38-C37)","v":28},{"$f":"IF(A38>$D$8,\"\",E37-F38)","v":861860.852729192},{"$f":"IF(AND(A37=\"\",A39=\"\"),\"\",IF(A38=\"\",ROUND(SUM($F$25:F37),2),IF(A38=$D$8,$E$24-ROUND(SUM($F$25:F37),2),($G$9-G38))))","v":12581.203376486275},{"$f":"IF(A37=$D$8,ROUND(SUM($G$25:G37),2),IF(A38>$D$8,\"\",IF(T38<>T37,ROUND(SUM(V38*$D$9*E37/T38,W38*$D$9*E37/T37),2),ROUND(E37*$D$9*D38/T37,2))))","v":16770.12},{"$f":"IF(A37=$D$8,SUM($H$25:H37),IF(A37>$D$8,\"\",F38+G38+O38))","v":29351.323376486274},"",{"$f":"IF(A37=$D$8,$J$24,\"\")","v":""},null,{"$f":"IF(A37=$D$8,$L$24,\"\")","v":""},"","",{"$f":"IF(A37=$D$8,SUM($O$25:O37),IF(A37>$D$8,\" \",$N$5*$D$6))","v":0},{"$f":"IF(A37=$D$8,XIRR(H$24:H37,C$24:C37),\"\")","v":""},"",29351.323376486274,2022,365,1,0,28]
[15,"2022-04-01","2022-04-01",31,850809.31935270573,{"$f":"IF(AND(A38=\"\",A40=\"\"),\"\",IF(A39=\"\",ROUND(SUM($F$25:F38),2),IF(A39=$D$8,$E$24-ROUND(SUM($F$25:F38),2),($G$9-G39))))","v":11051.533376486273},{"$f":"IF(A38=$D$8,ROUND(SUM($G$25:G38),2),IF(A39>$D$8,\"\",IF(T39<>T38,ROUND(SUM(V39*$D$9*E38/T39,W39*$D$9*E38/T38),2),ROUND(E38*$D$9*D39/T38,2))))","v":18299.79},{"$f":"IF(A38=$D$8,SUM($H$25:H38),IF(A38>$D$8,\"\",F39+G39+O39))","v":29351.323376486274},"","",null,"","","",{"$f":"IF(A38=$D$8,SUM($O$25:O38),IF(A38>$D$8,\" \",$N$5*$D$6))","v":0},{"$f":"IF(A38=$D$8,XIRR(H$24:H38,C$24:C38),\"\")","v":""},"",29351.323376486274,2022,365,1,0,31]
[16,"2022-05-01","2022-05-01",30,838940.37597621942,{"$f":"IF(AND(A39=\"\",A41=\"\"),\"\",IF(A40=\"\",ROUND(SUM($F$25:F39),2),IF(A40=$D$8,$E$24-ROUND(SUM($F$25:F39),2),($G$9-G40))))","v":11868.943376486273},{"$f":"IF(A39=$D$8,ROUND(SUM($G$25:G39),2),IF(A40>$D$8,\"\",IF(T40<>T39,ROUND(SUM(V40*$D$9*E39/T40,W40*$D$9*E39/T39),2),ROUND(E39*$D$9*D40/T39,2))))","v":17482.38},{"$f":"IF(A39=$D$8,SUM($H$25:H39),IF(A39>$D$8,\"\",F40+G40+O40))","v":29351.323376486274},"","",null,"","","",{"$f":"IF(A39=$D$8,SUM($O$25:O39),IF(A39>$D$8,\" \",$N$5*$D$6))","v":0},{"$f":"IF(A39=$D$8,XIRR(H$24:H39,C$24:C39),\"\")","v":""},"",29351.323376486274,2022,365,1,0,30]
[17,"2022-06-01","2022-06-01",31,827402.17259973311,{"$f":"IF(AND(A40=\"\",A42=\"\"),\"\",IF(A41=\"\",ROUND(SUM($F$25:F40),2),IF(A41=$D$8,$E$24-ROUND(SUM($F$25:F40),2),($G$9-G41))))","v":11538.203376486275},{"$f":"IF(A40=$D$8,ROUND(SUM($G$25:G40),2),IF(A41>$D$8,\"\",IF(T41<>T40,ROUND(SUM(V41*$D$9*E40/T41,W41*$D$9*E40/T40),2),ROUND(E40*$D$9*D41/T40,2))))","v":17813.12},{"$f":"IF(A40=$D$8,SUM($H$25:H40),IF(A40>$D$8,\"\",F41+G41+O41))","v":29351.323376486274},"","",null,"","","",{"$f":"IF(A40=$D$8,SUM($O$25:O40),IF(A40>$D$8,\" \",$N$5*$D$6))","v":0},{"$f":"IF(A40=$D$8,XIRR(H$24:H40,C$24:C40),\"\")","v":""},"",29351.323376486274,2022,365,1,0,31]
[18,"2022-07-01","2022-07-01",30,815052.25922324683,{"$f":"IF(AND(A41=\"\",A43=\"\"),\"\",IF(A42=\"\",ROUND(SUM($F$25:F41),2),IF(A42=$D$8,$E$24-ROUND(SUM($F$25:F41),2),($G$9-G42))))","v":12349.913376486275},{"$f":"IF(A41=$D$8,ROUND(SUM($G$25:G41),2),IF(A42>$D$8,\"\",IF(T42<>T41,ROUND(SUM(V42*$D$9*E41/T42,W42*$D$9*E41/T41),2),ROUND(E41*$D$9*D42/T41,2))))","v":17001.41},{"$f":"IF(A41=$D$8,SUM($H$25:H41),IF(A41>$D$8,\"\",F42+G42+O42))","v":29351.323376486274},{"$f":"IF(A41=$D$8,$I$24,\"\")","v":""},"",null,"","","",{"$f":"IF(A41=$D$8,SUM($O$25:O41),IF(A41>$D$8,\" \",$N$5*$D$6))","v":0},{"$f":"IF(A41=$D$8,XIRR(H$24:H41,C$24:C41),\"\")","v":""},"",29351.323376486274,2022,365,1,0,30]
[19,"2022-08-01","2022-08-01",31,803006.83584676054,{"$f":"IF(AND(A42=\"\",A44=\"\"),\"\",IF(A43=\"\",ROUND(SUM($F$25:F42),2),IF(A43=$D$8,$E$24-ROUND(SUM($F$25:F42),2),($G$9-G43))))","v":12045.423376486273},{"$f":"IF(A42=$D$8,ROUND(SUM($G$25:G42),2),IF(A43>$D$8,\"\",IF(T43<>T42,ROUND(SUM(V43*$D$9*E42/T43,W43*$D$9*E42/T42),2),ROUND(E42*$D$9*D43/T42,2))))","v":17305.900000000001},{"$f":"IF(A42=$D$8,SUM($H$25:H42),IF(A42>$D$8,\"\",F43+G43+O43))","v":29351.323376486274},"","",null,"","","",{"$f":"IF(A42=$D$8,SUM($O$25:O42),IF(A42>$D$8,\" \",$N$5*$D$6))","v":0},{"$f":"IF(A42=$D$8,XIRR(H$24:H42,C$24:C42),\"\")","v":""},"",29351.323376486274,2022,365,1,0,31]
[20,"2022-09-01","2022-09-01",31,790705.66247027426,{"$f":"IF(AND(A43=\"\",A45=\"\"),\"\",IF(A44=\"\",ROUND(SUM($F$25:F43),2),IF(A44=$D$8,$E$24-ROUND(SUM($F$25:F43),2),($G$9-G44))))","v":12301.173376486273},{"$f":"IF(A43=$D$8,ROUND(SUM($G$25:G43),2),IF(A44>$D$8,\"\",IF(T44<>T43,ROUND(SUM(V44*$D$9*E43/T44,W44*$D$9*E43/T43),2),ROUND(E43*$D$9*D44/T43,2))))","v":17050.150000000001},{"$f":"IF(A43=$D$8,SUM($H$25:H43),IF(A43>$D$8,\"\",F44+G44+O44))","v":29351.323376486274},"","",null,"","","",{"$f":"IF(A43=$D$8,SUM($O$25:O43),IF(A43>$D$8,\" \",$N$5*$D$6))","v":0},{"$f":"IF(A43=$D$8,XIRR(H$24:H43,C$24:C43),\"\")","v":""},"",29351.323376486274,2022,365,1,0,31]
[21,"2022-10-01","2022-10-01",30,777601.71909378795,{"$f":"IF(AND(A44=\"\",A46=\"\"),\"\",IF(A45=\"\",ROUND(SUM($F$25:F44),2),IF(A45=$D$8,$E$24-ROUND(SUM($F$25:F44),2),($G$9-G45))))","v":13103.943376486275},{"$f":"IF(A44=$D$8,ROUND(SUM($G$25:G44),2),IF(A45>$D$8,\"\",IF(T45<>T44,ROUND(SUM(V45*$D$9*E44/T45,W45*$D$9*E44/T44),2),ROUND(E44*$D$9*D45/T44,2))))","v":16247.38},{"$f":"IF(A44=$D$8,SUM($H$25:H44),IF(A44>$D$8,\"\",F45+G45+O45))","v":29351.323376486274},"","",null,"","","",{"$f":"IF(A44=$D$8,SUM($O$25:O44),IF(A44>$D$8,\" \",$N$5*$D$6))","v":0},{"$f":"IF(A44=$D$8,XIRR(H$24:H44,C$24:C44),\"\")","v":""},"",29351.323376486274,2022,365,1,0,30]
[22,"2022-11-01","2022-11-01",31,764761.11571730173,{"$f":"IF(AND(A45=\"\",A47=\"\"),\"\",IF(A46=\"\",ROUND(SUM($F$25:F45),2),IF(A46=$D$8,$E$24-ROUND(SUM($F$25:F45),2),($G$9-G46))))","v":12840.603376486273},{"$f":"IF(A45=$D$8,ROUND(SUM($G$25:G45),2),IF(A46>$D$8,\"\",IF(T46<>T45,ROUND(SUM(V46*$D$9*E45/T46,W46*$D$9*E45/T45),2),ROUND(E45*$D$9*D46/T45,2))))","v":16510.72},{"$f":"IF(A45=$D$8,SUM($H$25:H45),IF(A45>$D$8,\"\",F46+G46+O46))","v":29351.323376486274},"","",null,"","","",{"$f":"IF(A45=$D$8,SUM($O$25:O45),IF(A45>$D$8,\" \",$N$5*$D$6))","v":0},{"$f":"IF(A45=$D$8,XIRR(H$24:H45,C$24:C45),\"\")","v":""},"",29351.323376486274,2022,365,1,0,31]
[23,"2022-12-01","2022-12-01",30,751124.06234081544,{"$f":"IF(AND(A46=\"\",A48=\"\"),\"\",IF(A47=\"\",ROUND(SUM($F$25:F46),2),IF(A47=$D$8,$E$24-ROUND(SUM($F$25:F46),2),($G$9-G47))))","v":13637.053376486274},{"$f":"IF(A46=$D$8,ROUND(SUM($G$25:G46),2),IF(A47>$D$8,\"\",IF(T47<>T46,ROUND(SUM(V47*$D$9*E46/T47,W47*$D$9*E46/T46),2),ROUND(E46*$D$9*D47/T46,2))))","v":15714.27},{"$f":"IF(A46=$D$8,SUM($H$25:H46),IF(A46>$D$8,\"\",F47+G47+O47))","v":29351.323376486274},"","",null,"","","",{"$f":"IF(A46=$D$8,SUM($O$25:O46),IF(A46>$D$8,\" \",$N$5*$D$6))","v":0},{"$f":"IF(A46=$D$8,XIRR(H$24:H46,C$24:C46),\"\")","v":""},"",29351.323376486274,2022,365,1,0,30]
[24,"2023-01-01","2023-01-01",31,737721.25896432914,{"$f":"IF(AND(A47=\"\",A49=\"\"),\"\",IF(A48=\"\",ROUND(SUM($F$25:F47),2),IF(A48=$D$8,$E$24-ROUND(SUM($F$25:F47),2),($G$9-G48))))","v":13402.803376486274},{"$f":"IF(A47=$D$8,ROUND(SUM($G$25:G47),2),IF(A48>$D$8,\"\",IF(T48<>T47,ROUND(SUM(V48*$D$9*E47/T48,W48*$D$9*E47/T47),2),ROUND(E47*$D$9*D48/T47,2))))","v":15948.52},{"$f":"IF(A47=$D$8,SUM($H$25:H47),IF(A47>$D$8,\"\",F48+G48+O48))","v":29351.323376486274},"","",null,"","","",{"$f":"IF(A47=$D$8,SUM($O$25:O47),IF(A47>$D$8,\" \",$N$5*$D$6))","v":0},{"$f":"IF(A47=$D$8,XIRR(H$24:H47,C$24:C47),\"\")","v":""},"",29351.323376486274,2023,365,1,0,31]
[25,"2023-02-01","2023-02-01",31,724033.87558784289,{"$f":"IF(AND(A48=\"\",A50=\"\"),\"\",IF(A49=\"\",ROUND(SUM($F$25:F48),2),IF(A49=$D$8,$E$24-ROUND(SUM($F$25:F48),2),($G$9-G49))))","v":13687.383376486274},{"$f":"IF(A48=$D$8,ROUND(SUM($G$25:G48),2),IF(A49>$D$8,\"\",IF(T49<>T48,ROUND(SUM(V49*$D$9*E48/T49,W49*$D$9*E48/T48),2),ROUND(E48*$D$9*D49/T48,2))))","v":15663.94},{"$f":"IF(A48=$D$8,SUM($H$25:H48),IF(A48>$D$8,\"\",F49+G49+O49))","v":29351.323376486274},"",{"$f":"IF($D$8>A48,$N$9,IF($D$8=A48,$J$24+$J$37,\" \"))","v":1500},{"$f":"IF($D$8>24,($O$8+$N$10*E48),IF($A$48=$D$8,$K$37+$K$24,\"\"))","v":44263.27553785975},"","","",{"$f":"IF(A48=$D$8,SUM($O$25:O48),IF(A48>$D$8,\" \",$N$5*$D$6))","v":0},{"$f":"IF(A48=$D$8,XIRR(H$24:H48,C$24:C48),\"\")","v":""},"",75114.598914346017,2023,365,1,0,31]
[26,"2023-03-01","2023-03-01",28,708568.13221135666,{"$f":"IF(AND(A49=\"\",A51=\"\"),\"\",IF(A50=\"\",ROUND(SUM($F$25:F49),2),IF(A50=$D$8,$E$24-ROUND(SUM($F$25:F49),2),($G$9-G50))))","v":15465.743376486274},{"$f":"IF(A49=$D$8,ROUND(SUM($G$25:G49),2),IF(A50>$D$8,\"\",IF(T50<>T49,ROUND(SUM(V50*$D$9*E49/T50,W50*$D$9*E49/T49),2),ROUND(E49*$D$9*D50/T49,2))))","v":13885.58},{"$f":"IF(A49=$D$8,SUM($H$25:H49),IF(A49>$D$8,\"\",F50+G50+O50))","v":29351.323376486274},"",{"$f":"IF(A49=$D$8,$J$24,\"\")","v":""},null,"","","",{"$f":"IF(A49=$D$8,SUM($O$25:O49),IF(A49>$D$8,\" \",$N$5*$D$6))","v":0},{"$f":"IF(A49=$D$8,XIRR(H$24:H49,C$24:C49),\"\")","v":""},"",29351.323376486274,2023,365,1,0,28]
[27,"2023-04-01","2023-04-01",31,694261.74883487041,{"$f":"IF(AND(A50=\"\",A52=\"\"),\"\",IF(A51=\"\",ROUND(SUM($F$25:F50),2),IF(A51=$D$8,$E$24-ROUND(SUM($F$25:F50),2),($G$9-G51))))","v":14306.383376486274},{"$f":"IF(A50=$D$8,ROUND(SUM($G$25:G50),2),IF(A51>$D$8,\"\",IF(T51<>T50,ROUND(SUM(V51*$D$9*E50/T51,W51*$D$9*E50/T50),2),ROUND(E50*$D$9*D51/T50,2))))","v":15044.94},{"$f":"IF(A50=$D$8,SUM($H$25:H50),IF(A50>$D$8,\"\",F51+G51+O51))","v":29351.323376486274},"","",null,"","","",{"$f":"IF(A50=$D$8,SUM($O$25:O50),IF(A50>$D$8,\" \",$N$5*$D$6))","v":0},{"$f":"IF(A50=$D$8,XIRR(H$24:H50,C$24:C50),\"\")","v":""},"",29351.323376486274,2023,365,1,0,31]
[28,"2023-05-01","2023-05-01",30,679176.07545838412,{"$f":"IF(AND(A51=\"\",A53=\"\"),\"\",IF(A52=\"\",ROUND(SUM($F$25:F51),2),IF(A52=$D$8,$E$24-ROUND(SUM($F$25:F51),2),($G$9-G52))))","v":15085.673376486275},{"$f":"IF(A51=$D$8,ROUND(SUM($G$25:G51),2),IF(A52>$D$8,\"\",IF(T52<>T51,ROUND(SUM(V52*$D$9*E51/T52,W52*$D$9*E51/T51),2),ROUND(E51*$D$9*D52/T51,2))))","v":14265.65},{"$f":"IF(A51=$D$8,SUM($H$25:H51),IF(A51>$D$8,\"\",F52+G52+O52))","v":29351.323376486274},"","",null,"","","",{"$f":"IF(A51=$D$8,SUM($O$25:O51),IF(A51>$D$8,\" \",$N$5*$D$6))","v":0},{"$f":"IF(A51=$D$8,XIRR(H$24:H51,C$24:C51),\"\")","v":""},"",29351.323376486274,2023,365,1,0,30]
[29,"2023-06-01","2023-06-01",31,664245.61208189779,{"$f":"IF(AND(A52=\"\",A54=\"\"),\"\",IF(A53=\"\",ROUND(SUM($F$25:F52),2),IF(A53=$D$8,$E$24-ROUND(SUM($F$25:F52),2),($G$9-G53))))","v":14930.463376486274},{"$f":"IF(A52=$D$8,ROUND(SUM($G$25:G52),2),IF(A53>$D$8,\"\",IF(T53<>T52,ROUND(SUM(V53*$D$9*E52/T53,W53*$D$9*E52/T52),2),ROUND(E52*$D$9*D53/T52,2))))","v":14420.86},{"$f":"IF(A52=$D$8,SUM($H$25:H52),IF(A52>$D$8,\"\",F53+G53+O53))","v":29351.323376486274},"","",null,"","","",{"$f":"IF(A52=$D$8,SUM($O$25:O52),IF(A52>$D$8,\" \",$N$5*$D$6))","v":0},{"$f":"IF(A52=$D$8,XIRR(H$24:H52,C$24:C52),\"\")","v":""},"",29351.323376486274,2023,365,1,0,31]
[30,"2023-07-01","2023-07-01",30,648543.16870541149,{"$f":"IF(AND(A53=\"\",A55=\"\"),\"\",IF(A54=\"\",ROUND(SUM($F$25:F53),2),IF(A54=$D$8,$E$24-ROUND(SUM($F$25:F53),2),($G$9-G54))))","v":15702.443376486275},{"$f":"IF(A53=$D$8,ROUND(SUM($G$25:G53),2),IF(A54>$D$8,\"\",IF(T54<>T53,ROUND(SUM(V54*$D$9*E53/T54,W54*$D$9*E53/T53),2),ROUND(E53*$D$9*D54/T53,2))))","v":13648.88},{"$f":"IF(A53=$D$8,SUM($H$25:H53),IF(A53>$D$8,\"\",F54+G54+O54))","v":29351.323376486274},"","",null,"","","",{"$f":"IF(A53=$D$8,SUM($O$25:O53),IF(A53>$D$8,\" \",$N$5*$D$6))","v":0},{"$f":"IF(A53=$D$8,XIRR(H$24:H53,C$24:C53),\"\")","v":""},"",29351.323376486274,2023,365,1,0,30]
[31,"2023-08-01","2023-08-01",31,632962.28532892524,{"$f":"IF(AND(A54=\"\",A56=\"\"),\"\",IF(A55=\"\",ROUND(SUM($F$25:F54),2),IF(A55=$D$8,$E$24-ROUND(SUM($F$25:F54),2),($G$9-G55))))","v":15580.883376486274},{"$f":"IF(A54=$D$8,ROUND(SUM($G$25:G54),2),IF(A55>$D$8,\"\",IF(T55<>T54,ROUND(SUM(V55*$D$9*E54/T55,W55*$D$9*E54/T54),2),ROUND(E54*$D$9*D55/T54,2))))","v":13770.44},{"$f":"IF(A54=$D$8,SUM($H$25:H54),IF(A54>$D$8,\"\",F55+G55+O55))","v":29351.323376486274},"","",null,"","","",{"$f":"IF(A54=$D$8,SUM($O$25:O54),IF(A54>$D$8,\" \",$N$5*$D$6))","v":0},{"$f":"IF(A54=$D$8,XIRR(H$24:H54,C$24:C54),\"\")","v":""},"",29351.323376486274,2023,365,1,0,31]
[32,"2023-09-01","2023-09-01",31,617050.57195243891,{"$f":"IF(AND(A55=\"\",A57=\"\"),\"\",IF(A56=\"\",ROUND(SUM($F$25:F55),2),IF(A56=$D$8,$E$24-ROUND(SUM($F$25:F55),2),($G$9-G56))))","v":15911.713376486274},{"$f":"IF(A55=$D$8,ROUND(SUM($G$25:G55),2),IF(A56>$D$8,\"\",IF(T56<>T55,ROUND(SUM(V56*$D$9*E55/T56,W56*$D$9*E55/T55),2),ROUND(E55*$D$9*D56/T55,2))))","v":13439.61},{"$f":"IF(A55=$D$8,SUM($H$25:H55),IF(A55>$D$8,\"\",F56+G56+O56))","v":29351.323376486274},"","",null,"","","",{"$f":"IF(A55=$D$8,SUM($O$25:O55),IF(A55>$D$8,\" \",$N$5*$D$6))","v":0},{"$f":"IF(A55=$D$8,XIRR(H$24:H55,C$24:C55),\"\")","v":""},"",29351.323376486274,2023,365,1,0,31]
[33,"2023-10-01","2023-10-01",30,600378.3685759526,{"$f":"IF(AND(A56=\"\",A58=\"\"),\"\",IF(A57=\"\",ROUND(SUM($F$25:F56),2),IF(A57=$D$8,$E$24-ROUND(SUM($F$25:F56),2),($G$9-G57))))","v":16672.203376486272},{"$f":"IF(A56=$D$8,ROUND(SUM($G$25:G56),2),IF(A57>$D$8,\"\",IF(T57<>T56,ROUND(SUM(V57*$D$9*E56/T57,W57*$D$9*E56/T56),2),ROUND(E56*$D$9*D57/T56,2))))","v":12679.12},{"$f":"IF(A56=$D$8,SUM($H$25:H56),IF(A56>$D$8,\"\",F57+G57+O57))","v":29351.323376486274},"","",null,"","","",{"$f":"IF(A56=$D$8,SUM($O$25:O56),IF(A56>$D$8,\" \",$N$5*$D$6))","v":0},{"$f":"IF(A56=$D$8,XIRR(H$24:H56,C$24:C56),\"\")","v":""},"",29351.323376486274,2023,365,1,0,30]
[34,"2023-11-01","2023-11-01",31,583774.8051994663,{"$f":"IF(AND(A57=\"\",A59=\"\"),\"\",IF(A58=\"\",ROUND(SUM($F$25:F57),2),IF(A58=$D$8,$E$24-ROUND(SUM($F$25:F57),2),($G$9-G58))))","v":16603.563376486272},{"$f":"IF(A57=$D$8,ROUND(SUM($G$25:G57),2),IF(A58>$D$8,\"\",IF(T58<>T57,ROUND(SUM(V58*$D$9*E57/T58,W58*$D$9*E57/T57),2),ROUND(E57*$D$9*D58/T57,2))))","v":12747.76},{"$f":"IF(A57=$D$8,SUM($H$25:H57),IF(A57>$D$8,\"\",F58+G58+O58))","v":29351.323376486274},"","",null,"","","",{"$f":"IF(A57=$D$8,SUM($O$25:O57),IF(A57>$D$8,\" \",$N$5*$D$6))","v":0},{"$f":"IF(A57=$D$8,XIRR(H$24:H57,C$24:C57),\"\")","v":""},"",29351.323376486274,2023,365,1,0,31]
[35,"2023-12-01","2023-12-01",30,566418.85182297998,{"$f":"IF(AND(A58=\"\",A60=\"\"),\"\",IF(A59=\"\",ROUND(SUM($F$25:F58),2),IF(A59=$D$8,$E$24-ROUND(SUM($F$25:F58),2),($G$9-G59))))","v":17355.953376486272},{"$f":"IF(A58=$D$8,ROUND(SUM($G$25:G58),2),IF(A59>$D$8,\"\",IF(T59<>T58,ROUND(SUM(V59*$D$9*E58/T59,W59*$D$9*E58/T58),2),ROUND(E58*$D$9*D59/T58,2))))","v":11995.37},{"$f":"IF(A58=$D$8,SUM($H$25:H58),IF(A58>$D$8,\"\",F59+G59+O59))","v":29351.323376486274},"","",null,"","","",{"$f":"IF(A58=$D$8,SUM($O$25:O58),IF(A58>$D$8,\" \",$N$5*$D$6))","v":0},{"$f":"IF(A58=$D$8,XIRR(H$24:H58,C$24:C58),\"\")","v":""},"",29351.323376486274,2023,365,1,0,30]
[36,"2024-01-01","2024-01-01",31,549094.22844649374,{"$f":"IF(AND(A59=\"\",A61=\"\"),\"\",IF(A60=\"\",ROUND(SUM($F$25:F59),2),IF(A60=$D$8,$E$24-ROUND(SUM($F$25:F59),2),($G$9-G60))))","v":17324.623376486274},{"$f":"IF(A59=$D$8,ROUND(SUM($G$25:G59),2),IF(A60>$D$8,\"\",IF(T60<>T59,ROUND(SUM(V60*$D$9*E59/T60,W60*$D$9*E59/T59),2),ROUND(E59*$D$9*D60/T59,2))))","v":12026.7},{"$f":"IF(A59=$D$8,SUM($H$25:H59),IF(A59>$D$8,\"\",F60+G60+O60))","v":29351.323376486274},"","",null,"","","",{"$f":"IF(A59=$D$8,SUM($O$25:O59),IF(A59>$D$8,\" \",$N$5*$D$6))","v":0},{"$f":"IF(A59=$D$8,XIRR(H$24:H59,C$24:C59),\"\")","v":""},"",29351.323376486274,2024,366,1,0,31]
[37,"2024-02-01","2024-02-01",31,531369.90507000743,{"$f":"IF(AND(A60=\"\",A62=\"\"),\"\",IF(A61=\"\",ROUND(SUM($F$25:F60),2),IF(A61=$D$8,$E$24-ROUND(SUM($F$25:F60),2),($G$9-G61))))","v":17724.323376486274},{"$f":"IF(A60=$D$8,ROUND(SUM($G$25:G60),2),IF(A61>$D$8,\"\",IF(T61<>T60,ROUND(SUM(V61*$D$9*E60/T61,W61*$D$9*E60/T60),2),ROUND(E60*$D$9*D61/T60,2))))","v":11627},{"$f":"IF(A60=$D$8,SUM($H$25:H60),IF(A60>$D$8,\"\",F61+G61+O61))","v":29351.323376486274},"",{"$f":"IF($D$8>A60,$N$9,IF($D$8=A60,$J$24+$J$37+$J$49,\" \"))","v":1500},{"$f":"IF($D$8>36,($O$8+$N$10*E60),IF($A$60=$D$8,$K$37+$K$24+$K$49,\"\"))","v":32945.653706789621},"","","",{"$f":"IF(A60=$D$8,SUM($O$25:O60),IF(A60>$D$8,\" \",$N$5*$D$6))","v":0},{"$f":"IF(A60=$D$8,XIRR(H$24:H60,C$24:C60),\"\")","v":""},"",63796.977083275895,2024,366,1,0,31]
[38,"2024-03-01","2024-03-01",29,512544.35169352114,{"$f":"IF(AND(A61=\"\",A63=\"\"),\"\",IF(A62=\"\",ROUND(SUM($F$25:F61),2),IF(A62=$D$8,$E$24-ROUND(SUM($F$25:F61),2),($G$9-G62))))","v":18825.553376486274},{"$f":"IF(A61=$D$8,ROUND(SUM($G$25:G61),2),IF(A62>$D$8,\"\",IF(T62<>T61,ROUND(SUM(V62*$D$9*E61/T62,W62*$D$9*E61/T61),2),ROUND(E61*$D$9*D62/T61,2))))","v":10525.77},{"$f":"IF(A61=$D$8,SUM($H$25:H61),IF(A61>$D$8,\"\",F62+G62+O62))","v":29351.323376486274},"",{"$f":"IF(A61=$D$8,$J$24,\"\")","v":""},null,"","","",{"$f":"IF(A61=$D$8,SUM($O$25:O61),IF(A61>$D$8,\" \",$N$5*$D$6))","v":0},{"$f":"IF(A61=$D$8,XIRR(H$24:H61,C$24:C61),\"\")","v":""},"",29351.323376486274,2024,366,1,0,29]
[39,"2024-04-01","2024-04-01",31,494046.08831703488,{"$f":"IF(AND(A62=\"\",A64=\"\"),\"\",IF(A63=\"\",ROUND(SUM($F$25:F62),2),IF(A63=$D$8,$E$24-ROUND(SUM($F$25:F62),2),($G$9-G63))))","v":18498.263376486277},{"$f":"IF(A62=$D$8,ROUND(SUM($G$25:G62),2),IF(A63>$D$8,\"\",IF(T63<>T62,ROUND(SUM(V63*$D$9*E62/T63,W63*$D$9*E62/T62),2),ROUND(E62*$D$9*D63/T62,2))))","v":10853.06},{"$f":"IF(A62=$D$8,SUM($H$25:H62),IF(A62>$D$8,\"\",F63+G63+O63))","v":29351.323376486274},"","",null,"","","",{"$f":"IF(A62=$D$8,SUM($O$25:O62),IF(A62>$D$8,\" \",$N$5*$D$6))","v":0},{"$f":"IF(A62=$D$8,XIRR(H$24:H62,C$24:C62),\"\")","v":""},"",29351.323376486274,2024,366,1,0,31]
[40,"2024-05-01","2024-05-01",30,474818.6649405486,{"$f":"IF(AND(A63=\"\",A65=\"\"),\"\",IF(A64=\"\",ROUND(SUM($F$25:F63),2),IF(A64=$D$8,$E$24-ROUND(SUM($F$25:F63),2),($G$9-G64))))","v":19227.423376486273},{"$f":"IF(A63=$D$8,ROUND(SUM($G$25:G63),2),IF(A64>$D$8,\"\",IF(T64<>T63,ROUND(SUM(V64*$D$9*E63/T64,W64*$D$9*E63/T63),2),ROUND(E63*$D$9*D64/T63,2))))","v":10123.9},{"$f":"IF(A63=$D$8,SUM($H$25:H63),IF(A63>$D$8,\"\",F64+G64+O64))","v":29351.323376486274},"","",null,"","","",{"$f":"IF(A63=$D$8,SUM($O$25:O63),IF(A63>$D$8,\" \",$N$5*$D$6))","v":0},{"$f":"IF(A63=$D$8,XIRR(H$24:H63,C$24:C63),\"\")","v":""},"",29351.323376486274,2024,366,1,0,30]
[41,"2024-06-01","2024-06-01",31,455521.56156406231,{"$f":"IF(AND(A64=\"\",A66=\"\"),\"\",IF(A65=\"\",ROUND(SUM($F$25:F64),2),IF(A65=$D$8,$E$24-ROUND(SUM($F$25:F64),2),($G$9-G65))))","v":19297.103376486273},{"$f":"IF(A64=$D$8,ROUND(SUM($G$25:G64),2),IF(A65>$D$8,\"\",IF(T65<>T64,ROUND(SUM(V65*$D$9*E64/T65,W65*$D$9*E64/T64),2),ROUND(E64*$D$9*D65/T64,2))))","v":10054.219999999999},{"$f":"IF(A64=$D$8,SUM($H$25:H64),IF(A64>$D$8,\"\",F65+G65+O65))","v":29351.323376486274},"","",null,"","","",{"$f":"IF(A64=$D$8,SUM($O$25:O64),IF(A64>$D$8,\" \",$N$5*$D$6))","v":0},{"$f":"IF(A64=$D$8,XIRR(H$24:H64,C$24:C64),\"\")","v":""},"",29351.323376486274,2024,366,1,0,31]
[42,"2024-07-01","2024-07-01",30,435504.69818757602,{"$f":"IF(AND(A65=\"\",A67=\"\"),\"\",IF(A66=\"\",ROUND(SUM($F$25:F65),2),IF(A66=$D$8,$E$24-ROUND(SUM($F$25:F65),2),($G$9-G66))))","v":20016.863376486275},{"$f":"IF(A65=$D$8,ROUND(SUM($G$25:G65),2),IF(A66>$D$8,\"\",IF(T66<>T65,ROUND(SUM(V66*$D$9*E65/T66,W66*$D$9*E65/T65),2),ROUND(E65*$D$9*D66/T65,2))))","v":9334.4599999999991},{"$f":"IF(A65=$D$8,SUM($H$25:H65),IF(A65>$D$8,\"\",F66+G66+O66))","v":29351.323376486274},"","",null,"","","",{"$f":"IF(A65=$D$8,SUM($O$25:O65),IF(A65>$D$8,\" \",$N$5*$D$6))","v":0},{"$f":"IF(A65=$D$8,XIRR(H$24:H65,C$24:C65),\"\")","v":""},"",29351.323376486274,2024,366,1,0,30]
[43,"2024-08-01","2024-08-01",31,415375.12481108977,{"$f":"IF(AND(A66=\"\",A68=\"\"),\"\",IF(A67=\"\",ROUND(SUM($F$25:F66),2),IF(A67=$D$8,$E$24-ROUND(SUM($F$25:F66),2),($G$9-G67))))","v":20129.573376486274},{"$f":"IF(A66=$D$8,ROUND(SUM($G$25:G66),2),IF(A67>$D$8,\"\",IF(T67<>T66,ROUND(SUM(V67*$D$9*E66/T67,W67*$D$9*E66/T66),2),ROUND(E66*$D$9*D67/T66,2))))","v":9221.75},{"$f":"IF(A66=$D$8,SUM($H$25:H66),IF(A66>$D$8,\"\",F67+G67+O67))","v":29351.323376486274},"","",null,"","","",{"$f":"IF(A66=$D$8,SUM($O$25:O66),IF(A66>$D$8,\" \",$N$5*$D$6))","v":0},{"$f":"IF(A66=$D$8,XIRR(H$24:H66,C$24:C66),\"\")","v":""},"",29351.323376486274,2024,366,1,0,31]
[44,"2024-09-01","2024-09-01",31,394819.31143460353,{"$f":"IF(AND(A67=\"\",A69=\"\"),\"\",IF(A68=\"\",ROUND(SUM($F$25:F67),2),IF(A68=$D$8,$E$24-ROUND(SUM($F$25:F67),2),($G$9-G68))))","v":20555.813376486272},{"$f":"IF(A67=$D$8,ROUND(SUM($G$25:G67),2),IF(A68>$D$8,\"\",IF(T68<>T67,ROUND(SUM(V68*$D$9*E67/T68,W68*$D$9*E67/T67),2),ROUND(E67*$D$9*D68/T67,2))))","v":8795.51},{"$f":"IF(A67=$D$8,SUM($H$25:H67),IF(A67>$D$8,\"\",F68+G68+O68))","v":29351.323376486274},"","",null,"","","",{"$f":"IF(A67=$D$8,SUM($O$25:O67),IF(A67>$D$8,\" \",$N$5*$D$6))","v":0},{"$f":"IF(A67=$D$8,XIRR(H$24:H67,C$24:C67),\"\")","v":""},"",29351.323376486274,2024,366,1,0,31]
[45,"2024-10-01","2024-10-01",30,373558.54805811727,{"$f":"IF(AND(A68=\"\",A70=\"\"),\"\",IF(A69=\"\",ROUND(SUM($F$25:F68),2),IF(A69=$D$8,$E$24-ROUND(SUM($F$25:F68),2),($G$9-G69))))","v":21260.763376486273},{"$f":"IF(A68=$D$8,ROUND(SUM($G$25:G68),2),IF(A69>$D$8,\"\",IF(T69<>T68,ROUND(SUM(V69*$D$9*E68/T69,W69*$D$9*E68/T68),2),ROUND(E68*$D$9*D69/T68,2))))","v":8090.56},{"$f":"IF(A68=$D$8,SUM($H$25:H68),IF(A68>$D$8,\"\",F69+G69+O69))","v":29351.323376486274},"","",null,"","","",{"$f":"IF(A68=$D$8,SUM($O$25:O68),IF(A68>$D$8,\" \",$N$5*$D$6))","v":0},{"$f":"IF(A68=$D$8,XIRR(H$24:H68,C$24:C68),\"\")","v":""},"",29351.323376486274,2024,366,1,0,30]
[46,"2024-11-01","2024-11-01",31,352117.27468163101,{"$f":"IF(AND(A69=\"\",A71=\"\"),\"\",IF(A70=\"\",ROUND(SUM($F$25:F69),2),IF(A70=$D$8,$E$24-ROUND(SUM($F$25:F69),2),($G$9-G70))))","v":21441.273376486275},{"$f":"IF(A69=$D$8,ROUND(SUM($G$25:G69),2),IF(A70>$D$8,\"\",IF(T70<>T69,ROUND(SUM(V70*$D$9*E69/T70,W70*$D$9*E69/T69),2),ROUND(E69*$D$9*D70/T69,2))))","v":7910.05},{"$f":"IF(A69=$D$8,SUM($H$25:H69),IF(A69>$D$8,\"\",F70+G70+O70))","v":29351.323376486274},"","",null,"","","",{"$f":"IF(A69=$D$8,SUM($O$25:O69),IF(A69>$D$8,\" \",$N$5*$D$6))","v":0},{"$f":"IF(A69=$D$8,XIRR(H$24:H69,C$24:C69),\"\")","v":""},"",29351.323376486274,2024,366,1,0,31]
[47,"2024-12-01","2024-12-01",30,329981.47130514472,{"$f":"IF(AND(A70=\"\",A72=\"\"),\"\",IF(A71=\"\",ROUND(SUM($F$25:F70),2),IF(A71=$D$8,$E$24-ROUND(SUM($F$25:F70),2),($G$9-G71))))","v":22135.803376486274},{"$f":"IF(A70=$D$8,ROUND(SUM($G$25:G70),2),IF(A71>$D$8,\"\",IF(T71<>T70,ROUND(SUM(V71*$D$9*E70/T71,W71*$D$9*E70/T70),2),ROUND(E70*$D$9*D71/T70,2))))","v":7215.52},{"$f":"IF(A70=$D$8,SUM($H$25:H70),IF(A70>$D$8,\"\",F71+G71+O71))","v":29351.323376486274},"","",null,"","","",{"$f":"IF(A70=$D$8,SUM($O$25:O70),IF(A70>$D$8,\" \",$N$5*$D$6))","v":0},{"$f":"IF(A70=$D$8,XIRR(H$24:H70,C$24:C70),\"\")","v":""},"",29351.323376486274,2024,366,1,0,30]
[48,"2025-01-01","2025-01-01",31,307617.45792865846,{"$f":"IF(AND(A71=\"\",A73=\"\"),\"\",IF(A72=\"\",ROUND(SUM($F$25:F71),2),IF(A72=$D$8,$E$24-ROUND(SUM($F$25:F71),2),($G$9-G72))))","v":22364.013376486273},{"$f":"IF(A71=$D$8,ROUND(SUM($G$25:G71),2),IF(A72>$D$8,\"\",IF(T72<>T71,ROUND(SUM(V72*$D$9*E71/T72,W72*$D$9*E71/T71),2),ROUND(E71*$D$9*D72/T71,2))))","v":6987.31},{"$f":"IF(A71=$D$8,SUM($H$25:H71),IF(A71>$D$8,\"\",F72+G72+O72))","v":29351.323376486274},"","",null,"","","",{"$f":"IF(A71=$D$8,SUM($O$25:O71),IF(A71>$D$8,\" \",$N$5*$D$6))","v":0},{"$f":"IF(A71=$D$8,XIRR(H$24:H71,C$24:C71),\"\")","v":""},"",29351.323376486274,2025,365,1,0,31]
[49,"2025-02-01","2025-02-01",31,284797.73455217219,{"$f":"IF(AND(A72=\"\",A74=\"\"),\"\",IF(A73=\"\",ROUND(SUM($F$25:F72),2),IF(A73=$D$8,$E$24-ROUND(SUM($F$25:F72),2),($G$9-G73))))","v":22819.723376486276},{"$f":"IF(A72=$D$8,ROUND(SUM($G$25:G72),2),IF(A73>$D$8,\"\",IF(T73<>T72,ROUND(SUM(V73*$D$9*E72/T73,W73*$D$9*E72/T72),2),ROUND(E72*$D$9*D73/T72,2))))","v":6531.6},{"$f":"IF(A72=$D$8,SUM($H$25:H72),IF(A72>$D$8,\"\",F73+G73+O73))","v":29351.323376486274},"",{"$f":"IF($D$8>A72,$N$9,IF($D$8=A72,$J$24+$J$37+$J$49+$J$61,\" \"))","v":1500},{"$f":"IF($D$8>48,($O$8+$N$10*E72),IF($A$72=$D$8,$K$37+$K$24+$K$49+$K$61,\"\"))","v":18457.047475719508},"","","",{"$f":"IF(A72=$D$8,SUM($O$25:O72),IF(A72>$D$8,\" \",$N$5*$D$6))","v":0},{"$f":"IF(A72=$D$8,XIRR(H$24:H72,C$24:C72),\"\")","v":""},"",49308.370852205786,2025,365,1,0,31]
[50,"2025-03-01","2025-03-01",28,260908.2811756859,{"$f":"IF(AND(A73=\"\",A75=\"\"),\"\",IF(A74=\"\",ROUND(SUM($F$25:F73),2),IF(A74=$D$8,$E$24-ROUND(SUM($F$25:F73),2),($G$9-G74))))","v":23889.453376486275},{"$f":"IF(A73=$D$8,ROUND(SUM($G$25:G73),2),IF(A74>$D$8,\"\",IF(T74<>T73,ROUND(SUM(V74*$D$9*E73/T74,W74*$D$9*E73/T73),2),ROUND(E73*$D$9*D74/T73,2))))","v":5461.87},{"$f":"IF(A73=$D$8,SUM($H$25:H73),IF(A73>$D$8,\"\",F74+G74+O74))","v":29351.323376486274},"",{"$f":"IF(A73=$D$8,$J$24,\"\")","v":""},null,"","","",{"$f":"IF(A73=$D$8,SUM($O$25:O73),IF(A73>$D$8,\" \",$N$5*$D$6))","v":0},{"$f":"IF(A73=$D$8,XIRR(H$24:H73,C$24:C73),\"\")","v":""},"",29351.323376486274,2025,365,1,0,28]
[51,"2025-04-01","2025-04-01",31,237096.78779919964,{"$f":"IF(AND(A74=\"\",A76=\"\"),\"\",IF(A75=\"\",ROUND(SUM($F$25:F74),2),IF(A75=$D$8,$E$24-ROUND(SUM($F$25:F74),2),($G$9-G75))))","v":23811.493376486273},{"$f":"IF(A74=$D$8,ROUND(SUM($G$25:G74),2),IF(A75>$D$8,\"\",IF(T75<>T74,ROUND(SUM(V75*$D$9*E74/T75,W75*$D$9*E74/T74),2),ROUND(E74*$D$9*D75/T74,2))))","v":5539.83},{"$f":"IF(A74=$D$8,SUM($H$25:H74),IF(A74>$D$8,\"\",F75+G75+O75))","v":29351.323376486274},"","",null,"","","",{"$f":"IF(A74=$D$8,SUM($O$25:O74),IF(A74>$D$8,\" \",$N$5*$D$6))","v":0},{"$f":"IF(A74=$D$8,XIRR(H$24:H74,C$24:C74),\"\")","v":""},"",29351.323376486274,2025,365,1,0,31]
[52,"2025-05-01","2025-05-01",30,212617.31442271336,{"$f":"IF(AND(A75=\"\",A77=\"\"),\"\",IF(A76=\"\",ROUND(SUM($F$25:F75),2),IF(A76=$D$8,$E$24-ROUND(SUM($F$25:F75),2),($G$9-G76))))","v":24479.473376486276},{"$f":"IF(A75=$D$8,ROUND(SUM($G$25:G75),2),IF(A76>$D$8,\"\",IF(T76<>T75,ROUND(SUM(V76*$D$9*E75/T76,W76*$D$9*E75/T75),2),ROUND(E75*$D$9*D76/T75,2))))","v":4871.8500000000004},{"$f":"IF(A75=$D$8,SUM($H$25:H75),IF(A75>$D$8,\"\",F76+G76+O76))","v":29351.323376486274},"","",null,"","","",{"$f":"IF(A75=$D$8,SUM($O$25:O75),IF(A75>$D$8,\" \",$N$5*$D$6))","v":0},{"$f":"IF(A75=$D$8,XIRR(H$24:H75,C$24:C75),\"\")","v":""},"",29351.323376486274,2025,365,1,0,30]
[53,"2025-06-01","2025-06-01",31,187780.47104622709,{"$f":"IF(AND(A76=\"\",A78=\"\"),\"\",IF(A77=\"\",ROUND(SUM($F$25:F76),2),IF(A77=$D$8,$E$24-ROUND(SUM($F$25:F76),2),($G$9-G77))))","v":24836.843376486275},{"$f":"IF(A76=$D$8,ROUND(SUM($G$25:G76),2),IF(A77>$D$8,\"\",IF(T77<>T76,ROUND(SUM(V77*$D$9*E76/T77,W77*$D$9*E76/T76),2),ROUND(E76*$D$9*D77/T76,2))))","v":4514.4799999999996},{"$f":"IF(A76=$D$8,SUM($H$25:H76),IF(A76>$D$8,\"\",F77+G77+O77))","v":29351.323376486274},"","",null,"","","",{"$f":"IF(A76=$D$8,SUM($O$25:O76),IF(A76>$D$8,\" \",$N$5*$D$6))","v":0},{"$f":"IF(A76=$D$8,XIRR(H$24:H76,C$24:C76),\"\")","v":""},"",29351.323376486274,2025,365,1,0,31]
[54,"2025-07-01","2025-07-01",30,162287.64766974081,{"$f":"IF(AND(A77=\"\",A79=\"\"),\"\",IF(A78=\"\",ROUND(SUM($F$25:F77),2),IF(A78=$D$8,$E$24-ROUND(SUM($F$25:F77),2),($G$9-G78))))","v":25492.823376486274},{"$f":"IF(A77=$D$8,ROUND(SUM($G$25:G77),2),IF(A78>$D$8,\"\",IF(T78<>T77,ROUND(SUM(V78*$D$9*E77/T78,W78*$D$9*E77/T77),2),ROUND(E77*$D$9*D78/T77,2))))","v":3858.5},{"$f":"IF(A77=$D$8,SUM($H$25:H77),IF(A77>$D$8,\"\",F78+G78+O78))","v":29351.323376486274},"","",null,"","","",{"$f":"IF(A77=$D$8,SUM($O$25:O77),IF(A77>$D$8,\" \",$N$5*$D$6))","v":0},{"$f":"IF(A77=$D$8,XIRR(H$24:H77,C$24:C77),\"\")","v":""},"",29351.323376486274,2025,365,1,0,30]
[55,"2025-08-01","2025-08-01",31,136382.15429325454,{"$f":"IF(AND(A78=\"\",A80=\"\"),\"\",IF(A79=\"\",ROUND(SUM($F$25:F78),2),IF(A79=$D$8,$E$24-ROUND(SUM($F$25:F78),2),($G$9-G79))))","v":25905.493376486273},{"$f":"IF(A78=$D$8,ROUND(SUM($G$25:G78),2),IF(A79>$D$8,\"\",IF(T79<>T78,ROUND(SUM(V79*$D$9*E78/T79,W79*$D$9*E78/T78),2),ROUND(E78*$D$9*D79/T78,2))))","v":3445.83},{"$f":"IF(A78=$D$8,SUM($H$25:H78),IF(A78>$D$8,\"\",F79+G79+O79))","v":29351.323376486274},"","",null,"","","",{"$f":"IF(A78=$D$8,SUM($O$25:O78),IF(A78>$D$8,\" \",$N$5*$D$6))","v":0},{"$f":"IF(A78=$D$8,XIRR(H$24:H78,C$24:C78),\"\")","v":""},"",29351.323376486274,2025,365,1,0,31]
[56,"2025-09-01","2025-09-01",31,109926.62091676827,{"$f":"IF(AND(A79=\"\",A81=\"\"),\"\",IF(A80=\"\",ROUND(SUM($F$25:F79),2),IF(A80=$D$8,$E$24-ROUND(SUM($F$25:F79),2),($G$9-G80))))","v":26455.533376486273},{"$f":"IF(A79=$D$8,ROUND(SUM($G$25:G79),2),IF(A80>$D$8,\"\",IF(T80<>T79,ROUND(SUM(V80*$D$9*E79/T80,W80*$D$9*E79/T79),2),ROUND(E79*$D$9*D80/T79,2))))","v":2895.79},{"$f":"IF(A79=$D$8,SUM($H$25:H79),IF(A79>$D$8,\"\",F80+G80+O80))","v":29351.323376486274},"","",null,"","","",{"$f":"IF(A79=$D$8,SUM($O$25:O79),IF(A79>$D$8,\" \",$N$5*$D$6))","v":0},{"$f":"IF(A79=$D$8,XIRR(H$24:H79,C$24:C79),\"\")","v":""},"",29351.323376486274,2025,365,1,0,31]
[57,"2025-10-01","2025-10-01",30,82834.067540281991,{"$f":"IF(AND(A80=\"\",A82=\"\"),\"\",IF(A81=\"\",ROUND(SUM($F$25:F80),2),IF(A81=$D$8,$E$24-ROUND(SUM($F$25:F80),2),($G$9-G81))))","v":27092.553376486274},{"$f":"IF(A80=$D$8,ROUND(SUM($G$25:G80),2),IF(A81>$D$8,\"\",IF(T81<>T80,ROUND(SUM(V81*$D$9*E80/T81,W81*$D$9*E80/T80),2),ROUND(E80*$D$9*D81/T80,2))))","v":2258.77},{"$f":"IF(A80=$D$8,SUM($H$25:H80),IF(A80>$D$8,\"\",F81+G81+O81))","v":29351.323376486274},"","",null,"","","",{"$f":"IF(A80=$D$8,SUM($O$25:O80),IF(A80>$D$8,\" \",$N$5*$D$6))","v":0},{"$f":"IF(A80=$D$8,XIRR(H$24:H80,C$24:C80),\"\")","v":""},"",29351.323376486274,2025,365,1,0,30]
[58,"2025-11-01","2025-11-01",31,55241.554163795721,{"$f":"IF(AND(A81=\"\",A83=\"\"),\"\",IF(A82=\"\",ROUND(SUM($F$25:F81),2),IF(A82=$D$8,$E$24-ROUND(SUM($F$25:F81),2),($G$9-G82))))","v":27592.513376486273},{"$f":"IF(A81=$D$8,ROUND(SUM($G$25:G81),2),IF(A82>$D$8,\"\",IF(T82<>T81,ROUND(SUM(V82*$D$9*E81/T82,W82*$D$9*E81/T81),2),ROUND(E81*$D$9*D82/T81,2))))","v":1758.81},{"$f":"IF(A81=$D$8,SUM($H$25:H81),IF(A81>$D$8,\"\",F82+G82+O82))","v":29351.323376486274},"","",null,"","","",{"$f":"IF(A81=$D$8,SUM($O$25:O81),IF(A81>$D$8,\" \",$N$5*$D$6))","v":0},{"$f":"IF(A81=$D$8,XIRR(H$24:H81,C$24:C81),\"\")","v":""},"",29351.323376486274,2025,365,1,0,31]
[59,"2025-12-01","2025-12-01",30,27025.330787309445,{"$f":"IF(AND(A82=\"\",A84=\"\"),\"\",IF(A83=\"\",ROUND(SUM($F$25:F82),2),IF(A83=$D$8,$E$24-ROUND(SUM($F$25:F82),2),($G$9-G83))))","v":28216.223376486276},{"$f":"IF(A82=$D$8,ROUND(SUM($G$25:G82),2),IF(A83>$D$8,\"\",IF(T83<>T82,ROUND(SUM(V83*$D$9*E82/T83,W83*$D$9*E82/T82),2),ROUND(E82*$D$9*D83/T82,2))))","v":1135.0999999999999},{"$f":"IF(A82=$D$8,SUM($H$25:H82),IF(A82>$D$8,\"\",F83+G83+O83))","v":29351.323376486274},"","",null,"","","",{"$f":"IF(A82=$D$8,SUM($O$25:O82),IF(A82>$D$8,\" \",$N$5*$D$6))","v":0},{"$f":"IF(A82=$D$8,XIRR(H$24:H82,C$24:C82),\"\")","v":""},"",29351.323376486274,2025,365,1,0,30]
[60,"2026-01-01","2025-12-31",30,7.8730948735028505E-4,{"$f":"IF(AND(A83=\"\",A85=\"\"),\"\",IF(A84=\"\",ROUND(SUM($F$25:F83),2),IF(A84=$D$8,$E$24-ROUND(SUM($F$25:F83),2),($G$9-G84))))","v":27025.329999999958},{"$f":"IF(A83=$D$8,ROUND(SUM($G$25:G83),2),IF(A84>$D$8,\"\",IF(T84<>T83,ROUND(SUM(V84*$D$9*E83/T84,W84*$D$9*E83/T83),2),ROUND(E83*$D$9*D84/T83,2))))","v":555.32000000000005},{"$f":"IF(A83=$D$8,SUM($H$25:H83),IF(A83>$D$8,\"\",F84+G84+O84))","v":27580.649999999958},"","",null,"","","",{"$f":"IF(A83=$D$8,SUM($O$25:O83),IF(A83>$D$8,\" \",$N$5*$D$6))","v":0},{"$f":"IF(A83=$D$8,XIRR(H$24:H83,C$24:C83),\"\")","v":""},"",27580.649999999958,2025,365,31,30,0]
["",""," ","","",{"$f":"IF(AND(A84=\"\",A86=\"\"),\"\",IF(A85=\"\",ROUND(SUM($F$25:F84),2),IF(A85=$D$8,$E$24-ROUND(SUM($F$25:F84),2),($G$9-G85))))","v":1000000},{"$f":"IF(A84=$D$8,ROUND(SUM($G$25:G84),2),IF(A85>$D$8,\"\",IF(T85<>T84,ROUND(SUM(V85*$D$9*E84/T85,W85*$D$9*E84/T84),2),ROUND(E84*$D$9*D85/T84,2))))","v":759308.73},{"$f":"IF(A84=$D$8,SUM($H$25:H84),IF(A84>$D$8,\"\",F85+G85+O85))","v":1759308.7292126913},4000,{"$f":"IF($D$8>A84,$N$9,IF($D$8=A84,SUM($J$24:J84),\" \"))","v":7500},{"$f":"IF($D$8>60,($O$8+$N$10*E84),IF($A$84=$D$8,$K$37+$K$24+$K$49+$K$61+$K$73,\"\"))","v":208766.11108929873},0,0,0,{"$f":"IF(A84=$D$8,SUM($O$25:O84),IF(A84>$D$8,\" \",$N$5*$D$6))","v":0},{"$f":"IF(A84=$D$8,XIRR(R$24:R84,C$24:C84),\"\")","v":0.38698084950447076},1979574.8410892987,3959150.0683721383,{"$error":"#VALUE!"},{"$error":"#VALUE!"},{"$error":"#VALUE!"},{"$error":"#VALUE!"},{"$error":"#VALUE!"}]
["",""," ","","",{"$f":"IF(AND(A85=\"\",A87=\"\"),\"\",IF(A86=\"\",ROUND(SUM($F$25:F85),2),IF(A86=$D$8,$E$24-ROUND(SUM($F$25:F85),2),ROUND($E$24/$D$8,2))))","v":""},{"$f":"IF(A85=$D$8,ROUND(SUM($G$25:G85),2),IF(A86>$D$8,\"\",IF(T86<>T85,ROUND(SUM(V86*$D$9*E85/T86,W86*$D$9*E85/T85),2),ROUND(E85*$D$9*D86/T85,2))))","v":""},{"$f":"IF(A85=$D$8,SUM($H$25:H85),IF(A85>$D$8,\"\",F86+G86))","v":""},"",{"$f":"IF(A85=$D$8,$J$24,\"\")","v":""},null,"","","",{"$f":"IF(A85=$D$8,SUM($O$25:O85),IF(A85>D9,\" \",$N$5*$D$6))","v":" "},{"$f":"IF(A85=$D$8,XIRR(H$24:H85,C$24:C85),\"\")","v":""},"",0,{"$error":"#VALUE!"},{"$error":"#VALUE!"},{"$error":"#VALUE!"},{"$error":"#VALUE!"},{"$error":"#VALUE!"}]
["",""," ","","",{"$f":"IF(AND(A86=\"\",A88=\"\"),\"\",IF(A87=\"\",ROUND(SUM($F$25:F86),2),IF(A87=$D$8,$E$24-ROUND(SUM($F$25:F86),2),ROUND($E$24/$D$8,2))))","v":""},{"$f":"IF(A86=$D$8,ROUND(SUM($G$25:G86),2),IF(A87>$D$8,\"\",IF(T87<>T86,ROUND(SUM(V87*$D$9*E86/T87,W87*$D$9*E86/T86),2),ROUND(E86*$D$9*D87/T86,2))))","v":""},{"$f":"IF(A86=$D$8,SUM($H$25:H86),IF(A86>$D$8,\"\",F87+G87))","v":""},"","",null,"","","",null,{"$f":"IF(A86=$D$8,XIRR(H$24:H86,C$24:C86),\"\")","v":""},"",0,{"$error":"#VALUE!"},{"$error":"#VALUE!"},{"$error":"#VALUE!"},{"$error":"#VALUE!"},{"$error":"#VALUE!"}]
["",""," ","","",{"$f":"IF(AND(A87=\"\",A89=\"\"),\"\",IF(A88=\"\",ROUND(SUM($F$25:F87),2),IF(A88=$D$8,$E$24-ROUND(SUM($F$25:F87),2),ROUND($E$24/$D$8,2))))","v":""},{"$f":"IF(A87=$D$8,ROUND(SUM($G$25:G87),2),IF(A88>$D$8,\"\",IF(T88<>T87,ROUND(SUM(V88*$D$9*E87/T88,W88*$D$9*E87/T87),2),ROUND(E87*$D$9*D88/T87,2))))","v":""},{"$f":"IF(A87=$D$8,SUM($H$25:H87),IF(A87>$D$8,\"\",F88+G88))","v":""},"","",null,"","","",null,{"$f":"IF(A87=$D$8,XIRR(H$24:H87,C$24:C87),\"\")","v":""},"",0,{"$error":"#VALUE!"},{"$error":"#VALUE!"},{"$error":"#VALUE!"},{"$error":"#VALUE!"},{"$error":"#VALUE!"}]
["",""," ","","",{"$f":"IF(AND(A88=\"\",A90=\"\"),\"\",IF(A89=\"\",ROUND(SUM($F$25:F88),2),IF(A89=$D$8,$E$24-ROUND(SUM($F$25:F88),2),ROUND($E$24/$D$8,2))))","v":""},{"$f":"IF(A88=$D$8,ROUND(SUM($G$25:G88),2),IF(A89>$D$8,\"\",IF(T89<>T88,ROUND(SUM(V89*$D$9*E88/T89,W89*$D$9*E88/T88),2),ROUND(E88*$D$9*D89/T88,2))))","v":""},{"$f":"IF(A88=$D$8,SUM($H$25:H88),IF(A88>$D$8,\"\",F89+G89))","v":""},"","",null,"","","",null,{"$f":"IF(A88=$D$8,XIRR(H$24:H88,C$24:C88),\"\")","v":""},"",0,{"$error":"#VALUE!"},{"$error":"#VALUE!"},{"$error":"#VALUE!"},{"$error":"#VALUE!"},{"$error":"#VALUE!"}]
[{"$f":"IF(A89<$D$8,A89+1,\"\")","v":""},"",{"$f":"IF(B90=$D$10,B90-1,(IF(B90>$D$10,\" \",B90)))","v":" "},"","",{"$f":"IF(AND(A89=\"\",A91=\"\"),\"\",IF(A90=\"\",ROUND(SUM($F$25:F89),2),IF(A90=$D$8,$E$24-ROUND(SUM($F$25:F89),2),ROUND($E$24/$D$8,2))))","v":""},{"$f":"IF(A89=$D$8,ROUND(SUM($G$25:G89),2),IF(A90>$D$8,\"\",IF(T90<>T89,ROUND(SUM(V90*$D$9*E89/T90,W90*$D$9*E89/T89),2),ROUND(E89*$D$9*D90/T89,2))))","v":""},{"$f":"IF(A89=$D$8,SUM($H$25:H89),IF(A89>$D$8,\"\",F90+G90))","v":""},"","",null,"","","",null,{"$f":"IF(A89=$D$8,XIRR(H$24:H89,C$24:C89),\"\")","v":""},"",{"$f":"SUM(H90:Q90)","v":0},{"$f":"IF(C90=\"\",\"\",YEAR(C90))","v":{"$error":"#VALUE!"}},{"$f":"IF(OR(S90=2024,S90=2028,S90=2016,S90=2020,S90=2024,S90=2028,S90=2032,S90=2036,S90=2040),366,365)","v":{"$error":"#VALUE!"}},{"$f":"IF(C90=\"\",\"\",DAY(C90))","v":{"$error":"#VALUE!"}},{"$f":"U90-1","v":{"$error":"#VALUE!"}},{"$f":"D90-V90","v":{"$error":"#VALUE!"}}]
["",""," ","","",{"$f":"IF(AND(A90=\"\",A92=\"\"),\"\",IF(A91=\"\",ROUND(SUM($F$25:F90),2),IF(A91=$D$8,$E$24-ROUND(SUM($F$25:F90),2),ROUND($E$24/$D$8,2))))","v":""},{"$f":"IF(A90=$D$8,ROUND(SUM($G$25:G90),2),IF(A91>$D$8,\"\",IF(T91<>T90,ROUND(SUM(V91*$D$9*E90/T91,W91*$D$9*E90/T90),2),ROUND(E90*$D$9*D91/T90,2))))","v":""},{"$f":"IF(A90=$D$8,SUM($H$25:H90),IF(A90>$D$8,\"\",F91+G91))","v":""},"","",null,"","","",null,{"$f":"IF(A90=$D$8,XIRR(H$24:H90,C$24:C90),\"\")","v":""},{"$f":"IF(A90=$D$8,G91+M91+F91+I91+J91+K91+L91+N91+O91,\"\")","v":""},0,{"$error":"#VALUE!"},{"$error":"#VALUE!"},{"$error":"#VALUE!"},{"$error":"#VALUE!"},{"$error":"#VALUE!"}]
["",""," ","","",{"$f":"IF(AND(A91=\"\",A93=\"\"),\"\",IF(A92=\"\",ROUND(SUM($F$25:F91),2),IF(A92=$D$8,$E$24-ROUND(SUM($F$25:F91),2),ROUND($E$24/$D$8,2))))","v":""},{"$f":"IF(A91=$D$8,ROUND(SUM($G$25:G91),2),IF(A92>$D$8,\"\",IF(T92<>T91,ROUND(SUM(V92*$D$9*E91/T92,W92*$D$9*E91/T91),2),ROUND(E91*$D$9*D92/T91,2))))","v":""},{"$f":"IF(A91=$D$8,SUM($H$25:H91),IF(A91>$D$8,\"\",F92+G92))","v":""},"","",null,"","","",null,{"$f":"IF(A91=$D$8,XIRR(H$24:H91,C$24:C91),\"\")","v":""},"",0,{"$error":"#VALUE!"},{"$error":"#VALUE!"},{"$error":"#VALUE!"},{"$error":"#VALUE!"},{"$error":"#VALUE!"}]
["",""," ","","",{"$f":"IF(AND(A92=\"\",A94=\"\"),\"\",IF(A93=\"\",ROUND(SUM($F$25:F92),2),IF(A93=$D$8,$E$24-ROUND(SUM($F$25:F92),2),ROUND($E$24/$D$8,2))))","v":""},{"$f":"IF(A92=$D$8,ROUND(SUM($G$25:G92),2),IF(A93>$D$8,\"\",IF(T93<>T92,ROUND(SUM(V93*$D$9*E92/T93,W93*$D$9*E92/T92),2),ROUND(E92*$D$9*D93/T92,2))))","v":""},{"$f":"IF(A92=$D$8,SUM($H$25:H92),IF(A92>$D$8,\"\",F93+G93))","v":""},"","",null,"","",{"$f":"IF(A92=$D$8,$N$24,\"\")","v":""},null,{"$f":"IF(A92=$D$8,XIRR(H$24:H92,C$24:C92),\"\")","v":""},"",0,{"$error":"#VALUE!"},{"$error":"#VALUE!"},{"$error":"#VALUE!"},{"$error":"#VALUE!"},{"$error":"#VALUE!"}]
["",""," ","","",{"$f":"IF(AND(A93=\"\",A95=\"\"),\"\",IF(A94=\"\",ROUND(SUM($F$25:F93),2),IF(A94=$D$8,$E$24-ROUND(SUM($F$25:F93),2),ROUND($E$24/$D$8,2))))","v":""},{"$f":"IF(A93=$D$8,ROUND(SUM($G$25:G93),2),IF(A94>$D$8,\"\",IF(T94<>T93,ROUND(SUM(V94*$D$9*E93/T94,W94*$D$9*E93/T93),2),ROUND(E93*$D$9*D94/T93,2))))","v":""},{"$f":"IF(A93=$D$8,SUM($H$25:H93),IF(A93>$D$8,\"\",F94+G94))","v":""},"","",null,"",{"$f":"IF(A93=$D$8,$M$24,\"\")","v":""},"",null,{"$f":"IF(A93=$D$8,XIRR(H$24:H93,C$24:C93),\"\")","v":""},"",0,{"$error":"#VALUE!"},{"$error":"#VALUE!"},{"$error":"#VALUE!"},{"$error":"#VALUE!"},{"$error":"#VALUE!"}]
["",""," ","","",{"$f":"IF(AND(A94=\"\",A96=\"\"),\"\",IF(A95=\"\",ROUND(SUM($F$25:F94),2),IF(A95=$D$8,$E$24-ROUND(SUM($F$25:F94),2),ROUND($E$24/$D$8,2))))","v":""},{"$f":"IF(A94=$D$8,ROUND(SUM($G$25:G94),2),IF(A95>$D$8,\"\",IF(T95<>T94,ROUND(SUM(V95*$D$9*E94/T95,W95*$D$9*E94/T94),2),ROUND(E94*$D$9*D95/T94,2))))","v":""},{"$f":"IF(A94=$D$8,SUM($H$25:H94),IF(A94>$D$8,\"\",F95+G95))","v":""},"","",null,"","","",null,{"$f":"IF(A94=$D$8,XIRR(H$24:H94,C$24:C94),\"\")","v":""},"",0,{"$error":"#VALUE!"},{"$error":"#VALUE!"},{"$error":"#VALUE!"},{"$error":"#VALUE!"},{"$error":"#VALUE!"}]
["",""," ","","",{"$f":"IF(AND(A95=\"\",A97=\"\"),\"\",IF(A96=\"\",ROUND(SUM($F$25:F95),2),IF(A96=$D$8,$E$24-ROUND(SUM($F$25:F95),2),ROUND($E$24/$D$8,2))))","v":""},{"$f":"IF(A95=$D$8,ROUND(SUM($G$25:G95),2),IF(A96>$D$8,\"\",IF(T96<>T95,ROUND(SUM(V96*$D$9*E95/T96,W96*$D$9*E95/T95),2),ROUND(E95*$D$9*D96/T95,2))))","v":""},{"$f":"IF(A95=$D$8,SUM($H$25:H95),IF(A95>$D$8,\"\",F96+G96))","v":""},"","",null,"","","",null,{"$f":"IF(A95=$D$8,XIRR(H$24:H95,C$24:C95),\"\")","v":""},"",0,{"$error":"#VALUE!"},{"$error":"#VALUE!"},{"$error":"#VALUE!"},{"$error":"#VALUE!"},{"$error":"#VALUE!"}]
["",""," ","","",{"$f":"IF(AND(A96=\"\",A98=\"\"),\"\",IF(A97=\"\",ROUND(SUM($F$25:F96),2),IF(A97=$D$8,$E$24-ROUND(SUM($F$25:F96),2),ROUND($E$24/$D$8,2))))","v":""},{"$f":"IF(A96=$D$8,ROUND(SUM($G$25:G96),2),IF(A97>$D$8,\"\",IF(T97<>T96,ROUND(SUM(V97*$D$9*E96/T97,W97*$D$9*E96/T96),2),ROUND(E96*$D$9*D97/T96,2))))","v":""},{"$f":"IF(A96=$D$8,SUM($H$25:H96),IF(A96>$D$8,\"\",F97+G97))","v":""},"",{"$f":"IF($D$8>A96,$N$9,IF($D$8=A96,SUM($J$24:J96),\" \"))","v":" "},{"$f":"IF($D$8>72,($O$8+$N$10*E96),IF($A$96=$D$8,$K$37+$K$24+$K$49+$K$61+$K$73+$K$85,\"\"))","v":""},"","","",null,{"$f":"IF(A96=$D$8,XIRR(H$24:H96,C$24:C96),\"\")","v":""},"",0,{"$error":"#VALUE!"},{"$error":"#VALUE!"},{"$error":"#VALUE!"},{"$error":"#VALUE!"},{"$error":"#VALUE!"}]
["",""," ","","",{"$f":"IF(AND(A97=\"\",A99=\"\"),\"\",IF(A98=\"\",ROUND(SUM($F$25:F97),2),IF(A98=$D$8,$E$24-ROUND(SUM($F$25:F97),2),ROUND($E$24/$D$8,2))))","v":""},{"$f":"IF(A97=$D$8,ROUND(SUM($G$25:G97),2),IF(A98>$D$8,\"\",IF(T98<>T97,ROUND(SUM(V98*$D$9*E97/T98,W98*$D$9*E97/T97),2),ROUND(E97*$D$9*D98/T97,2))))","v":""},{"$f":"IF(A97=$D$8,SUM($H$25:H97),IF(A97>$D$8,\"\",F98+G98))","v":""},"",{"$f":"IF(A97=$D$8,$J$24,\"\")","v":""},null,"","","",null,{"$f":"IF(A97=$D$8,XIRR(H$24:H97,C$24:C97),\"\")","v":""},"",0,{"$error":"#VALUE!"},{"$error":"#VALUE!"},{"$error":"#VALUE!"},{"$error":"#VALUE!"},{"$error":"#VALUE!"}]
["",""," ","","",{"$f":"IF(AND(A98=\"\",A100=\"\"),\"\",IF(A99=\"\",ROUND(SUM($F$25:F98),2),IF(A99=$D$8,$E$24-ROUND(SUM($F$25:F98),2),ROUND($E$24/$D$8,2))))","v":""},{"$f":"IF(A98=$D$8,ROUND(SUM($G$25:G98),2),IF(A99>$D$8,\"\",IF(T99<>T98,ROUND(SUM(V99*$D$9*E98/T99,W99*$D$9*E98/T98),2),ROUND(E98*$D$9*D99/T98,2))))","v":""},{"$f":"IF(A98=$D$8,SUM($H$25:H98),IF(A98>$D$8,\"\",F99+G99))","v":""},"","",null,"","","",null,{"$f":"IF(A98=$D$8,XIRR(H$24:H98,C$24:C98),\"\")","v":""},"",0,{"$error":"#VALUE!"},{"$error":"#VALUE!"},{"$error":"#VALUE!"},{"$error":"#VALUE!"},{"$error":"#VALUE!"}]
["",""," ","","",{"$f":"IF(AND(A99=\"\",A101=\"\"),\"\",IF(A100=\"\",ROUND(SUM($F$25:F99),2),IF(A100=$D$8,$E$24-ROUND(SUM($F$25:F99),2),ROUND($E$24/$D$8,2))))","v":""},{"$f":"IF(A99=$D$8,ROUND(SUM($G$25:G99),2),IF(A100>$D$8,\"\",IF(T100<>T99,ROUND(SUM(V100*$D$9*E99/T100,W100*$D$9*E99/T99),2),ROUND(E99*$D$9*D100/T99,2))))","v":""},{"$f":"IF(A99=$D$8,SUM($H$25:H99),IF(A99>$D$8,\"\",F100+G100))","v":""},"","",null,"","","",null,{"$f":"IF(A99=$D$8,XIRR(H$24:H99,C$24:C99),\"\")","v":""},"",0,{"$error":"#VALUE!"},{"$error":"#VALUE!"},{"$error":"#VALUE!"},{"$error":"#VALUE!"},{"$error":"#VALUE!"}]
["",""," ",{"$f":"IF(A101>$D$8,\"\",C101-C100)","v":""},{"$f":"IF(A101>$D$8,\"\",E100-F101)","v":""},{"$f":"IF(AND(A100=\"\",A102=\"\"),\"\",IF(A101=\"\",ROUND(SUM($F$25:F100),2),IF(A101=$D$8,$E$24-ROUND(SUM($F$25:F100),2),ROUND($E$24/$D$8,2))))","v":""},{"$f":"IF(A100=$D$8,ROUND(SUM($G$25:G100),2),IF(A101>$D$8,\"\",IF(T101<>T100,ROUND(SUM(V101*$D$9*E100/T101,W101*$D$9*E100/T100),2),ROUND(E100*$D$9*D101/T100,2))))","v":""},{"$f":"IF(A100=$D$8,SUM($H$25:H100),IF(A100>$D$8,\"\",F101+G101))","v":""},"","",null,"","","",null,{"$f":"IF(A100=$D$8,XIRR(H$24:H100,C$24:C100),\"\")","v":""},"",0,{"$error":"#VALUE!"},{"$error":"#VALUE!"},{"$error":"#VALUE!"},{"$error":"#VALUE!"},{"$error":"#VALUE!"}]
["",{"$f":"IF(A102=\"\",\"\",EDATE($B$24,A102))","v":""}," ","","",{"$f":"IF(AND(A101=\"\",A103=\"\"),\"\",IF(A102=\"\",ROUND(SUM($F$25:F101),2),IF(A102=$D$8,$E$24-ROUND(SUM($F$25:F101),2),ROUND($E$24/$D$8,2))))","v":""},{"$f":"IF(A101=$D$8,ROUND(SUM($G$25:G101),2),IF(A102>$D$8,\"\",IF(T102<>T101,ROUND(SUM(V102*$D$9*E101/T102,W102*$D$9*E101/T101),2),ROUND(E101*$D$9*D102/T101,2))))","v":""},{"$f":"IF(A101=$D$8,SUM($H$25:H101),IF(A101>$D$8,\"\",F102+G102))","v":""},{"$f":"IF(A101=$D$8,$I$24,\"\")","v":""},"",null,{"$f":"IF(A101=$D$8,$L$24,\"\")","v":""},"","",null,{"$f":"IF(A101=$D$8,XIRR(H$24:H101,C$24:C101),\"\")","v":""},"",0,{"$error":"#VALUE!"},{"$error":"#VALUE!"},{"$error":"#VALUE!"},{"$error":"#VALUE!"},{"$error":"#VALUE!"}]
["",""," ","","",{"$f":"IF(AND(A102=\"\",A104=\"\"),\"\",IF(A103=\"\",ROUND(SUM($F$25:F102),2),IF(A103=$D$8,$E$24-ROUND(SUM($F$25:F102),2),ROUND($E$24/$D$8,2))))","v":""},{"$f":"IF(A102=$D$8,ROUND(SUM($G$25:G102),2),IF(A103>$D$8,\"\",IF(T103<>T102,ROUND(SUM(V103*$D$9*E102/T103,W103*$D$9*E102/T102),2),ROUND(E102*$D$9*D103/T102,2))))","v":""},{"$f":"IF(A102=$D$8,SUM($H$25:H102),IF(A102>$D$8,\"\",F103+G103))","v":""},"","",null,"","","",null,{"$f":"IF(A102=$D$8,XIRR(H$24:H102,C$24:C102),\"\")","v":""},"",0,{"$error":"#VALUE!"},{"$error":"#VALUE!"},{"$error":"#VALUE!"},{"$error":"#VALUE!"},{"$error":"#VALUE!"}]
["",""," ","","",{"$f":"IF(AND(A103=\"\",A105=\"\"),\"\",IF(A104=\"\",ROUND(SUM($F$25:F103),2),IF(A104=$D$8,$E$24-ROUND(SUM($F$25:F103),2),ROUND($E$24/$D$8,2))))","v":""},{"$f":"IF(A103=$D$8,ROUND(SUM($G$25:G103),2),IF(A104>$D$8,\"\",IF(T104<>T103,ROUND(SUM(V104*$D$9*E103/T104,W104*$D$9*E103/T103),2),ROUND(E103*$D$9*D104/T103,2))))","v":""},{"$f":"IF(A103=$D$8,SUM($H$25:H103),IF(A103>$D$8,\"\",F104+G104))","v":""},"","",null,"","","",null,{"$f":"IF(A103=$D$8,XIRR(H$24:H103,C$24:C103),\"\")","v":""},"",0,{"$error":"#VALUE!"},{"$error":"#VALUE!"},{"$error":"#VALUE!"},{"$error":"#VALUE!"},{"$error":"#VALUE!"}]
["",""," ","","",{"$f":"IF(AND(A104=\"\",A106=\"\"),\"\",IF(A105=\"\",ROUND(SUM($F$25:F104),2),IF(A105=$D$8,$E$24-ROUND(SUM($F$25:F104),2),ROUND($E$24/$D$8,2))))","v":""},{"$f":"IF(A104=$D$8,ROUND(SUM($G$25:G104),2),IF(A105>$D$8,\"\",IF(T105<>T104,ROUND(SUM(V105*$D$9*E104/T105,W105*$D$9*E104/T104),2),ROUND(E104*$D$9*D105/T104,2))))","v":""},{"$f":"IF(A104=$D$8,SUM($H$25:H104),IF(A104>$D$8,\"\",F105+G105))","v":""},"","",null,"","","",null,{"$f":"IF(A104=$D$8,XIRR(H$24:H104,C$24:C104),\"\")","v":""},"",0,{"$error":"#VALUE!"},{"$error":"#VALUE!"},{"$error":"#VALUE!"},{"$error":"#VALUE!"},{"$error":"#VALUE!"}]
["",""," ","","",{"$f":"IF(AND(A105=\"\",A107=\"\"),\"\",IF(A106=\"\",ROUND(SUM($F$25:F105),2),IF(A106=$D$8,$E$24-ROUND(SUM($F$25:F105),2),ROUND($E$24/$D$8,2))))","v":""},{"$f":"IF(A105=$D$8,ROUND(SUM($G$25:G105),2),IF(A106>$D$8,\"\",IF(T106<>T105,ROUND(SUM(V106*$D$9*E105/T106,W106*$D$9*E105/T105),2),ROUND(E105*$D$9*D106/T105,2))))","v":""},{"$f":"IF(A105=$D$8,SUM($H$25:H105),IF(A105>$D$8,\"\",F106+G106))","v":""},"","",null,"","","",null,{"$f":"IF(A105=$D$8,XIRR(H$24:H105,C$24:C105),\"\")","v":""},"",0,{"$error":"#VALUE!"},{"$error":"#VALUE!"},{"$error":"#VALUE!"},{"$error":"#VALUE!"},{"$error":"#VALUE!"}]
["",""," ","","",{"$f":"IF(AND(A106=\"\",A108=\"\"),\"\",IF(A107=\"\",ROUND(SUM($F$25:F106),2),IF(A107=$D$8,$E$24-ROUND(SUM($F$25:F106),2),ROUND($E$24/$D$8,2))))","v":""},{"$f":"IF(A106=$D$8,ROUND(SUM($G$25:G106),2),IF(A107>$D$8,\"\",IF(T107<>T106,ROUND(SUM(V107*$D$9*E106/T107,W107*$D$9*E106/T106),2),ROUND(E106*$D$9*D107/T106,2))))","v":""},{"$f":"IF(A106=$D$8,SUM($H$25:H106),IF(A106>$D$8,\"\",F107+G107))","v":""},"","",null,"","","",null,{"$f":"IF(A106=$D$8,XIRR(H$24:H106,C$24:C106),\"\")","v":""},"",0,{"$error":"#VALUE!"},{"$error":"#VALUE!"},{"$error":"#VALUE!"},{"$error":"#VALUE!"},{"$error":"#VALUE!"}]
["",""," ","","",{"$f":"IF(AND(A107=\"\",A109=\"\"),\"\",IF(A108=\"\",ROUND(SUM($F$25:F107),2),IF(A108=$D$8,$E$24-ROUND(SUM($F$25:F107),2),ROUND($E$24/$D$8,2))))","v":""},{"$f":"IF(A107=$D$8,ROUND(SUM($G$25:G107),2),IF(A108>$D$8,\"\",IF(T108<>T107,ROUND(SUM(V108*$D$9*E107/T108,W108*$D$9*E107/T107),2),ROUND(E107*$D$9*D108/T107,2))))","v":""},{"$f":"IF(A107=$D$8,SUM($H$25:H107),IF(A107>$D$8,\"\",F108+G108))","v":""},"","",null,"","","",null,{"$f":"IF(A107=$D$8,XIRR(H$24:H107,C$24:C107),\"\")","v":""},"",0,{"$error":"#VALUE!"},{"$error":"#VALUE!"},{"$error":"#VALUE!"},{"$error":"#VALUE!"},{"$error":"#VALUE!"}]
["",""," ","","",{"$f":"IF(AND(A108=\"\",A110=\"\"),\"\",IF(A109=\"\",ROUND(SUM($F$25:F108),2),IF(A109=$D$8,$E$24-ROUND(SUM($F$25:F108),2),ROUND($E$24/$D$8,2))))","v":""},{"$f":"IF(A108=$D$8,ROUND(SUM($G$25:G108),2),IF(A109>$D$8,\"\",IF(T109<>T108,ROUND(SUM(V109*$D$9*E108/T109,W109*$D$9*E108/T108),2),ROUND(E108*$D$9*D109/T108,2))))","v":""},{"$f":"IF(A108=$D$8,SUM($H$25:H108),IF(A108>$D$8,\"\",F109+G109))","v":""},"",{"$f":"IF($D$8>A108,$N$9,IF($D$8=A108,SUM($J$24:J108),\" \"))","v":" "},{"$f":"IF($D$8>84,($O$8+$N$10*E108),IF($A$108=$D$8,$K$37+$K$24+$K$49+$K$61+$K$73+$K$85+$K$97,\"\"))","v":""},"","","",null,{"$f":"IF(A108=$D$8,XIRR(H$24:H108,C$24:C108),\"\")","v":""},"",0,{"$error":"#VALUE!"},{"$error":"#VALUE!"},{"$error":"#VALUE!"},{"$error":"#VALUE!"},{"$error":"#VALUE!"}]
["",""," ","","",{"$f":"IF(AND(A109=\"\",A111=\"\"),\"\",IF(A110=\"\",ROUND(SUM($F$25:F109),2),IF(A110=$D$8,$E$24-ROUND(SUM($F$25:F109),2),ROUND($E$24/$D$8,2))))","v":""},{"$f":"IF(A109=$D$8,ROUND(SUM($G$25:G109),2),IF(A110>$D$8,\"\",IF(T110<>T109,ROUND(SUM(V110*$D$9*E109/T110,W110*$D$9*E109/T109),2),ROUND(E109*$D$9*D110/T109,2))))","v":""},{"$f":"IF(A109=$D$8,SUM($H$25:H109),IF(A109>$D$8,\"\",F110+G110))","v":""},"",{"$f":"IF(A109=$D$8,$J$24,\"\")","v":""},null,"","","",null,{"$f":"IF(A109=$D$8,XIRR(H$24:H109,C$24:C109),\"\")","v":""},"",0,{"$error":"#VALUE!"},{"$error":"#VALUE!"},{"$error":"#VALUE!"},{"$error":"#VALUE!"},{"$error":"#VALUE!"}]
["",""," ","","",{"$f":"IF(AND(A110=\"\",A112=\"\"),\"\",IF(A111=\"\",ROUND(SUM($F$25:F110),2),IF(A111=$D$8,$E$24-ROUND(SUM($F$25:F110),2),ROUND($E$24/$D$8,2))))","v":""},{"$f":"IF(A110=$D$8,ROUND(SUM($G$25:G110),2),IF(A111>$D$8,\"\",IF(T111<>T110,ROUND(SUM(V111*$D$9*E110/T111,W111*$D$9*E110/T110),2),ROUND(E110*$D$9*D111/T110,2))))","v":""},{"$f":"IF(A110=$D$8,SUM($H$25:H110),IF(A110>$D$8,\"\",F111+G111))","v":""},"","",null,"","","",null,{"$f":"IF(A110=$D$8,XIRR(H$24:H110,C$24:C110),\"\")","v":""},"",0,{"$error":"#VALUE!"},{"$error":"#VALUE!"},{"$error":"#VALUE!"},{"$error":"#VALUE!"},{"$error":"#VALUE!"}]
["",""," ","","",{"$f":"IF(AND(A111=\"\",A113=\"\"),\"\",IF(A112=\"\",ROUND(SUM($F$25:F111),2),IF(A112=$D$8,$E$24-ROUND(SUM($F$25:F111),2),ROUND($E$24/$D$8,2))))","v":""},{"$f":"IF(A111=$D$8,ROUND(SUM($G$25:G111),2),IF(A112>$D$8,\"\",IF(T112<>T111,ROUND(SUM(V112*$D$9*E111/T112,W112*$D$9*E111/T111),2),ROUND(E111*$D$9*D112/T111,2))))","v":""},{"$f":"IF(A111=$D$8,SUM($H$25:H111),IF(A111>$D$8,\"\",F112+G112))","v":""},"","",null,"","","",null,{"$f":"IF(A111=$D$8,XIRR(H$24:H111,C$24:C111),\"\")","v":""},"",0,{"$error":"#VALUE!"},{"$error":"#VALUE!"},{"$error":"#VALUE!"},{"$error":"#VALUE!"},{"$error":"#VALUE!"}]
["",""," ","","",{"$f":"IF(AND(A112=\"\",A114=\"\"),\"\",IF(A113=\"\",ROUND(SUM($F$25:F112),2),IF(A113=$D$8,$E$24-ROUND(SUM($F$25:F112),2),ROUND($E$24/$D$8,2))))","v":""},{"$f":"IF(A112=$D$8,ROUND(SUM($G$25:G112),2),IF(A113>$D$8,\"\",IF(T113<>T112,ROUND(SUM(V113*$D$9*E112/T113,W113*$D$9*E112/T112),2),ROUND(E112*$D$9*D113/T112,2))))","v":""},{"$f":"IF(A112=$D$8,SUM($H$25:H112),IF(A112>$D$8,\"\",F113+G113))","v":""},"","",null,"","","",null,{"$f":"IF(A112=$D$8,XIRR(H$24:H112,C$24:C112),\"\")","v":""},"",0,{"$error":"#VALUE!"},{"$error":"#VALUE!"},{"$error":"#VALUE!"},{"$error":"#VALUE!"},{"$error":"#VALUE!"}]
["",""," ","","",{"$f":"IF(AND(A113=\"\",A115=\"\"),\"\",IF(A114=\"\",ROUND(SUM($F$25:F113),2),IF(A114=$D$8,$E$24-ROUND(SUM($F$25:F113),2),ROUND($E$24/$D$8,2))))","v":""},{"$f":"IF(A113=$D$8,ROUND(SUM($G$25:G113),2),IF(A114>$D$8,\"\",IF(T114<>T113,ROUND(SUM(V114*$D$9*E113/T114,W114*$D$9*E113/T113),2),ROUND(E113*$D$9*D114/T113,2))))","v":""},{"$f":"IF(A113=$D$8,SUM($H$25:H113),IF(A113>$D$8,\"\",F114+G114))","v":""},"","",null,"","","",null,{"$f":"IF(A113=$D$8,XIRR(H$24:H113,C$24:C113),\"\")","v":""},"",0,{"$error":"#VALUE!"},{"$error":"#VALUE!"},{"$error":"#VALUE!"},{"$error":"#VALUE!"},{"$error":"#VALUE!"}]
["",""," ","","",{"$f":"IF(AND(A114=\"\",A116=\"\"),\"\",IF(A115=\"\",ROUND(SUM($F$25:F114),2),IF(A115=$D$8,$E$24-ROUND(SUM($F$25:F114),2),ROUND($E$24/$D$8,2))))","v":""},{"$f":"IF(A114=$D$8,ROUND(SUM($G$25:G114),2),IF(A115>$D$8,\"\",IF(T115<>T114,ROUND(SUM(V115*$D$9*E114/T115,W115*$D$9*E114/T114),2),ROUND(E114*$D$9*D115/T114,2))))","v":""},{"$f":"IF(A114=$D$8,SUM($H$25:H114),IF(A114>$D$8,\"\",F115+G115))","v":""},"","",null,"","","",null,{"$f":"IF(A114=$D$8,XIRR(H$24:H114,C$24:C114),\"\")","v":""},"",0,{"$error":"#VALUE!"},{"$error":"#VALUE!"},{"$error":"#VALUE!"},{"$error":"#VALUE!"},{"$error":"#VALUE!"}]
["",""," ","","",{"$f":"IF(AND(A115=\"\",A117=\"\"),\"\",IF(A116=\"\",ROUND(SUM($F$25:F115),2),IF(A116=$D$8,$E$24-ROUND(SUM($F$25:F115),2),ROUND($E$24/$D$8,2))))","v":""},{"$f":"IF(A115=$D$8,ROUND(SUM($G$25:G115),2),IF(A116>$D$8,\"\",IF(T116<>T115,ROUND(SUM(V116*$D$9*E115/T116,W116*$D$9*E115/T115),2),ROUND(E115*$D$9*D116/T115,2))))","v":""},{"$f":"IF(A115=$D$8,SUM($H$25:H115),IF(A115>$D$8,\"\",F116+G116))","v":""},"","",null,"","","",null,{"$f":"IF(A115=$D$8,XIRR(H$24:H115,C$24:C115),\"\")","v":""},"",0,{"$error":"#VALUE!"},{"$error":"#VALUE!"},{"$error":"#VALUE!"},{"$error":"#VALUE!"},{"$error":"#VALUE!"}]
["",""," ","","",{"$f":"IF(AND(A116=\"\",A118=\"\"),\"\",IF(A117=\"\",ROUND(SUM($F$25:F116),2),IF(A117=$D$8,$E$24-ROUND(SUM($F$25:F116),2),ROUND($E$24/$D$8,2))))","v":""},{"$f":"IF(A116=$D$8,ROUND(SUM($G$25:G116),2),IF(A117>$D$8,\"\",IF(T117<>T116,ROUND(SUM(V117*$D$9*E116/T117,W117*$D$9*E116/T116),2),ROUND(E116*$D$9*D117/T116,2))))","v":""},{"$f":"IF(A116=$D$8,SUM($H$25:H116),IF(A116>$D$8,\"\",F117+G117))","v":""},"","",null,"","","",null,{"$f":"IF(A116=$D$8,XIRR(H$24:H116,C$24:C116),\"\")","v":""},"",0,{"$error":"#VALUE!"},{"$error":"#VALUE!"},{"$error":"#VALUE!"},{"$error":"#VALUE!"},{"$error":"#VALUE!"}]
["",""," ","","",{"$f":"IF(AND(A117=\"\",A119=\"\"),\"\",IF(A118=\"\",ROUND(SUM($F$25:F117),2),IF(A118=$D$8,$E$24-ROUND(SUM($F$25:F117),2),ROUND($E$24/$D$8,2))))","v":""},{"$f":"IF(A117=$D$8,ROUND(SUM($G$25:G117),2),IF(A118>$D$8,\"\",IF(T118<>T117,ROUND(SUM(V118*$D$9*E117/T118,W118*$D$9*E117/T117),2),ROUND(E117*$D$9*D118/T117,2))))","v":""},{"$f":"IF(A117=$D$8,SUM($H$25:H117),IF(A117>$D$8,\"\",F118+G118))","v":""},"","",null,"","","",null,{"$f":"IF(A117=$D$8,XIRR(H$24:H117,C$24:C117),\"\")","v":""},"",0,{"$error":"#VALUE!"},{"$error":"#VALUE!"},{"$error":"#VALUE!"},{"$error":"#VALUE!"},{"$error":"#VALUE!"}]
["",""," ","","",{"$f":"IF(AND(A118=\"\",A120=\"\"),\"\",IF(A119=\"\",ROUND(SUM($F$25:F118),2),IF(A119=$D$8,$E$24-ROUND(SUM($F$25:F118),2),ROUND($E$24/$D$8,2))))","v":""},{"$f":"IF(A118=$D$8,ROUND(SUM($G$25:G118),2),IF(A119>$D$8,\"\",IF(T119<>T118,ROUND(SUM(V119*$D$9*E118/T119,W119*$D$9*E118/T118),2),ROUND(E118*$D$9*D119/T118,2))))","v":""},{"$f":"IF(A118=$D$8,SUM($H$25:H118),IF(A118>$D$8,\"\",F119+G119))","v":""},"","",null,"","","",null,{"$f":"IF(A118=$D$8,XIRR(H$24:H118,C$24:C118),\"\")","v":""},"",0,{"$error":"#VALUE!"},{"$error":"#VALUE!"},{"$error":"#VALUE!"},{"$error":"#VALUE!"},{"$error":"#VALUE!"}]
["",""," ","","",{"$f":"IF(AND(A119=\"\",A121=\"\"),\"\",IF(A120=\"\",ROUND(SUM($F$25:F119),2),IF(A120=$D$8,$E$24-ROUND(SUM($F$25:F119),2),ROUND($E$24/$D$8,2))))","v":""},{"$f":"IF(A119=$D$8,ROUND(SUM($G$25:G119),2),IF(A120>$D$8,\"\",IF(T120<>T119,ROUND(SUM(V120*$D$9*E119/T120,W120*$D$9*E119/T119),2),ROUND(E119*$D$9*D120/T119,2))))","v":""},{"$f":"IF(A119=$D$8,SUM($H$25:H119),IF(A119>$D$8,\"\",F120+G120))","v":""},"","",null,"","","",null,{"$f":"IF(A119=$D$8,XIRR(H$24:H119,C$24:C119),\"\")","v":""},"",0,{"$error":"#VALUE!"},{"$error":"#VALUE!"},{"$error":"#VALUE!"},{"$error":"#VALUE!"},{"$error":"#VALUE!"}]
["",""," ","","",{"$f":"IF(AND(A120=\"\",A122=\"\"),\"\",IF(A121=\"\",ROUND(SUM($F$25:F120),2),IF(A121=$D$8,$E$24-ROUND(SUM($F$25:F120),2),ROUND($E$24/$D$8,2))))","v":""},{"$f":"IF(A120=$D$8,ROUND(SUM($G$25:G120),2),IF(A121>$D$8,\"\",IF(T121<>T120,ROUND(SUM(V121*$D$9*E120/T121,W121*$D$9*E120/T120),2),ROUND(E120*$D$9*D121/T120,2))))","v":""},{"$f":"IF(A120=$D$8,SUM($H$25:H120),IF(A120>$D$8,\"\",F121+G121))","v":""},"",{"$f":"IF($D$8>A120,$N$9,IF($D$8=A120,SUM($J$24:J120),\" \"))","v":" "},{"$f":"IF($D$8>96,($O$8+$N$10*E120),IF($A$120=$D$8,$K$37+$K$24+$K$49+$K$61+$K$73+$K$85+$K$97+$K$109,\"\"))","v":""},"","","",null,{"$f":"IF(A120=$D$8,XIRR(H$24:H120,C$24:C120),\"\")","v":""},"",0,{"$error":"#VALUE!"},{"$error":"#VALUE!"},{"$error":"#VALUE!"},{"$error":"#VALUE!"},{"$error":"#VALUE!"}]
["",""," ","","",{"$f":"IF(AND(A121=\"\",A123=\"\"),\"\",IF(A122=\"\",ROUND(SUM($F$25:F121),2),IF(A122=$D$8,$E$24-ROUND(SUM($F$25:F121),2),ROUND($E$24/$D$8,2))))","v":""},{"$f":"IF(A121=$D$8,ROUND(SUM($G$25:G121),2),IF(A122>$D$8,\"\",IF(T122<>T121,ROUND(SUM(V122*$D$9*E121/T122,W122*$D$9*E121/T121),2),ROUND(E121*$D$9*D122/T121,2))))","v":""},{"$f":"IF(A121=$D$8,SUM($H$25:H121),IF(A121>$D$8,\"\",F122+G122))","v":""},"",{"$f":"IF(A121=$D$8,$J$24,\"\")","v":""},null,"","","",null,{"$f":"IF(A121=$D$8,XIRR(H$24:H121,C$24:C121),\"\")","v":""},"",0,{"$error":"#VALUE!"},{"$error":"#VALUE!"},{"$error":"#VALUE!"},{"$error":"#VALUE!"},{"$error":"#VALUE!"}]
["",""," ","","",{"$f":"IF(AND(A122=\"\",A124=\"\"),\"\",IF(A123=\"\",ROUND(SUM($F$25:F122),2),IF(A123=$D$8,$E$24-ROUND(SUM($F$25:F122),2),ROUND($E$24/$D$8,2))))","v":""},{"$f":"IF(A122=$D$8,ROUND(SUM($G$25:G122),2),IF(A123>$D$8,\"\",IF(T123<>T122,ROUND(SUM(V123*$D$9*E122/T123,W123*$D$9*E122/T122),2),ROUND(E122*$D$9*D123/T122,2))))","v":""},{"$f":"IF(A122=$D$8,SUM($H$25:H122),IF(A122>$D$8,\"\",F123+G123))","v":""},"","",null,"","","",null,{"$f":"IF(A122=$D$8,XIRR(H$24:H122,C$24:C122),\"\")","v":""},"",0,{"$error":"#VALUE!"},{"$error":"#VALUE!"},{"$error":"#VALUE!"},{"$error":"#VALUE!"},{"$error":"#VALUE!"}]
["",""," ","","",{"$f":"IF(AND(A123=\"\",A125=\"\"),\"\",IF(A124=\"\",ROUND(SUM($F$25:F123),2),IF(A124=$D$8,$E$24-ROUND(SUM($F$25:F123),2),ROUND($E$24/$D$8,2))))","v":""},{"$f":"IF(A123=$D$8,ROUND(SUM($G$25:G123),2),IF(A124>$D$8,\"\",IF(T124<>T123,ROUND(SUM(V124*$D$9*E123/T124,W124*$D$9*E123/T123),2),ROUND(E123*$D$9*D124/T123,2))))","v":""},{"$f":"IF(A123=$D$8,SUM($H$25:H123),IF(A123>$D$8,\"\",F124+G124))","v":""},"","",null,"","","",null,{"$f":"IF(A123=$D$8,XIRR(H$24:H123,C$24:C123),\"\")","v":""},"",0,{"$error":"#VALUE!"},{"$error":"#VALUE!"},{"$error":"#VALUE!"},{"$error":"#VALUE!"},{"$error":"#VALUE!"}]
["",""," ","","",{"$f":"IF(AND(A124=\"\",A126=\"\"),\"\",IF(A125=\"\",ROUND(SUM($F$25:F124),2),IF(A125=$D$8,$E$24-ROUND(SUM($F$25:F124),2),ROUND($E$24/$D$8,2))))","v":""},{"$f":"IF(A124=$D$8,ROUND(SUM($G$25:G124),2),IF(A125>$D$8,\"\",IF(T125<>T124,ROUND(SUM(V125*$D$9*E124/T125,W125*$D$9*E124/T124),2),ROUND(E124*$D$9*D125/T124,2))))","v":""},{"$f":"IF(A124=$D$8,SUM($H$25:H124),IF(A124>$D$8,\"\",F125+G125))","v":""},"","",null,"","","",null,{"$f":"IF(A124=$D$8,XIRR(H$24:H124,C$24:C124),\"\")","v":""},"",0,{"$error":"#VALUE!"},{"$error":"#VALUE!"},{"$error":"#VALUE!"},{"$error":"#VALUE!"},{"$error":"#VALUE!"}]
["",""," ","","",{"$f":"IF(AND(A125=\"\",A127=\"\"),\"\",IF(A126=\"\",ROUND(SUM($F$25:F125),2),IF(A126=$D$8,$E$24-ROUND(SUM($F$25:F125),2),ROUND($E$24/$D$8,2))))","v":""},{"$f":"IF(A125=$D$8,ROUND(SUM($G$25:G125),2),IF(A126>$D$8,\"\",IF(T126<>T125,ROUND(SUM(V126*$D$9*E125/T126,W126*$D$9*E125/T125),2),ROUND(E125*$D$9*D126/T125,2))))","v":""},{"$f":"IF(A125=$D$8,SUM($H$25:H125),IF(A125>$D$8,\"\",F126+G126))","v":""},"","",null,"","","",null,{"$f":"IF(A125=$D$8,XIRR(H$24:H125,C$24:C125),\"\")","v":""},"",0,{"$error":"#VALUE!"},{"$error":"#VALUE!"},{"$error":"#VALUE!"},{"$error":"#VALUE!"},{"$error":"#VALUE!"}]
["",""," ","","",{"$f":"IF(AND(A126=\"\",A128=\"\"),\"\",IF(A127=\"\",ROUND(SUM($F$25:F126),2),IF(A127=$D$8,$E$24-ROUND(SUM($F$25:F126),2),ROUND($E$24/$D$8,2))))","v":""},{"$f":"IF(A126=$D$8,ROUND(SUM($G$25:G126),2),IF(A127>$D$8,\"\",IF(T127<>T126,ROUND(SUM(V127*$D$9*E126/T127,W127*$D$9*E126/T126),2),ROUND(E126*$D$9*D127/T126,2))))","v":""},{"$f":"IF(A126=$D$8,SUM($H$25:H126),IF(A126>$D$8,\"\",F127+G127))","v":""},"","",null,"","","",null,{"$f":"IF(A126=$D$8,XIRR(H$24:H126,C$24:C126),\"\")","v":""},"",0,{"$error":"#VALUE!"},{"$error":"#VALUE!"},{"$error":"#VALUE!"},{"$error":"#VALUE!"},{"$error":"#VALUE!"}]
["",""," ","","",{"$f":"IF(AND(A127=\"\",A129=\"\"),\"\",IF(A128=\"\",ROUND(SUM($F$25:F127),2),IF(A128=$D$8,$E$24-ROUND(SUM($F$25:F127),2),ROUND($E$24/$D$8,2))))","v":""},{"$f":"IF(A127=$D$8,ROUND(SUM($G$25:G127),2),IF(A128>$D$8,\"\",IF(T128<>T127,ROUND(SUM(V128*$D$9*E127/T128,W128*$D$9*E127/T127),2),ROUND(E127*$D$9*D128/T127,2))))","v":""},{"$f":"IF(A127=$D$8,SUM($H$25:H127),IF(A127>$D$8,\"\",F128+G128))","v":""},"","",null,"","","",null,{"$f":"IF(A127=$D$8,XIRR(H$24:H127,C$24:C127),\"\")","v":""},"",0,{"$error":"#VALUE!"},{"$error":"#VALUE!"},{"$error":"#VALUE!"},{"$error":"#VALUE!"},{"$error":"#VALUE!"}]
["",""," ","","",{"$f":"IF(AND(A128=\"\",A130=\"\"),\"\",IF(A129=\"\",ROUND(SUM($F$25:F128),2),IF(A129=$D$8,$E$24-ROUND(SUM($F$25:F128),2),ROUND($E$24/$D$8,2))))","v":""},{"$f":"IF(A128=$D$8,ROUND(SUM($G$25:G128),2),IF(A129>$D$8,\"\",IF(T129<>T128,ROUND(SUM(V129*$D$9*E128/T129,W129*$D$9*E128/T128),2),ROUND(E128*$D$9*D129/T128,2))))","v":""},{"$f":"IF(A128=$D$8,SUM($H$25:H128),IF(A128>$D$8,\"\",F129+G129))","v":""},"","",null,"","","",null,{"$f":"IF(A128=$D$8,XIRR(H$24:H128,C$24:C128),\"\")","v":""},"",0,{"$error":"#VALUE!"},{"$error":"#VALUE!"},{"$error":"#VALUE!"},{"$error":"#VALUE!"},{"$error":"#VALUE!"}]
["",""," ","","",{"$f":"IF(AND(A129=\"\",A131=\"\"),\"\",IF(A130=\"\",ROUND(SUM($F$25:F129),2),IF(A130=$D$8,$E$24-ROUND(SUM($F$25:F129),2),ROUND($E$24/$D$8,2))))","v":""},{"$f":"IF(A129=$D$8,ROUND(SUM($G$25:G129),2),IF(A130>$D$8,\"\",IF(T130<>T129,ROUND(SUM(V130*$D$9*E129/T130,W130*$D$9*E129/T129),2),ROUND(E129*$D$9*D130/T129,2))))","v":""},{"$f":"IF(A129=$D$8,SUM($H$25:H129),IF(A129>$D$8,\"\",F130+G130))","v":""},"","",null,"","","",null,{"$f":"IF(A129=$D$8,XIRR(H$24:H129,C$24:C129),\"\")","v":""},"",0,{"$error":"#VALUE!"},{"$error":"#VALUE!"},{"$error":"#VALUE!"},{"$error":"#VALUE!"},{"$error":"#VALUE!"}]
["",""," ","","",{"$f":"IF(AND(A130=\"\",A132=\"\"),\"\",IF(A131=\"\",ROUND(SUM($F$25:F130),2),IF(A131=$D$8,$E$24-ROUND(SUM($F$25:F130),2),ROUND($E$24/$D$8,2))))","v":""},{"$f":"IF(A130=$D$8,ROUND(SUM($G$25:G130),2),IF(A131>$D$8,\"\",IF(T131<>T130,ROUND(SUM(V131*$D$9*E130/T131,W131*$D$9*E130/T130),2),ROUND(E130*$D$9*D131/T130,2))))","v":""},{"$f":"IF(A130=$D$8,SUM($H$25:H130),IF(A130>$D$8,\"\",F131+G131))","v":""},"","",null,"","","",null,{"$f":"IF(A130=$D$8,XIRR(H$24:H130,C$24:C130),\"\")","v":""},"",0,{"$error":"#VALUE!"},{"$error":"#VALUE!"},{"$error":"#VALUE!"},{"$error":"#VALUE!"},{"$error":"#VALUE!"}]
["",""," ","","",{"$f":"IF(AND(A131=\"\",A133=\"\"),\"\",IF(A132=\"\",ROUND(SUM($F$25:F131),2),IF(A132=$D$8,$E$24-ROUND(SUM($F$25:F131),2),ROUND($E$24/$D$8,2))))","v":""},{"$f":"IF(A131=$D$8,ROUND(SUM($G$25:G131),2),IF(A132>$D$8,\"\",IF(T132<>T131,ROUND(SUM(V132*$D$9*E131/T132,W132*$D$9*E131/T131),2),ROUND(E131*$D$9*D132/T131,2))))","v":""},{"$f":"IF(A131=$D$8,SUM($H$25:H131),IF(A131>$D$8,\"\",F132+G132))","v":""},"","",null,"","","",null,{"$f":"IF(A131=$D$8,XIRR(H$24:H131,C$24:C131),\"\")","v":""},"",0,{"$error":"#VALUE!"},{"$error":"#VALUE!"},{"$error":"#VALUE!"},{"$error":"#VALUE!"},{"$error":"#VALUE!"}]
["",""," ","","",{"$f":"IF(AND(A132=\"\",A134=\"\"),\"\",IF(A133=\"\",ROUND(SUM($F$25:F132),2),IF(A133=$D$8,$E$24-ROUND(SUM($F$25:F132),2),ROUND($E$24/$D$8,2))))","v":""},{"$f":"IF(A132=$D$8,ROUND(SUM($G$25:G132),2),IF(A133>$D$8,\"\",IF(T133<>T132,ROUND(SUM(V133*$D$9*E132/T133,W133*$D$9*E132/T132),2),ROUND(E132*$D$9*D133/T132,2))))","v":""},{"$f":"IF(A132=$D$8,SUM($H$25:H132),IF(A132>$D$8,\"\",F133+G133))","v":""},"",{"$f":"IF($D$8>A132,$N$9,IF($D$8=A132,SUM($J$24:J132),\" \"))","v":" "},{"$f":"IF($D$8>A132,($O$8+$N$10*E132),IF(A132=$D$8,$K$37+$K$24+$K$49+$K$61+$K$73+$K$85+$K$97+$K$109+$K$121,\"\"))","v":""},"","","",null,{"$f":"IF(A132=$D$8,XIRR(H$24:H132,C$24:C132),\"\")","v":""},"",0,{"$error":"#VALUE!"},{"$error":"#VALUE!"},{"$error":"#VALUE!"},{"$error":"#VALUE!"},{"$error":"#VALUE!"}]
["",""," ","","",{"$f":"IF(AND(A133=\"\",A135=\"\"),\"\",IF(A134=\"\",ROUND(SUM($F$25:F133),2),IF(A134=$D$8,$E$24-ROUND(SUM($F$25:F133),2),ROUND($E$24/$D$8,2))))","v":""},{"$f":"IF(A133=$D$8,ROUND(SUM($G$25:G133),2),IF(A134>$D$8,\"\",IF(T134<>T133,ROUND(SUM(V134*$D$9*E133/T134,W134*$D$9*E133/T133),2),ROUND(E133*$D$9*D134/T133,2))))","v":""},{"$f":"IF(A133=$D$8,SUM($H$25:H133),IF(A133>$D$8,\"\",F134+G134))","v":""},"",{"$f":"IF(A133=$D$8,$J$24,\"\")","v":""},null,"","","",null,{"$f":"IF(A133=$D$8,XIRR(H$24:H133,C$24:C133),\"\")","v":""},"",0,{"$error":"#VALUE!"},{"$error":"#VALUE!"},{"$error":"#VALUE!"},{"$error":"#VALUE!"},{"$error":"#VALUE!"}]
["",""," ","","",{"$f":"IF(AND(A134=\"\",A136=\"\"),\"\",IF(A135=\"\",ROUND(SUM($F$25:F134),2),IF(A135=$D$8,$E$24-ROUND(SUM($F$25:F134),2),ROUND($E$24/$D$8,2))))","v":""},{"$f":"IF(A134=$D$8,ROUND(SUM($G$25:G134),2),IF(A135>$D$8,\"\",IF(T135<>T134,ROUND(SUM(V135*$D$9*E134/T135,W135*$D$9*E134/T134),2),ROUND(E134*$D$9*D135/T134,2))))","v":""},{"$f":"IF(A134=$D$8,SUM($H$25:H134),IF(A134>$D$8,\"\",F135+G135))","v":""},"","",null,"","","",null,{"$f":"IF(A134=$D$8,XIRR(H$24:H134,C$24:C134),\"\")","v":""},"",0,{"$error":"#VALUE!"},{"$error":"#VALUE!"},{"$error":"#VALUE!"},{"$error":"#VALUE!"},{"$error":"#VALUE!"}]
["",""," ","","",{"$f":"IF(AND(A135=\"\",A137=\"\"),\"\",IF(A136=\"\",ROUND(SUM($F$25:F135),2),IF(A136=$D$8,$E$24-ROUND(SUM($F$25:F135),2),ROUND($E$24/$D$8,2))))","v":""},{"$f":"IF(A135=$D$8,ROUND(SUM($G$25:G135),2),IF(A136>$D$8,\"\",IF(T136<>T135,ROUND(SUM(V136*$D$9*E135/T136,W136*$D$9*E135/T135),2),ROUND(E135*$D$9*D136/T135,2))))","v":""},{"$f":"IF(A135=$D$8,SUM($H$25:H135),IF(A135>$D$8,\"\",F136+G136))","v":""},"","",null,"","","",null,{"$f":"IF(A135=$D$8,XIRR(H$24:H135,C$24:C135),\"\")","v":""},"",0,{"$error":"#VALUE!"},{"$error":"#VALUE!"},{"$error":"#VALUE!"},{"$error":"#VALUE!"},{"$error":"#VALUE!"}]
["",""," ","","",{"$f":"IF(AND(A136=\"\",A138=\"\"),\"\",IF(A137=\"\",ROUND(SUM($F$25:F136),2),IF(A137=$D$8,$E$24-ROUND(SUM($F$25:F136),2),ROUND($E$24/$D$8,2))))","v":""},{"$f":"IF(A136=$D$8,ROUND(SUM($G$25:G136),2),IF(A137>$D$8,\"\",IF(T137<>T136,ROUND(SUM(V137*$D$9*E136/T137,W137*$D$9*E136/T136),2),ROUND(E136*$D$9*D137/T136,2))))","v":""},{"$f":"IF(A136=$D$8,SUM($H$25:H136),IF(A136>$D$8,\"\",F137+G137))","v":""},"","",null,"","","",null,{"$f":"IF(A136=$D$8,XIRR(H$24:H136,C$24:C136),\"\")","v":""},"",0,{"$error":"#VALUE!"},{"$error":"#VALUE!"},{"$error":"#VALUE!"},{"$error":"#VALUE!"},{"$error":"#VALUE!"}]
["",""," ","","",{"$f":"IF(AND(A137=\"\",A139=\"\"),\"\",IF(A138=\"\",ROUND(SUM($F$25:F137),2),IF(A138=$D$8,$E$24-ROUND(SUM($F$25:F137),2),ROUND($E$24/$D$8,2))))","v":""},{"$f":"IF(A137=$D$8,ROUND(SUM($G$25:G137),2),IF(A138>$D$8,\"\",IF(T138<>T137,ROUND(SUM(V138*$D$9*E137/T138,W138*$D$9*E137/T137),2),ROUND(E137*$D$9*D138/T137,2))))","v":""},{"$f":"IF(A137=$D$8,SUM($H$25:H137),IF(A137>$D$8,\"\",F138+G138))","v":""},"","",null,"","","",null,{"$f":"IF(A137=$D$8,XIRR(H$24:H137,C$24:C137),\"\")","v":""},"",0,{"$error":"#VALUE!"},{"$error":"#VALUE!"},{"$error":"#VALUE!"},{"$error":"#VALUE!"},{"$error":"#VALUE!"}]
["",""," ","","",{"$f":"IF(AND(A138=\"\",A140=\"\"),\"\",IF(A139=\"\",ROUND(SUM($F$25:F138),2),IF(A139=$D$8,$E$24-ROUND(SUM($F$25:F138),2),ROUND($E$24/$D$8,2))))","v":""},{"$f":"IF(A138=$D$8,ROUND(SUM($G$25:G138),2),IF(A139>$D$8,\"\",IF(T139<>T138,ROUND(SUM(V139*$D$9*E138/T139,W139*$D$9*E138/T138),2),ROUND(E138*$D$9*D139/T138,2))))","v":""},{"$f":"IF(A138=$D$8,SUM($H$25:H138),IF(A138>$D$8,\"\",F139+G139))","v":""},"","",null,"","","",null,{"$f":"IF(A138=$D$8,XIRR(H$24:H138,C$24:C138),\"\")","v":""},"",0,{"$error":"#VALUE!"},{"$error":"#VALUE!"},{"$error":"#VALUE!"},{"$error":"#VALUE!"},{"$error":"#VALUE!"}]
["",""," ","","",{"$f":"IF(AND(A139=\"\",A141=\"\"),\"\",IF(A140=\"\",ROUND(SUM($F$25:F139),2),IF(A140=$D$8,$E$24-ROUND(SUM($F$25:F139),2),ROUND($E$24/$D$8,2))))","v":""},{"$f":"IF(A139=$D$8,ROUND(SUM($G$25:G139),2),IF(A140>$D$8,\"\",IF(T140<>T139,ROUND(SUM(V140*$D$9*E139/T140,W140*$D$9*E139/T139),2),ROUND(E139*$D$9*D140/T139,2))))","v":""},{"$f":"IF(A139=$D$8,SUM($H$25:H139),IF(A139>$D$8,\"\",F140+G140))","v":""},"","",null,"","","",null,{"$f":"IF(A139=$D$8,XIRR(H$24:H139,C$24:C139),\"\")","v":""},"",0,{"$error":"#VALUE!"},{"$error":"#VALUE!"},{"$error":"#VALUE!"},{"$error":"#VALUE!"},{"$error":"#VALUE!"}]
["",""," ","","",{"$f":"IF(AND(A140=\"\",A142=\"\"),\"\",IF(A141=\"\",ROUND(SUM($F$25:F140),2),IF(A141=$D$8,$E$24-ROUND(SUM($F$25:F140),2),ROUND($E$24/$D$8,2))))","v":""},{"$f":"IF(A140=$D$8,ROUND(SUM($G$25:G140),2),IF(A141>$D$8,\"\",IF(T141<>T140,ROUND(SUM(V141*$D$9*E140/T141,W141*$D$9*E140/T140),2),ROUND(E140*$D$9*D141/T140,2))))","v":""},{"$f":"IF(A140=$D$8,SUM($H$25:H140),IF(A140>$D$8,\"\",F141+G141))","v":""},"","",null,"","","",null,{"$f":"IF(A140=$D$8,XIRR(H$24:H140,C$24:C140),\"\")","v":""},"",0,{"$error":"#VALUE!"},{"$error":"#VALUE!"},{"$error":"#VALUE!"},{"$error":"#VALUE!"},{"$error":"#VALUE!"}]
["",""," ","","",{"$f":"IF(AND(A141=\"\",A143=\"\"),\"\",IF(A142=\"\",ROUND(SUM($F$25:F141),2),IF(A142=$D$8,$E$24-ROUND(SUM($F$25:F141),2),ROUND($E$24/$D$8,2))))","v":""},{"$f":"IF(A141=$D$8,ROUND(SUM($G$25:G141),2),IF(A142>$D$8,\"\",IF(T142<>T141,ROUND(SUM(V142*$D$9*E141/T142,W142*$D$9*E141/T141),2),ROUND(E141*$D$9*D142/T141,2))))","v":""},{"$f":"IF(A141=$D$8,SUM($H$25:H141),IF(A141>$D$8,\"\",F142+G142))","v":""},"","",null,"","","",null,{"$f":"IF(A141=$D$8,XIRR(H$24:H141,C$24:C141),\"\")","v":""},"",0,{"$error":"#VALUE!"},{"$error":"#VALUE!"},{"$error":"#VALUE!"},{"$error":"#VALUE!"},{"$error":"#VALUE!"}]
["",""," ","","",{"$f":"IF(AND(A142=\"\",A144=\"\"),\"\",IF(A143=\"\",ROUND(SUM($F$25:F142),2),IF(A143=$D$8,$E$24-ROUND(SUM($F$25:F142),2),ROUND($E$24/$D$8,2))))","v":""},{"$f":"IF(A142=$D$8,ROUND(SUM($G$25:G142),2),IF(A143>$D$8,\"\",IF(T143<>T142,ROUND(SUM(V143*$D$9*E142/T143,W143*$D$9*E142/T142),2),ROUND(E142*$D$9*D143/T142,2))))","v":""},{"$f":"IF(A142=$D$8,SUM($H$25:H142),IF(A142>$D$8,\"\",F143+G143))","v":""},"","",null,"","","",null,{"$f":"IF(A142=$D$8,XIRR(H$24:H142,C$24:C142),\"\")","v":""},"",0,{"$error":"#VALUE!"},{"$error":"#VALUE!"},{"$error":"#VALUE!"},{"$error":"#VALUE!"},{"$error":"#VALUE!"}]
["",""," ","","",{"$f":"IF(AND(A143=\"\",A145=\"\"),\"\",IF(A144=\"\",ROUND(SUM($F$25:F143),2),IF(A144=$D$8,$E$24-ROUND(SUM($F$25:F143),2),ROUND($E$24/$D$8,2))))","v":""},{"$f":"IF(A143=$D$8,ROUND(SUM($G$25:G143),2),IF(A144>$D$8,\"\",IF(T144<>T143,ROUND(SUM(V144*$D$9*E143/T144,W144*$D$9*E143/T143),2),ROUND(E143*$D$9*D144/T143,2))))","v":""},{"$f":"IF(A143=$D$8,SUM($H$25:H143),IF(A143>$D$8,\"\",F144+G144))","v":""},"","",null,"","","",null,{"$f":"IF(A143=$D$8,XIRR(H$24:H143,C$24:C143),\"\")","v":""},"",0,{"$error":"#VALUE!"},{"$error":"#VALUE!"},{"$error":"#VALUE!"},{"$error":"#VALUE!"},{"$error":"#VALUE!"}]
["",""," ","","",{"$f":"IF(AND(A144=\"\",A146=\"\"),\"\",IF(A145=\"\",ROUND(SUM($F$25:F144),2),IF(A145=$D$8,$E$24-ROUND(SUM($F$25:F144),2),ROUND($E$24/$D$8,2))))","v":""},{"$f":"IF(A144=$D$8,ROUND(SUM($G$25:G144),2),IF(A145>$D$8,\"\",IF(T145<>T144,ROUND(SUM(V145*$D$9*E144/T145,W145*$D$9*E144/T144),2),ROUND(E144*$D$9*D145/T144,2))))","v":""},{"$f":"IF(A144=$D$8,SUM($H$25:H144),IF(A144>$D$8,\"\",F145+G145))","v":""},"",{"$f":"IF($D$8>A144,$N$9,IF($D$8=A144,SUM($J$24:J144),\" \"))","v":" "},{"$f":"IF($D$8>A144,($O$8+$N$10*E144),IF(A144=$D$8,$K$37+$K$24+$K$49+$K$61+$K$73+$K$85+$K$97+$K$109+$K$121+$K$133,\"\"))","v":""},"","","",null,{"$f":"IF(A144=$D$8,XIRR(H$24:H144,C$24:C144),\"\")","v":""},"",0,{"$error":"#VALUE!"},{"$error":"#VALUE!"},{"$error":"#VALUE!"},{"$error":"#VALUE!"},{"$error":"#VALUE!"}]
["",""," ","","",{"$f":"IF(AND(A145=\"\",A147=\"\"),\"\",IF(A146=\"\",ROUND(SUM($F$25:F145),2),IF(A146=$D$8,$E$24-ROUND(SUM($F$25:F145),2),ROUND($E$24/$D$8,2))))","v":""},{"$f":"IF(A145=$D$8,ROUND(SUM($G$25:G145),2),IF(A146>$D$8,\"\",IF(T146<>T145,ROUND(SUM(V146*$D$9*E145/T146,W146*$D$9*E145/T145),2),ROUND(E145*$D$9*D146/T145,2))))","v":""},{"$f":"IF(A145=$D$8,SUM($H$25:H145),IF(A145>$D$8,\"\",F146+G146))","v":""},"",{"$f":"IF(A145=$D$8,$J$24,\"\")","v":""},null,"","","",null,{"$f":"IF(A145=$D$8,XIRR(H$24:H145,C$24:C145),\"\")","v":""},"",0,{"$error":"#VALUE!"},{"$error":"#VALUE!"},{"$error":"#VALUE!"},{"$error":"#VALUE!"},{"$error":"#VALUE!"}]
["",""," ","","",{"$f":"IF(AND(A146=\"\",A148=\"\"),\"\",IF(A147=\"\",ROUND(SUM($F$25:F146),2),IF(A147=$D$8,$E$24-ROUND(SUM($F$25:F146),2),ROUND($E$24/$D$8,2))))","v":""},{"$f":"IF(A146=$D$8,ROUND(SUM($G$25:G146),2),IF(A147>$D$8,\"\",IF(T147<>T146,ROUND(SUM(V147*$D$9*E146/T147,W147*$D$9*E146/T146),2),ROUND(E146*$D$9*D147/T146,2))))","v":""},{"$f":"IF(A146=$D$8,SUM($H$25:H146),IF(A146>$D$8,\"\",F147+G147))","v":""},"","",null,"","","",null,{"$f":"IF(A146=$D$8,XIRR(H$24:H146,C$24:C146),\"\")","v":""},"",0,{"$error":"#VALUE!"},{"$error":"#VALUE!"},{"$error":"#VALUE!"},{"$error":"#VALUE!"},{"$error":"#VALUE!"}]
["",""," ","","",{"$f":"IF(AND(A147=\"\",A149=\"\"),\"\",IF(A148=\"\",ROUND(SUM($F$25:F147),2),IF(A148=$D$8,$E$24-ROUND(SUM($F$25:F147),2),ROUND($E$24/$D$8,2))))","v":""},{"$f":"IF(A147=$D$8,ROUND(SUM($G$25:G147),2),IF(A148>$D$8,\"\",IF(T148<>T147,ROUND(SUM(V148*$D$9*E147/T148,W148*$D$9*E147/T147),2),ROUND(E147*$D$9*D148/T147,2))))","v":""},{"$f":"IF(A147=$D$8,SUM($H$25:H147),IF(A147>$D$8,\"\",F148+G148))","v":""},"","",null,"","","",null,{"$f":"IF(A147=$D$8,XIRR(H$24:H147,C$24:C147),\"\")","v":""},"",0,{"$error":"#VALUE!"},{"$error":"#VALUE!"},{"$error":"#VALUE!"},{"$error":"#VALUE!"},{"$error":"#VALUE!"}]
["",""," ","","",{"$f":"IF(AND(A148=\"\",A150=\"\"),\"\",IF(A149=\"\",ROUND(SUM($F$25:F148),2),IF(A149=$D$8,$E$24-ROUND(SUM($F$25:F148),2),ROUND($E$24/$D$8,2))))","v":""},{"$f":"IF(A148=$D$8,ROUND(SUM($G$25:G148),2),IF(A149>$D$8,\"\",IF(T149<>T148,ROUND(SUM(V149*$D$9*E148/T149,W149*$D$9*E148/T148),2),ROUND(E148*$D$9*D149/T148,2))))","v":""},{"$f":"IF(A148=$D$8,SUM($H$25:H148),IF(A148>$D$8,\"\",F149+G149))","v":""},"","",null,"","","",null,{"$f":"IF(A148=$D$8,XIRR(H$24:H148,C$24:C148),\"\")","v":""},"",0,{"$error":"#VALUE!"},{"$error":"#VALUE!"},{"$error":"#VALUE!"},{"$error":"#VALUE!"},{"$error":"#VALUE!"}]
["",""," ","","",{"$f":"IF(AND(A149=\"\",A151=\"\"),\"\",IF(A150=\"\",ROUND(SUM($F$25:F149),2),IF(A150=$D$8,$E$24-ROUND(SUM($F$25:F149),2),ROUND($E$24/$D$8,2))))","v":""},{"$f":"IF(A149=$D$8,ROUND(SUM($G$25:G149),2),IF(A150>$D$8,\"\",IF(T150<>T149,ROUND(SUM(V150*$D$9*E149/T150,W150*$D$9*E149/T149),2),ROUND(E149*$D$9*D150/T149,2))))","v":""},{"$f":"IF(A149=$D$8,SUM($H$25:H149),IF(A149>$D$8,\"\",F150+G150))","v":""},"","",null,"","","",null,{"$f":"IF(A149=$D$8,XIRR(H$24:H149,C$24:C149),\"\")","v":""},"",0,{"$error":"#VALUE!"},{"$error":"#VALUE!"},{"$error":"#VALUE!"},{"$error":"#VALUE!"},{"$error":"#VALUE!"}]
["",""," ","","",{"$f":"IF(AND(A150=\"\",A152=\"\"),\"\",IF(A151=\"\",ROUND(SUM($F$25:F150),2),IF(A151=$D$8,$E$24-ROUND(SUM($F$25:F150),2),ROUND($E$24/$D$8,2))))","v":""},{"$f":"IF(A150=$D$8,ROUND(SUM($G$25:G150),2),IF(A151>$D$8,\"\",IF(T151<>T150,ROUND(SUM(V151*$D$9*E150/T151,W151*$D$9*E150/T150),2),ROUND(E150*$D$9*D151/T150,2))))","v":""},{"$f":"IF(A150=$D$8,SUM($H$25:H150),IF(A150>$D$8,\"\",F151+G151))","v":""},"","",null,"","","",null,{"$f":"IF(A150=$D$8,XIRR(H$24:H150,C$24:C150),\"\")","v":""},"",0,{"$error":"#VALUE!"},{"$error":"#VALUE!"},{"$error":"#VALUE!"},{"$error":"#VALUE!"},{"$error":"#VALUE!"}]
["",""," ","","",{"$f":"IF(AND(A151=\"\",A153=\"\"),\"\",IF(A152=\"\",ROUND(SUM($F$25:F151),2),IF(A152=$D$8,$E$24-ROUND(SUM($F$25:F151),2),ROUND($E$24/$D$8,2))))","v":""},{"$f":"IF(A151=$D$8,ROUND(SUM($G$25:G151),2),IF(A152>$D$8,\"\",IF(T152<>T151,ROUND(SUM(V152*$D$9*E151/T152,W152*$D$9*E151/T151),2),ROUND(E151*$D$9*D152/T151,2))))","v":""},{"$f":"IF(A151=$D$8,SUM($H$25:H151),IF(A151>$D$8,\"\",F152+G152))","v":""},"","",null,"","","",null,{"$f":"IF(A151=$D$8,XIRR(H$24:H151,C$24:C151),\"\")","v":""},"",0,{"$error":"#VALUE!"},{"$error":"#VALUE!"},{"$error":"#VALUE!"},{"$error":"#VALUE!"},{"$error":"#VALUE!"}]
["",""," ","","",{"$f":"IF(AND(A152=\"\",A154=\"\"),\"\",IF(A153=\"\",ROUND(SUM($F$25:F152),2),IF(A153=$D$8,$E$24-ROUND(SUM($F$25:F152),2),ROUND($E$24/$D$8,2))))","v":""},{"$f":"IF(A152=$D$8,ROUND(SUM($G$25:G152),2),IF(A153>$D$8,\"\",IF(T153<>T152,ROUND(SUM(V153*$D$9*E152/T153,W153*$D$9*E152/T152),2),ROUND(E152*$D$9*D153/T152,2))))","v":""},{"$f":"IF(A152=$D$8,SUM($H$25:H152),IF(A152>$D$8,\"\",F153+G153))","v":""},"","",null,"","","",null,{"$f":"IF(A152=$D$8,XIRR(H$24:H152,C$24:C152),\"\")","v":""},"",0,{"$error":"#VALUE!"},{"$error":"#VALUE!"},{"$error":"#VALUE!"},{"$error":"#VALUE!"},{"$error":"#VALUE!"}]
[{"$f":"IF(A153<$D$8,A153+1,\"\")","v":""},"",{"$f":"IF(B154=$D$10,B154-1,(IF(B154>$D$10,\" \",B154)))","v":" "},"","",{"$f":"IF(AND(A153=\"\",A155=\"\"),\"\",IF(A154=\"\",ROUND(SUM($F$25:F153),2),IF(A154=$D$8,$E$24-ROUND(SUM($F$25:F153),2),ROUND($E$24/$D$8,2))))","v":""},{"$f":"IF(A153=$D$8,ROUND(SUM($G$25:G153),2),IF(A154>$D$8,\"\",IF(T154<>T153,ROUND(SUM(V154*$D$9*E153/T154,W154*$D$9*E153/T153),2),ROUND(E153*$D$9*D154/T153,2))))","v":""},{"$f":"IF(A153=$D$8,SUM($H$25:H153),IF(A153>$D$8,\"\",F154+G154))","v":""},"","",null,"","","",null,{"$f":"IF(A153=$D$8,XIRR(H$24:H153,C$24:C153),\"\")","v":""},"",{"$f":"SUM(H154:Q154)","v":0},{"$f":"IF(C154=\"\",\"\",YEAR(C154))","v":{"$error":"#VALUE!"}},{"$f":"IF(OR(S154=2024,S154=2028,S154=2016,S154=2020,S154=2024,S154=2028,S154=2032,S154=2036,S154=2040),366,365)","v":{"$error":"#VALUE!"}},{"$f":"IF(C154=\"\",\"\",DAY(C154))","v":{"$error":"#VALUE!"}},{"$f":"U154-1","v":{"$error":"#VALUE!"}},{"$f":"D154-V154","v":{"$error":"#VALUE!"}}]
["",""," ","","",{"$f":"IF(AND(A154=\"\",A156=\"\"),\"\",IF(A155=\"\",ROUND(SUM($F$25:F154),2),IF(A155=$D$8,$E$24-ROUND(SUM($F$25:F154),2),ROUND($E$24/$D$8,2))))","v":""},{"$f":"IF(A154=$D$8,ROUND(SUM($G$25:G154),2),IF(A155>$D$8,\"\",IF(T155<>T154,ROUND(SUM(V155*$D$9*E154/T155,W155*$D$9*E154/T154),2),ROUND(E154*$D$9*D155/T154,2))))","v":""},{"$f":"IF(A154=$D$8,SUM($H$25:H154),IF(A154>$D$8,\"\",F155+G155))","v":""},"","",null,"","","",null,{"$f":"IF(A154=$D$8,XIRR(H$24:H154,C$24:C154),\"\")","v":""},{"$f":"IF(A154=$D$8,G155+M155+F155+I155+J155+K155+L155+N155+O155,\"\")","v":""},0,{"$error":"#VALUE!"},{"$error":"#VALUE!"},{"$error":"#VALUE!"},{"$error":"#VALUE!"},{"$error":"#VALUE!"}]
["",""," ","","",{"$f":"IF(AND(A155=\"\",A157=\"\"),\"\",IF(A156=\"\",ROUND(SUM($F$25:F155),2),IF(A156=$D$8,$E$24-ROUND(SUM($F$25:F155),2),ROUND($E$24/$D$8,2))))","v":""},{"$f":"IF(A155=$D$8,ROUND(SUM($G$25:G155),2),IF(A156>$D$8,\"\",IF(T156<>T155,ROUND(SUM(V156*$D$9*E155/T156,W156*$D$9*E155/T155),2),ROUND(E155*$D$9*D156/T155,2))))","v":""},{"$f":"IF(A155=$D$8,SUM($H$25:H155),IF(A155>$D$8,\"\",F156+G156))","v":""},"","",null,"","","",null,{"$f":"IF(A155=$D$8,XIRR(H$24:H155,C$24:C155),\"\")","v":""},"",0,{"$error":"#VALUE!"},{"$error":"#VALUE!"},{"$error":"#VALUE!"},{"$error":"#VALUE!"},{"$error":"#VALUE!"}]
["",""," ","","",{"$f":"IF(AND(A156=\"\",A158=\"\"),\"\",IF(A157=\"\",ROUND(SUM($F$25:F156),2),IF(A157=$D$8,$E$24-ROUND(SUM($F$25:F156),2),ROUND($E$24/$D$8,2))))","v":""},{"$f":"IF(A156=$D$8,ROUND(SUM($G$25:G156),2),IF(A157>$D$8,\"\",IF(T157<>T156,ROUND(SUM(V157*$D$9*E156/T157,W157*$D$9*E156/T156),2),ROUND(E156*$D$9*D157/T156,2))))","v":""},{"$f":"IF(A156=$D$8,SUM($H$25:H156),IF(A156>$D$8,\"\",F157+G157))","v":""},"",{"$f":"IF($D$8>A156,$N$9,IF($D$8=A156,SUM($J$24:J156),\" \"))","v":" "},{"$f":"IF($D$8>A156,($O$8+$N$10*E156),IF(A156=$D$8,$K$37+$K$24+$K$49+$K$61+$K$73+$K$85+$K$97+$K$109+$K$121+$K$133+$K$145,\"\"))","v":""},"","",{"$f":"IF(A156=$D$8,$N$24,\"\")","v":""},null,{"$f":"IF(A156=$D$8,XIRR(H$24:H156,C$24:C156),\"\")","v":""},"",0,{"$error":"#VALUE!"},{"$error":"#VALUE!"},{"$error":"#VALUE!"},{"$error":"#VALUE!"},{"$error":"#VALUE!"}]
["",""," ","","",{"$f":"IF(AND(A157=\"\",A159=\"\"),\"\",IF(A158=\"\",ROUND(SUM($F$25:F157),2),IF(A158=$D$8,$E$24-ROUND(SUM($F$25:F157),2),ROUND($E$24/$D$8,2))))","v":""},{"$f":"IF(A157=$D$8,ROUND(SUM($G$25:G157),2),IF(A158>$D$8,\"\",IF(T158<>T157,ROUND(SUM(V158*$D$9*E157/T158,W158*$D$9*E157/T157),2),ROUND(E157*$D$9*D158/T157,2))))","v":""},{"$f":"IF(A157=$D$8,SUM($H$25:H157),IF(A157>$D$8,\"\",F158+G158))","v":""},"",{"$f":"IF(A157=$D$8,$J$24,\"\")","v":""},null,"",{"$f":"IF(A157=$D$8,$M$24,\"\")","v":""},"",null,{"$f":"IF(A157=$D$8,XIRR(H$24:H157,C$24:C157),\"\")","v":""},"",0,{"$error":"#VALUE!"},{"$error":"#VALUE!"},{"$error":"#VALUE!"},{"$error":"#VALUE!"},{"$error":"#VALUE!"}]
["",""," ","","",{"$f":"IF(AND(A158=\"\",A160=\"\"),\"\",IF(A159=\"\",ROUND(SUM($F$25:F158),2),IF(A159=$D$8,$E$24-ROUND(SUM($F$25:F158),2),ROUND($E$24/$D$8,2))))","v":""},{"$f":"IF(A158=$D$8,ROUND(SUM($G$25:G158),2),IF(A159>$D$8,\"\",IF(T159<>T158,ROUND(SUM(V159*$D$9*E158/T159,W159*$D$9*E158/T158),2),ROUND(E158*$D$9*D159/T158,2))))","v":""},{"$f":"IF(A158=$D$8,SUM($H$25:H158),IF(A158>$D$8,\"\",F159+G159))","v":""},"","",null,"","","",null,{"$f":"IF(A158=$D$8,XIRR(H$24:H158,C$24:C158),\"\")","v":""},"",0,{"$error":"#VALUE!"},{"$error":"#VALUE!"},{"$error":"#VALUE!"},{"$error":"#VALUE!"},{"$error":"#VALUE!"}]
["",""," ","","",{"$f":"IF(AND(A159=\"\",A161=\"\"),\"\",IF(A160=\"\",ROUND(SUM($F$25:F159),2),IF(A160=$D$8,$E$24-ROUND(SUM($F$25:F159),2),ROUND($E$24/$D$8,2))))","v":""},{"$f":"IF(A159=$D$8,ROUND(SUM($G$25:G159),2),IF(A160>$D$8,\"\",IF(T160<>T159,ROUND(SUM(V160*$D$9*E159/T160,W160*$D$9*E159/T159),2),ROUND(E159*$D$9*D160/T159,2))))","v":""},{"$f":"IF(A159=$D$8,SUM($H$25:H159),IF(A159>$D$8,\"\",F160+G160))","v":""},"","",null,"","","",null,{"$f":"IF(A159=$D$8,XIRR(H$24:H159,C$24:C159),\"\")","v":""},"",0,{"$error":"#VALUE!"},{"$error":"#VALUE!"},{"$error":"#VALUE!"},{"$error":"#VALUE!"},{"$error":"#VALUE!"}]
["",""," ","","",{"$f":"IF(AND(A160=\"\",A162=\"\"),\"\",IF(A161=\"\",ROUND(SUM($F$25:F160),2),IF(A161=$D$8,$E$24-ROUND(SUM($F$25:F160),2),ROUND($E$24/$D$8,2))))","v":""},{"$f":"IF(A160=$D$8,ROUND(SUM($G$25:G160),2),IF(A161>$D$8,\"\",IF(T161<>T160,ROUND(SUM(V161*$D$9*E160/T161,W161*$D$9*E160/T160),2),ROUND(E160*$D$9*D161/T160,2))))","v":""},{"$f":"IF(A160=$D$8,SUM($H$25:H160),IF(A160>$D$8,\"\",F161+G161))","v":""},"","",null,"","","",null,{"$f":"IF(A160=$D$8,XIRR(H$24:H160,C$24:C160),\"\")","v":""},"",0,{"$error":"#VALUE!"},{"$error":"#VALUE!"},{"$error":"#VALUE!"},{"$error":"#VALUE!"},{"$error":"#VALUE!"}]
["",""," ","","",{"$f":"IF(AND(A161=\"\",A163=\"\"),\"\",IF(A162=\"\",ROUND(SUM($F$25:F161),2),IF(A162=$D$8,$E$24-ROUND(SUM($F$25:F161),2),ROUND($E$24/$D$8,2))))","v":""},{"$f":"IF(A161=$D$8,ROUND(SUM($G$25:G161),2),IF(A162>$D$8,\"\",IF(T162<>T161,ROUND(SUM(V162*$D$9*E161/T162,W162*$D$9*E161/T161),2),ROUND(E161*$D$9*D162/T161,2))))","v":""},{"$f":"IF(A161=$D$8,SUM($H$25:H161),IF(A161>$D$8,\"\",F162+G162))","v":""},"","",null,"","","",null,{"$f":"IF(A161=$D$8,XIRR(H$24:H161,C$24:C161),\"\")","v":""},"",0,{"$error":"#VALUE!"},{"$error":"#VALUE!"},{"$error":"#VALUE!"},{"$error":"#VALUE!"},{"$error":"#VALUE!"}]
["",""," ","","",{"$f":"IF(AND(A162=\"\",A164=\"\"),\"\",IF(A163=\"\",ROUND(SUM($F$25:F162),2),IF(A163=$D$8,$E$24-ROUND(SUM($F$25:F162),2),ROUND($E$24/$D$8,2))))","v":""},{"$f":"IF(A162=$D$8,ROUND(SUM($G$25:G162),2),IF(A163>$D$8,\"\",IF(T163<>T162,ROUND(SUM(V163*$D$9*E162/T163,W163*$D$9*E162/T162),2),ROUND(E162*$D$9*D163/T162,2))))","v":""},{"$f":"IF(A162=$D$8,SUM($H$25:H162),IF(A162>$D$8,\"\",F163+G163))","v":""},"","",null,"","","",null,{"$f":"IF(A162=$D$8,XIRR(H$24:H162,C$24:C162),\"\")","v":""},"",0,{"$error":"#VALUE!"},{"$error":"#VALUE!"},{"$error":"#VALUE!"},{"$error":"#VALUE!"},{"$error":"#VALUE!"}]
["",""," ","","",{"$f":"IF(AND(A163=\"\",A165=\"\"),\"\",IF(A164=\"\",ROUND(SUM($F$25:F163),2),IF(A164=$D$8,$E$24-ROUND(SUM($F$25:F163),2),ROUND($E$24/$D$8,2))))","v":""},{"$f":"IF(A163=$D$8,ROUND(SUM($G$25:G163),2),IF(A164>$D$8,\"\",IF(T164<>T163,ROUND(SUM(V164*$D$9*E163/T164,W164*$D$9*E163/T163),2),ROUND(E163*$D$9*D164/T163,2))))","v":""},{"$f":"IF(A163=$D$8,SUM($H$25:H163),IF(A163>$D8,\"\",F164+G164))","v":""},"","",null,"","","",null,{"$f":"IF(A163=$D$8,XIRR(H$24:H163,C$24:C163),\"\")","v":""},"",0,{"$error":"#VALUE!"},{"$error":"#VALUE!"},{"$error":"#VALUE!"},{"$error":"#VALUE!"},{"$error":"#VALUE!"}]
["",""," ",{"$f":"IF(A165>$D$8,\"\",C165-C164)","v":""},{"$f":"IF(A165>$D$8,\"\",E164-F165)","v":""},{"$f":"IF(AND(A164=\"\",A166=\"\"),\"\",IF(A165=\"\",ROUND(SUM($F$25:F164),2),IF(A165=$D$8,$E$24-ROUND(SUM($F$25:F164),2),ROUND($E$24/$D$8,2))))","v":""},{"$f":"IF(A164=$D$8,ROUND(SUM($G$25:G164),2),IF(A165>$D$8,\"\",IF(T165<>T164,ROUND(SUM(V165*$D$9*E164/T165,W165*$D$9*E164/T164),2),ROUND(E164*$D$9*D165/T164,2))))","v":""},{"$f":"IF(A164=$D$8,SUM($H$25:H164),IF(A164>$D$8,\"\",F165+G165))","v":""},"","",null,"","","",null,{"$f":"IF(A164=$D$8,XIRR(H$24:H164,C$24:C164),\"\")","v":""},"",0,{"$error":"#VALUE!"},{"$error":"#VALUE!"},{"$error":"#VALUE!"},{"$error":"#VALUE!"},{"$error":"#VALUE!"}]
["",{"$f":"IF(A166=\"\",\"\",EDATE($B$24,A166))","v":""}," ","","",{"$f":"IF(AND(A165=\"\",A167=\"\"),\"\",IF(A166=\"\",ROUND(SUM($F$25:F165),2),IF(A166=$D$8,$E$24-ROUND(SUM($F$25:F165),2),ROUND($E$24/$D$8,2))))","v":""},{"$f":"IF(A165=$D$8,ROUND(SUM($G$25:G165),2),IF(A166>$D$8,\"\",IF(T166<>T165,ROUND(SUM(V166*$D$9*E165/T166,W166*$D$9*E165/T165),2),ROUND(E165*$D$9*D166/T165,2))))","v":""},{"$f":"IF(A165=$D$8,SUM($H$25:H165),IF(A165>$D$8,\"\",F166+G166))","v":""},{"$f":"IF(A165=$D$8,$I$24,\"\")","v":""},"",null,{"$f":"IF(A165=$D$8,$L$24,\"\")","v":""},"","",null,{"$f":"IF(A165=$D$8,XIRR(H$24:H165,C$24:C165),\"\")","v":""},"",0,{"$error":"#VALUE!"},{"$error":"#VALUE!"},{"$error":"#VALUE!"},{"$error":"#VALUE!"},{"$error":"#VALUE!"}]
["",""," ","","",{"$f":"IF(AND(A166=\"\",A168=\"\"),\"\",IF(A167=\"\",ROUND(SUM($F$25:F166),2),IF(A167=$D$8,$E$24-ROUND(SUM($F$25:F166),2),ROUND($E$24/$D$8,2))))","v":""},{"$f":"IF(A166=$D$8,ROUND(SUM($G$25:G166),2),IF(A167>$D$8,\"\",IF(T167<>T166,ROUND(SUM(V167*$D$9*E166/T167,W167*$D$9*E166/T166),2),ROUND(E166*$D$9*D167/T166,2))))","v":""},{"$f":"IF(A166=$D$8,SUM($H$25:H166),IF(A166>$D$8,\"\",F167+G167))","v":""},"","",null,"","","",null,{"$f":"IF(A166=$D$8,XIRR(H$24:H166,C$24:C166),\"\")","v":""},"",0,{"$error":"#VALUE!"},{"$error":"#VALUE!"},{"$error":"#VALUE!"},{"$error":"#VALUE!"},{"$error":"#VALUE!"}]
["",""," ","","",{"$f":"IF(AND(A167=\"\",A169=\"\"),\"\",IF(A168=\"\",ROUND(SUM($F$25:F167),2),IF(A168=$D$8,$E$24-ROUND(SUM($F$25:F167),2),ROUND($E$24/$D$8,2))))","v":""},{"$f":"IF(A167=$D$8,ROUND(SUM($G$25:G167),2),IF(A168>$D$8,\"\",IF(T168<>T167,ROUND(SUM(V168*$D$9*E167/T168,W168*$D$9*E167/T167),2),ROUND(E167*$D$9*D168/T167,2))))","v":""},{"$f":"IF(A167=$D$8,SUM($H$25:H167),IF(A167>$D$8,\"\",F168+G168))","v":""},"","",null,"","","",null,{"$f":"IF(A167=$D$8,XIRR(H$24:H167,C$24:C167),\"\")","v":""},"",0,{"$error":"#VALUE!"},{"$error":"#VALUE!"},{"$error":"#VALUE!"},{"$error":"#VALUE!"},{"$error":"#VALUE!"}]
["",""," ","","",{"$f":"IF(AND(A168=\"\",A170=\"\"),\"\",IF(A169=\"\",ROUND(SUM($F$25:F168),2),IF(A169=$D$8,$E$24-ROUND(SUM($F$25:F168),2),ROUND($E$24/$D$8,2))))","v":""},{"$f":"IF(A168=$D$8,ROUND(SUM($G$25:G168),2),IF(A169>$D$8,\"\",IF(T169<>T168,ROUND(SUM(V169*$D$9*E168/T169,W169*$D$9*E168/T168),2),ROUND(E168*$D$9*D169/T168,2))))","v":""},{"$f":"IF(A168=$D$8,SUM($H$25:H168),IF(A168>$D$8,\"\",F169+G169))","v":""},"",{"$f":"IF($D$8>A168,$N$9,IF($D$8=A168,SUM($J$24:J168),\" \"))","v":" "},{"$f":"IF($D$8>A168,($O$8+$N$10*E168),IF(A168=$D$8,$K$37+$K$24+$K$49+$K$61+$K$73+$K$85+$K$97+$K$109+$K$121+$K$133+$K$145+$K$157,\"\"))","v":""},"","","",null,{"$f":"IF(A168=$D$8,XIRR(H$24:H168,C$24:C168),\"\")","v":""},"",0,{"$error":"#VALUE!"},{"$error":"#VALUE!"},{"$error":"#VALUE!"},{"$error":"#VALUE!"},{"$error":"#VALUE!"}]
["",""," ","","",{"$f":"IF(AND(A169=\"\",A171=\"\"),\"\",IF(A170=\"\",ROUND(SUM($F$25:F169),2),IF(A170=$D$8,$E$24-ROUND(SUM($F$25:F169),2),ROUND($E$24/$D$8,2))))","v":""},{"$f":"IF(A169=$D$8,ROUND(SUM($G$25:G169),2),IF(A170>$D$8,\"\",IF(T170<>T169,ROUND(SUM(V170*$D$9*E169/T170,W170*$D$9*E169/T169),2),ROUND(E169*$D$9*D170/T169,2))))","v":""},{"$f":"IF(A169=$D$8,SUM($H$25:H169),IF(A169>$D$8,\"\",F170+G170))","v":""},"",{"$f":"IF(A169=$D$8,$J$24,\"\")","v":""},null,"","","",null,{"$f":"IF(A169=$D$8,XIRR(H$24:H169,C$24:C169),\"\")","v":""},"",0,{"$error":"#VALUE!"},{"$error":"#VALUE!"},{"$error":"#VALUE!"},{"$error":"#VALUE!"},{"$error":"#VALUE!"}]
["",""," ","","",{"$f":"IF(AND(A170=\"\",A172=\"\"),\"\",IF(A171=\"\",ROUND(SUM($F$25:F170),2),IF(A171=$D$8,$E$24-ROUND(SUM($F$25:F170),2),ROUND($E$24/$D$8,2))))","v":""},{"$f":"IF(A170=$D$8,ROUND(SUM($G$25:G170),2),IF(A171>$D$8,\"\",IF(T171<>T170,ROUND(SUM(V171*$D$9*E170/T171,W171*$D$9*E170/T170),2),ROUND(E170*$D$9*D171/T170,2))))","v":""},{"$f":"IF(A170=$D$8,SUM($H$25:H170),IF(A170>$D$8,\"\",F171+G171))","v":""},"","",null,"","","",null,{"$f":"IF(A170=$D$8,XIRR(H$24:H170,C$24:C170),\"\")","v":""},"",0,{"$error":"#VALUE!"},{"$error":"#VALUE!"},{"$error":"#VALUE!"},{"$error":"#VALUE!"},{"$error":"#VALUE!"}]
["",""," ","","",{"$f":"IF(AND(A171=\"\",A173=\"\"),\"\",IF(A172=\"\",ROUND(SUM($F$25:F171),2),IF(A172=$D$8,$E$24-ROUND(SUM($F$25:F171),2),ROUND($E$24/$D$8,2))))","v":""},{"$f":"IF(A171=$D$8,ROUND(SUM($G$25:G171),2),IF(A172>$D$8,\"\",IF(T172<>T171,ROUND(SUM(V172*$D$9*E171/T172,W172*$D$9*E171/T171),2),ROUND(E171*$D$9*D172/T171,2))))","v":""},{"$f":"IF(A171=$D$8,SUM($H$25:H171),IF(A171>$D$8,\"\",F172+G172))","v":""},"","",null,"","","",null,{"$f":"IF(A171=$D$8,XIRR(H$24:H171,C$24:C171),\"\")","v":""},"",0,{"$error":"#VALUE!"},{"$error":"#VALUE!"},{"$error":"#VALUE!"},{"$error":"#VALUE!"},{"$error":"#VALUE!"}]
["",""," ","","",{"$f":"IF(AND(A172=\"\",A174=\"\"),\"\",IF(A173=\"\",ROUND(SUM($F$25:F172),2),IF(A173=$D$8,$E$24-ROUND(SUM($F$25:F172),2),ROUND($E$24/$D$8,2))))","v":""},{"$f":"IF(A172=$D$8,ROUND(SUM($G$25:G172),2),IF(A173>$D$8,\"\",IF(T173<>T172,ROUND(SUM(V173*$D$9*E172/T173,W173*$D$9*E172/T172),2),ROUND(E172*$D$9*D173/T172,2))))","v":""},{"$f":"IF(A172=$D$8,SUM($H$25:H172),IF(A172>$D$8,\"\",F173+G173))","v":""},"","",null,"","","",null,{"$f":"IF(A172=$D$8,XIRR(H$24:H172,C$24:C172),\"\")","v":""},"",0,{"$error":"#VALUE!"},{"$error":"#VALUE!"},{"$error":"#VALUE!"},{"$error":"#VALUE!"},{"$error":"#VALUE!"}]
["",""," ","","",{"$f":"IF(AND(A173=\"\",A175=\"\"),\"\",IF(A174=\"\",ROUND(SUM($F$25:F173),2),IF(A174=$D$8,$E$24-ROUND(SUM($F$25:F173),2),ROUND($E$24/$D$8,2))))","v":""},{"$f":"IF(A173=$D$8,ROUND(SUM($G$25:G173),2),IF(A174>$D$8,\"\",IF(T174<>T173,ROUND(SUM(V174*$D$9*E173/T174,W174*$D$9*E173/T173),2),ROUND(E173*$D$9*D174/T173,2))))","v":""},{"$f":"IF(A173=$D$8,SUM($H$25:H173),IF(A173>$D$8,\"\",F174+G174))","v":""},"","",null,"","","",null,{"$f":"IF(A173=$D$8,XIRR(H$24:H173,C$24:C173),\"\")","v":""},"",0,{"$error":"#VALUE!"},{"$error":"#VALUE!"},{"$error":"#VALUE!"},{"$error":"#VALUE!"},{"$error":"#VALUE!"}]
["",""," ","","",{"$f":"IF(AND(A174=\"\",A176=\"\"),\"\",IF(A175=\"\",ROUND(SUM($F$25:F174),2),IF(A175=$D$8,$E$24-ROUND(SUM($F$25:F174),2),ROUND($E$24/$D$8,2))))","v":""},{"$f":"IF(A174=$D$8,ROUND(SUM($G$25:G174),2),IF(A175>$D$8,\"\",IF(T175<>T174,ROUND(SUM(V175*$D$9*E174/T175,W175*$D$9*E174/T174),2),ROUND(E174*$D$9*D175/T174,2))))","v":""},{"$f":"IF(A174=$D$8,SUM($H$25:H174),IF(A174>$D$8,\"\",F175+G175))","v":""},"","",null,"","","",null,{"$f":"IF(A174=$D$8,XIRR(H$24:H174,C$24:C174),\"\")","v":""},"",0,{"$error":"#VALUE!"},{"$error":"#VALUE!"},{"$error":"#VALUE!"},{"$error":"#VALUE!"},{"$error":"#VALUE!"}]
["",""," ","","",{"$f":"IF(AND(A175=\"\",A177=\"\"),\"\",IF(A176=\"\",ROUND(SUM($F$25:F175),2),IF(A176=$D$8,$E$24-ROUND(SUM($F$25:F175),2),ROUND($E$24/$D$8,2))))","v":""},{"$f":"IF(A175=$D$8,ROUND(SUM($G$25:G175),2),IF(A176>$D$8,\"\",IF(T176<>T175,ROUND(SUM(V176*$D$9*E175/T176,W176*$D$9*E175/T175),2),ROUND(E175*$D$9*D176/T175,2))))","v":""},{"$f":"IF(A175=$D$8,SUM($H$25:H175),IF(A175>$D$8,\"\",F176+G176))","v":""},"","",null,"","","",null,{"$f":"IF(A175=$D$8,XIRR(H$24:H175,C$24:C175),\"\")","v":""},"",0,{"$error":"#VALUE!"},{"$error":"#VALUE!"},{"$error":"#VALUE!"},{"$error":"#VALUE!"},{"$error":"#VALUE!"}]
["",""," ","","",{"$f":"IF(AND(A176=\"\",A178=\"\"),\"\",IF(A177=\"\",ROUND(SUM($F$25:F176),2),IF(A177=$D$8,$E$24-ROUND(SUM($F$25:F176),2),ROUND($E$24/$D$8,2))))","v":""},{"$f":"IF(A176=$D$8,ROUND(SUM($G$25:G176),2),IF(A177>$D$8,\"\",IF(T177<>T176,ROUND(SUM(V177*$D$9*E176/T177,W177*$D$9*E176/T176),2),ROUND(E176*$D$9*D177/T176,2))))","v":""},{"$f":"IF(A176=$D$8,SUM($H$25:H176),IF(A176>$D$8,\"\",F177+G177))","v":""},"","",null,"","","",null,{"$f":"IF(A176=$D$8,XIRR(H$24:H176,C$24:C176),\"\")","v":""},"",0,{"$error":"#VALUE!"},{"$error":"#VALUE!"},{"$error":"#VALUE!"},{"$error":"#VALUE!"},{"$error":"#VALUE!"}]
["",""," ","","",{"$f":"IF(AND(A177=\"\",A179=\"\"),\"\",IF(A178=\"\",ROUND(SUM($F$25:F177),2),IF(A178=$D$8,$E$24-ROUND(SUM($F$25:F177),2),ROUND($E$24/$D$8,2))))","v":""},{"$f":"IF(A177=$D$8,ROUND(SUM($G$25:G177),2),IF(A178>$D$8,\"\",IF(T178<>T177,ROUND(SUM(V178*$D$9*E177/T178,W178*$D$9*E177/T177),2),ROUND(E177*$D$9*D178/T177,2))))","v":""},{"$f":"IF(A177=$D$8,SUM($H$25:H177),IF(A177>$D$8,\"\",F178+G178))","v":""},"","",null,"","","",null,{"$f":"IF(A177=$D$8,XIRR(H$24:H177,C$24:C177),\"\")","v":""},"",0,{"$error":"#VALUE!"},{"$error":"#VALUE!"},{"$error":"#VALUE!"},{"$error":"#VALUE!"},{"$error":"#VALUE!"}]
["",""," ","","",{"$f":"IF(AND(A178=\"\",A180=\"\"),\"\",IF(A179=\"\",ROUND(SUM($F$25:F178),2),IF(A179=$D$8,$E$24-ROUND(SUM($F$25:F178),2),ROUND($E$24/$D$8,2))))","v":""},{"$f":"IF(A178=$D$8,ROUND(SUM($G$25:G178),2),IF(A179>$D$8,\"\",IF(T179<>T178,ROUND(SUM(V179*$D$9*E178/T179,W179*$D$9*E178/T178),2),ROUND(E178*$D$9*D179/T178,2))))","v":""},{"$f":"IF(A178=$D$8,SUM($H$25:H178),IF(A178>$D$8,\"\",F179+G179))","v":""},"","",null,"","","",null,{"$f":"IF(A178=$D$8,XIRR(H$24:H178,C$24:C178),\"\")","v":""},"",0,{"$error":"#VALUE!"},{"$error":"#VALUE!"},{"$error":"#VALUE!"},{"$error":"#VALUE!"},{"$error":"#VALUE!"}]
["",""," ","","",{"$f":"IF(AND(A179=\"\",A181=\"\"),\"\",IF(A180=\"\",ROUND(SUM($F$25:F179),2),IF(A180=$D$8,$E$24-ROUND(SUM($F$25:F179),2),ROUND($E$24/$D$8,2))))","v":""},{"$f":"IF(A179=$D$8,ROUND(SUM($G$25:G179),2),IF(A180>$D$8,\"\",IF(T180<>T179,ROUND(SUM(V180*$D$9*E179/T180,W180*$D$9*E179/T179),2),ROUND(E179*$D$9*D180/T179,2))))","v":""},{"$f":"IF(A179=$D$8,SUM($H$25:H179),IF(A179>$D$8,\"\",F180+G180))","v":""},"","",null,"","","",null,{"$f":"IF(A179=$D$8,XIRR(H$24:H179,C$24:C179),\"\")","v":""},"",0,{"$error":"#VALUE!"},{"$error":"#VALUE!"},{"$error":"#VALUE!"},{"$error":"#VALUE!"},{"$error":"#VALUE!"}]
["",""," ","","",{"$f":"IF(AND(A180=\"\",A182=\"\"),\"\",IF(A181=\"\",ROUND(SUM($F$25:F180),2),IF(A181=$D$8,$E$24-ROUND(SUM($F$25:F180),2),ROUND($E$24/$D$8,2))))","v":""},{"$f":"IF(A180=$D$8,ROUND(SUM($G$25:G180),2),IF(A181>$D$8,\"\",IF(T181<>T180,ROUND(SUM(V181*$D$9*E180/T181,W181*$D$9*E180/T180),2),ROUND(E180*$D$9*D181/T180,2))))","v":""},{"$f":"IF(A180=$D$8,SUM($H$25:H180),IF(A180>$D$8,\"\",F181+G181))","v":""},"",{"$f":"IF($D$8>A180,$N$9,IF($D$8=A180,SUM($J$24:J180),\" \"))","v":" "},{"$f":"IF($D$8>A180,($O$8+$N$10*E180),IF(A180=$D$8,$K$37+$K$24+$K$49+$K$61+$K$73+$K$85+$K$97+$K$109+$K$121+$K$133+$K$145+$K$157+$K$169,\"\"))","v":""},"","","",null,{"$f":"IF(A180=$D$8,XIRR(H$24:H180,C$24:C180),\"\")","v":""},"",0,{"$error":"#VALUE!"},{"$error":"#VALUE!"},{"$error":"#VALUE!"},{"$error":"#VALUE!"},{"$error":"#VALUE!"}]
["",""," ","","",{"$f":"IF(AND(A181=\"\",A183=\"\"),\"\",IF(A182=\"\",ROUND(SUM($F$25:F181),2),IF(A182=$D$8,$E$24-ROUND(SUM($F$25:F181),2),ROUND($E$24/$D$8,2))))","v":""},{"$f":"IF(A181=$D$8,ROUND(SUM($G$25:G181),2),IF(A182>$D$8,\"\",IF(T182<>T181,ROUND(SUM(V182*$D$9*E181/T182,W182*$D$9*E181/T181),2),ROUND(E181*$D$9*D182/T181,2))))","v":""},{"$f":"IF(A181=$D$8,SUM($H$25:H181),IF(A181>$D$8,\"\",F182+G182))","v":""},"",{"$f":"IF(A181=$D$8,$J$24,\"\")","v":""},null,"","","",null,{"$f":"IF(A181=$D$8,XIRR(H$24:H181,C$24:C181),\"\")","v":""},"",0,{"$error":"#VALUE!"},{"$error":"#VALUE!"},{"$error":"#VALUE!"},{"$error":"#VALUE!"},{"$error":"#VALUE!"}]
["",""," ","","",{"$f":"IF(AND(A182=\"\",A184=\"\"),\"\",IF(A183=\"\",ROUND(SUM($F$25:F182),2),IF(A183=$D$8,$E$24-ROUND(SUM($F$25:F182),2),ROUND($E$24/$D$8,2))))","v":""},{"$f":"IF(A182=$D$8,ROUND(SUM($G$25:G182),2),IF(A183>$D$8,\"\",IF(T183<>T182,ROUND(SUM(V183*$D$9*E182/T183,W183*$D$9*E182/T182),2),ROUND(E182*$D$9*D183/T182,2))))","v":""},{"$f":"IF(A182=$D$8,SUM($H$25:H182),IF(A182>$D$8,\"\",F183+G183))","v":""},"","",null,"","","",null,{"$f":"IF(A182=$D$8,XIRR(H$24:H182,C$24:C182),\"\")","v":""},"",0,{"$error":"#VALUE!"},{"$error":"#VALUE!"},{"$error":"#VALUE!"},{"$error":"#VALUE!"},{"$error":"#VALUE!"}]
["",""," ","","",{"$f":"IF(AND(A183=\"\",A185=\"\"),\"\",IF(A184=\"\",ROUND(SUM($F$25:F183),2),IF(A184=$D$8,$E$24-ROUND(SUM($F$25:F183),2),ROUND($E$24/$D$8,2))))","v":""},{"$f":"IF(A183=$D$8,ROUND(SUM($G$25:G183),2),IF(A184>$D$8,\"\",IF(T184<>T183,ROUND(SUM(V184*$D$9*E183/T184,W184*$D$9*E183/T183),2),ROUND(E183*$D$9*D184/T183,2))))","v":""},{"$f":"IF(A183=$D$8,SUM($H$25:H183),IF(A183>$D$8,\"\",F184+G184))","v":""},"","",null,"","","",null,{"$f":"IF(A183=$D$8,XIRR(H$24:H183,C$24:C183),\"\")","v":""},"",0,{"$error":"#VALUE!"},{"$error":"#VALUE!"},{"$error":"#VALUE!"},{"$error":"#VALUE!"},{"$error":"#VALUE!"}]
["",""," ","","",{"$f":"IF(AND(A184=\"\",A186=\"\"),\"\",IF(A185=\"\",ROUND(SUM($F$25:F184),2),IF(A185=$D$8,$E$24-ROUND(SUM($F$25:F184),2),ROUND($E$24/$D$8,2))))","v":""},{"$f":"IF(A184=$D$8,ROUND(SUM($G$25:G184),2),IF(A185>$D$8,\"\",IF(T185<>T184,ROUND(SUM(V185*$D$9*E184/T185,W185*$D$9*E184/T184),2),ROUND(E184*$D$9*D185/T184,2))))","v":""},{"$f":"IF(A184=$D$8,SUM($H$25:H184),IF(A184>$D$8,\"\",F185+G185))","v":""},"","",null,"","","",null,{"$f":"IF(A184=$D$8,XIRR(H$24:H184,C$24:C184),\"\")","v":""},"",0,{"$error":"#VALUE!"},{"$error":"#VALUE!"},{"$error":"#VALUE!"},{"$error":"#VALUE!"},{"$error":"#VALUE!"}]
["",""," ","","",{"$f":"IF(AND(A185=\"\",A187=\"\"),\"\",IF(A186=\"\",ROUND(SUM($F$25:F185),2),IF(A186=$D$8,$E$24-ROUND(SUM($F$25:F185),2),ROUND($E$24/$D$8,2))))","v":""},{"$f":"IF(A185=$D$8,ROUND(SUM($G$25:G185),2),IF(A186>$D$8,\"\",IF(T186<>T185,ROUND(SUM(V186*$D$9*E185/T186,W186*$D$9*E185/T185),2),ROUND(E185*$D$9*D186/T185,2))))","v":""},{"$f":"IF(A185=$D$8,SUM($H$25:H185),IF(A185>$D$8,\"\",F186+G186))","v":""},"","",null,"","","",null,{"$f":"IF(A185=$D$8,XIRR(H$24:H185,C$24:C185),\"\")","v":""},"",0,{"$error":"#VALUE!"},{"$error":"#VALUE!"},{"$error":"#VALUE!"},{"$error":"#VALUE!"},{"$error":"#VALUE!"}]
["",""," ","","",{"$f":"IF(AND(A186=\"\",A188=\"\"),\"\",IF(A187=\"\",ROUND(SUM($F$25:F186),2),IF(A187=$D$8,$E$24-ROUND(SUM($F$25:F186),2),ROUND($E$24/$D$8,2))))","v":""},{"$f":"IF(A186=$D$8,ROUND(SUM($G$25:G186),2),IF(A187>$D$8,\"\",IF(T187<>T186,ROUND(SUM(V187*$D$9*E186/T187,W187*$D$9*E186/T186),2),ROUND(E186*$D$9*D187/T186,2))))","v":""},{"$f":"IF(A186=$D$8,SUM($H$25:H186),IF(A186>$D$8,\"\",F187+G187))","v":""},"","",null,"","","",null,{"$f":"IF(A186=$D$8,XIRR(H$24:H186,C$24:C186),\"\")","v":""},"",0,{"$error":"#VALUE!"},{"$error":"#VALUE!"},{"$error":"#VALUE!"},{"$error":"#VALUE!"},{"$error":"#VALUE!"}]
["",""," ","","",{"$f":"IF(AND(A187=\"\",A189=\"\"),\"\",IF(A188=\"\",ROUND(SUM($F$25:F187),2),IF(A188=$D$8,$E$24-ROUND(SUM($F$25:F187),2),ROUND($E$24/$D$8,2))))","v":""},{"$f":"IF(A187=$D$8,ROUND(SUM($G$25:G187),2),IF(A188>$D$8,\"\",IF(T188<>T187,ROUND(SUM(V188*$D$9*E187/T188,W188*$D$9*E187/T187),2),ROUND(E187*$D$9*D188/T187,2))))","v":""},{"$f":"IF(A187=$D$8,SUM($H$25:H187),IF(A187>$D$8,\"\",F188+G188))","v":""},"","",null,"","","",null,{"$f":"IF(A187=$D$8,XIRR(H$24:H187,C$24:C187),\"\")","v":""},"",0,{"$error":"#VALUE!"},{"$error":"#VALUE!"},{"$error":"#VALUE!"},{"$error":"#VALUE!"},{"$error":"#VALUE!"}]
["",""," ","","",{"$f":"IF(AND(A188=\"\",A190=\"\"),\"\",IF(A189=\"\",ROUND(SUM($F$25:F188),2),IF(A189=$D$8,$E$24-ROUND(SUM($F$25:F188),2),ROUND($E$24/$D$8,2))))","v":""},{"$f":"IF(A188=$D$8,ROUND(SUM($G$25:G188),2),IF(A189>$D$8,\"\",IF(T189<>T188,ROUND(SUM(V189*$D$9*E188/T189,W189*$D$9*E188/T188),2),ROUND(E188*$D$9*D189/T188,2))))","v":""},{"$f":"IF(A188=$D$8,SUM($H$25:H188),IF(A188>$D$8,\"\",F189+G189))","v":""},"","",null,"","","",null,{"$f":"IF(A188=$D$8,XIRR(H$24:H188,C$24:C188),\"\")","v":""},"",0,{"$error":"#VALUE!"},{"$error":"#VALUE!"},{"$error":"#VALUE!"},{"$error":"#VALUE!"},{"$error":"#VALUE!"}]
["",""," ","","",{"$f":"IF(AND(A189=\"\",A191=\"\"),\"\",IF(A190=\"\",ROUND(SUM($F$25:F189),2),IF(A190=$D$8,$E$24-ROUND(SUM($F$25:F189),2),ROUND($E$24/$D$8,2))))","v":""},{"$f":"IF(A189=$D$8,ROUND(SUM($G$25:G189),2),IF(A190>$D$8,\"\",IF(T190<>T189,ROUND(SUM(V190*$D$9*E189/T190,W190*$D$9*E189/T189),2),ROUND(E189*$D$9*D190/T189,2))))","v":""},{"$f":"IF(A189=$D$8,SUM($H$25:H189),IF(A189>$D$8,\"\",F190+G190))","v":""},"","",null,"","","",null,{"$f":"IF(A189=$D$8,XIRR(H$24:H189,C$24:C189),\"\")","v":""},"",0,{"$error":"#VALUE!"},{"$error":"#VALUE!"},{"$error":"#VALUE!"},{"$error":"#VALUE!"},{"$error":"#VALUE!"}]
["",""," ","","",{"$f":"IF(AND(A190=\"\",A192=\"\"),\"\",IF(A191=\"\",ROUND(SUM($F$25:F190),2),IF(A191=$D$8,$E$24-ROUND(SUM($F$25:F190),2),ROUND($E$24/$D$8,2))))","v":""},{"$f":"IF(A190=$D$8,ROUND(SUM($G$25:G190),2),IF(A191>$D$8,\"\",IF(T191<>T190,ROUND(SUM(V191*$D$9*E190/T191,W191*$D$9*E190/T190),2),ROUND(E190*$D$9*D191/T190,2))))","v":""},{"$f":"IF(A190=$D$8,SUM($H$25:H190),IF(A190>$D$8,\"\",F191+G191))","v":""},"","",null,"","","",null,{"$f":"IF(A190=$D$8,XIRR(H$24:H190,C$24:C190),\"\")","v":""},"",0,{"$error":"#VALUE!"},{"$error":"#VALUE!"},{"$error":"#VALUE!"},{"$error":"#VALUE!"},{"$error":"#VALUE!"}]
["",""," ","","",{"$f":"IF(AND(A191=\"\",A193=\"\"),\"\",IF(A192=\"\",ROUND(SUM($F$25:F191),2),IF(A192=$D$8,$E$24-ROUND(SUM($F$25:F191),2),ROUND($E$24/$D$8,2))))","v":""},{"$f":"IF(A191=$D$8,ROUND(SUM($G$25:G191),2),IF(A192>$D$8,\"\",IF(T192<>T191,ROUND(SUM(V192*$D$9*E191/T192,W192*$D$9*E191/T191),2),ROUND(E191*$D$9*D192/T191,2))))","v":""},{"$f":"IF(A191=$D$8,SUM($H$25:H191),IF(A191>$D$8,\"\",F192+G192))","v":""},"","",null,"","","",null,{"$f":"IF(A191=$D$8,XIRR(H$24:H191,C$24:C191),\"\")","v":""},"",0,{"$error":"#VALUE!"},{"$error":"#VALUE!"},{"$error":"#VALUE!"},{"$error":"#VALUE!"},{"$error":"#VALUE!"}]
["",""," ","","",{"$f":"IF(AND(A192=\"\",A194=\"\"),\"\",IF(A193=\"\",ROUND(SUM($F$25:F192),2),IF(A193=$D$8,$E$24-ROUND(SUM($F$25:F192),2),ROUND($E$24/$D$8,2))))","v":""},{"$f":"IF(A192=$D$8,ROUND(SUM($G$25:G192),2),IF(A193>$D$8,\"\",IF(T193<>T192,ROUND(SUM(V193*$D$9*E192/T193,W193*$D$9*E192/T192),2),ROUND(E192*$D$9*D193/T192,2))))","v":""},{"$f":"IF(A192=$D$8,SUM($H$25:H192),IF(A192>$D$8,\"\",F193+G193))","v":""},"",{"$f":"IF($D$8>A192,$N$9,IF($D$8=A192,SUM($J$24:J192),\" \"))","v":" "},{"$f":"IF($D$8>A192,($O$8+$N$10*E192),IF(A192=$D$8,$K$37+$K$24+$K$49+$K$61+$K$73+$K$85+$K$97+$K$109+$K$121+$K$133+$K$145+$K$157+$K$169+$K$181,\"\"))","v":""},"","","",null,{"$f":"IF(A192=$D$8,XIRR(H$24:H192,C$24:C192),\"\")","v":""},"",0,{"$error":"#VALUE!"},{"$error":"#VALUE!"},{"$error":"#VALUE!"},{"$error":"#VALUE!"},{"$error":"#VALUE!"}]
["",""," ","","",{"$f":"IF(AND(A193=\"\",A195=\"\"),\"\",IF(A194=\"\",ROUND(SUM($F$25:F193),2),IF(A194=$D$8,$E$24-ROUND(SUM($F$25:F193),2),ROUND($E$24/$D$8,2))))","v":""},{"$f":"IF(A193=$D$8,ROUND(SUM($G$25:G193),2),IF(A194>$D$8,\"\",IF(T194<>T193,ROUND(SUM(V194*$D$9*E193/T194,W194*$D$9*E193/T193),2),ROUND(E193*$D$9*D194/T193,2))))","v":""},{"$f":"IF(A193=$D$8,SUM($H$25:H193),IF(A193>$D$8,\"\",F194+G194))","v":""},"",{"$f":"IF(A193=$D$8,$J$24,\"\")","v":""},null,"","","",null,{"$f":"IF(A193=$D$8,XIRR(H$24:H193,C$24:C193),\"\")","v":""},"",0,{"$error":"#VALUE!"},{"$error":"#VALUE!"},{"$error":"#VALUE!"},{"$error":"#VALUE!"},{"$error":"#VALUE!"}]
["",""," ","","",{"$f":"IF(AND(A194=\"\",A196=\"\"),\"\",IF(A195=\"\",ROUND(SUM($F$25:F194),2),IF(A195=$D$8,$E$24-ROUND(SUM($F$25:F194),2),ROUND($E$24/$D$8,2))))","v":""},{"$f":"IF(A194=$D$8,ROUND(SUM($G$25:G194),2),IF(A195>$D$8,\"\",IF(T195<>T194,ROUND(SUM(V195*$D$9*E194/T195,W195*$D$9*E194/T194),2),ROUND(E194*$D$9*D195/T194,2))))","v":""},{"$f":"IF(A194=$D$8,SUM($H$25:H194),IF(A194>$D$8,\"\",F195+G195))","v":""},"","",null,"","","",null,{"$f":"IF(A194=$D$8,XIRR(H$24:H194,C$24:C194),\"\")","v":""},"",0,{"$error":"#VALUE!"},{"$error":"#VALUE!"},{"$error":"#VALUE!"},{"$error":"#VALUE!"},{"$error":"#VALUE!"}]
["",""," ","","",{"$f":"IF(AND(A195=\"\",A197=\"\"),\"\",IF(A196=\"\",ROUND(SUM($F$25:F195),2),IF(A196=$D$8,$E$24-ROUND(SUM($F$25:F195),2),ROUND($E$24/$D$8,2))))","v":""},{"$f":"IF(A195=$D$8,ROUND(SUM($G$25:G195),2),IF(A196>$D$8,\"\",IF(T196<>T195,ROUND(SUM(V196*$D$9*E195/T196,W196*$D$9*E195/T195),2),ROUND(E195*$D$9*D196/T195,2))))","v":""},{"$f":"IF(A195=$D$8,SUM($H$25:H195),IF(A195>$D$8,\"\",F196+G196))","v":""},"","",null,"","","",null,{"$f":"IF(A195=$D$8,XIRR(H$24:H195,C$24:C195),\"\")","v":""},"",0,{"$error":"#VALUE!"},{"$error":"#VALUE!"},{"$error":"#VALUE!"},{"$error":"#VALUE!"},{"$error":"#VALUE!"}]
["",""," ","","",{"$f":"IF(AND(A196=\"\",A198=\"\"),\"\",IF(A197=\"\",ROUND(SUM($F$25:F196),2),IF(A197=$D$8,$E$24-ROUND(SUM($F$25:F196),2),ROUND($E$24/$D$8,2))))","v":""},{"$f":"IF(A196=$D$8,ROUND(SUM($G$25:G196),2),IF(A197>$D$8,\"\",IF(T197<>T196,ROUND(SUM(V197*$D$9*E196/T197,W197*$D$9*E196/T196),2),ROUND(E196*$D$9*D197/T196,2))))","v":""},{"$f":"IF(A196=$D$8,SUM($H$25:H196),IF(A196>$D$8,\"\",F197+G197))","v":""},"","",null,"","","",null,{"$f":"IF(A196=$D$8,XIRR(H$24:H196,C$24:C196),\"\")","v":""},"",0,{"$error":"#VALUE!"},{"$error":"#VALUE!"},{"$error":"#VALUE!"},{"$error":"#VALUE!"},{"$error":"#VALUE!"}]
["",""," ","","",{"$f":"IF(AND(A197=\"\",A199=\"\"),\"\",IF(A198=\"\",ROUND(SUM($F$25:F197),2),IF(A198=$D$8,$E$24-ROUND(SUM($F$25:F197),2),ROUND($E$24/$D$8,2))))","v":""},{"$f":"IF(A197=$D$8,ROUND(SUM($G$25:G197),2),IF(A198>$D$8,\"\",IF(T198<>T197,ROUND(SUM(V198*$D$9*E197/T198,W198*$D$9*E197/T197),2),ROUND(E197*$D$9*D198/T197,2))))","v":""},{"$f":"IF(A197=$D$8,SUM($H$25:H197),IF(A197>$D$8,\"\",F198+G198))","v":""},"","",null,"","","",null,{"$f":"IF(A197=$D$8,XIRR(H$24:H197,C$24:C197),\"\")","v":""},"",0,{"$error":"#VALUE!"},{"$error":"#VALUE!"},{"$error":"#VALUE!"},{"$error":"#VALUE!"},{"$error":"#VALUE!"}]
["",""," ","","",{"$f":"IF(AND(A198=\"\",A200=\"\"),\"\",IF(A199=\"\",ROUND(SUM($F$25:F198),2),IF(A199=$D$8,$E$24-ROUND(SUM($F$25:F198),2),ROUND($E$24/$D$8,2))))","v":""},{"$f":"IF(A198=$D$8,ROUND(SUM($G$25:G198),2),IF(A199>$D$8,\"\",IF(T199<>T198,ROUND(SUM(V199*$D$9*E198/T199,W199*$D$9*E198/T198),2),ROUND(E198*$D$9*D199/T198,2))))","v":""},{"$f":"IF(A198=$D$8,SUM($H$25:H198),IF(A198>$D$8,\"\",F199+G199))","v":""},"","",null,"","","",null,{"$f":"IF(A198=$D$8,XIRR(H$24:H198,C$24:C198),\"\")","v":""},"",0,{"$error":"#VALUE!"},{"$error":"#VALUE!"},{"$error":"#VALUE!"},{"$error":"#VALUE!"},{"$error":"#VALUE!"}]
["",""," ","","",{"$f":"IF(AND(A199=\"\",A201=\"\"),\"\",IF(A200=\"\",ROUND(SUM($F$25:F199),2),IF(A200=$D$8,$E$24-ROUND(SUM($F$25:F199),2),ROUND($E$24/$D$8,2))))","v":""},{"$f":"IF(A199=$D$8,ROUND(SUM($G$25:G199),2),IF(A200>$D$8,\"\",IF(T200<>T199,ROUND(SUM(V200*$D$9*E199/T200,W200*$D$9*E199/T199),2),ROUND(E199*$D$9*D200/T199,2))))","v":""},{"$f":"IF(A199=$D$8,SUM($H$25:H199),IF(A199>$D$8,\"\",F200+G200))","v":""},"","",null,"","","",null,{"$f":"IF(A199=$D$8,XIRR(H$24:H199,C$24:C199),\"\")","v":""},"",0,{"$error":"#VALUE!"},{"$error":"#VALUE!"},{"$error":"#VALUE!"},{"$error":"#VALUE!"},{"$error":"#VALUE!"}]
["",""," ","","",{"$f":"IF(AND(A200=\"\",A202=\"\"),\"\",IF(A201=\"\",ROUND(SUM($F$25:F200),2),IF(A201=$D$8,$E$24-ROUND(SUM($F$25:F200),2),ROUND($E$24/$D$8,2))))","v":""},{"$f":"IF(A200=$D$8,ROUND(SUM($G$25:G200),2),IF(A201>$D$8,\"\",IF(T201<>T200,ROUND(SUM(V201*$D$9*E200/T201,W201*$D$9*E200/T200),2),ROUND(E200*$D$9*D201/T200,2))))","v":""},{"$f":"IF(A200=$D$8,SUM($H$25:H200),IF(A200>$D$8,\"\",F201+G201))","v":""},"","",null,"","","",null,{"$f":"IF(A200=$D$8,XIRR(H$24:H200,C$24:C200),\"\")","v":""},"",0,{"$error":"#VALUE!"},{"$error":"#VALUE!"},{"$error":"#VALUE!"},{"$error":"#VALUE!"},{"$error":"#VALUE!"}]
["",""," ","","",{"$f":"IF(AND(A201=\"\",A203=\"\"),\"\",IF(A202=\"\",ROUND(SUM($F$25:F201),2),IF(A202=$D$8,$E$24-ROUND(SUM($F$25:F201),2),ROUND($E$24/$D$8,2))))","v":""},{"$f":"IF(A201=$D$8,ROUND(SUM($G$25:G201),2),IF(A202>$D$8,\"\",IF(T202<>T201,ROUND(SUM(V202*$D$9*E201/T202,W202*$D$9*E201/T201),2),ROUND(E201*$D$9*D202/T201,2))))","v":""},{"$f":"IF(A201=$D$8,SUM($H$25:H201),IF(A201>$D$8,\"\",F202+G202))","v":""},"","",null,"","","",null,{"$f":"IF(A201=$D$8,XIRR(H$24:H201,C$24:C201),\"\")","v":""},"",0,{"$error":"#VALUE!"},{"$error":"#VALUE!"},{"$error":"#VALUE!"},{"$error":"#VALUE!"},{"$error":"#VALUE!"}]
["",""," ","","",{"$f":"IF(AND(A202=\"\",A204=\"\"),\"\",IF(A203=\"\",ROUND(SUM($F$25:F202),2),IF(A203=$D$8,$E$24-ROUND(SUM($F$25:F202),2),ROUND($E$24/$D$8,2))))","v":""},{"$f":"IF(A202=$D$8,ROUND(SUM($G$25:G202),2),IF(A203>$D$8,\"\",IF(T203<>T202,ROUND(SUM(V203*$D$9*E202/T203,W203*$D$9*E202/T202),2),ROUND(E202*$D$9*D203/T202,2))))","v":""},{"$f":"IF(A202=$D$8,SUM($H$25:H202),IF(A202>$D$8,\"\",F203+G203))","v":""},"","",null,"","","",null,{"$f":"IF(A202=$D$8,XIRR(H$24:H202,C$24:C202),\"\")","v":""},"",0,{"$error":"#VALUE!"},{"$error":"#VALUE!"},{"$error":"#VALUE!"},{"$error":"#VALUE!"},{"$error":"#VALUE!"}]
["",""," ","","",{"$f":"IF(AND(A203=\"\",A205=\"\"),\"\",IF(A204=\"\",ROUND(SUM($F$25:F203),2),IF(A204=$D$8,$E$24-ROUND(SUM($F$25:F203),2),ROUND($E$24/$D$8,2))))","v":""},{"$f":"IF(A203=$D$8,ROUND(SUM($G$25:G203),2),IF(A204>$D$8,\"\",IF(T204<>T203,ROUND(SUM(V204*$D$9*E203/T204,W204*$D$9*E203/T203),2),ROUND(E203*$D$9*D204/T203,2))))","v":""},{"$f":"IF(A203=$D$8,SUM($H$25:H203),IF(A203>$D$8,\"\",F204+G204))","v":""},"","",null,"","","",null,{"$f":"IF(A203=$D$8,XIRR(H$24:H203,C$24:C203),\"\")","v":""},"",0,{"$error":"#VALUE!"},{"$error":"#VALUE!"},{"$error":"#VALUE!"},{"$error":"#VALUE!"},{"$error":"#VALUE!"}]
["",""," ","","",{"$f":"IF(AND(A204=\"\",A206=\"\"),\"\",IF(A205=\"\",ROUND(SUM($F$25:F204),2),IF(A205=$D$8,$E$24-ROUND(SUM($F$25:F204),2),ROUND($E$24/$D$8,2))))","v":""},{"$f":"IF(A204=$D$8,ROUND(SUM($G$25:G204),2),IF(A205>$D$8,\"\",IF(T205<>T204,ROUND(SUM(V205*$D$9*E204/T205,W205*$D$9*E204/T204),2),ROUND(E204*$D$9*D205/T204,2))))","v":""},{"$f":"IF(A204=$D$8,SUM($H$25:H204),IF(A204>$D$8,\"\",F205+G205))","v":""},"",{"$f":"IF($D$8>A204,$N$9,IF($D$8=A204,SUM($J$24:J204),\" \"))","v":" "},{"$f":"IF($D$8>A204,($O$8+$N$10*E204),IF(A204=$D$8,$K$37+$K$24+$K$49+$K$61+$K$73+$K$85+$K$97+$K$109+$K$121+$K$133+$K$145+$K$157+$K$169+$K$181+$K$193,\"\"))","v":""},"","","",null,{"$f":"IF(A204=$D$8,XIRR(H$24:H204,C$24:C204),\"\")","v":""},"",0,{"$error":"#VALUE!"},{"$error":"#VALUE!"},{"$error":"#VALUE!"},{"$error":"#VALUE!"},{"$error":"#VALUE!"}]
["",""," ","","",{"$f":"IF(AND(A205=\"\",A207=\"\"),\"\",IF(A206=\"\",ROUND(SUM($F$25:F205),2),IF(A206=$D$8,$E$24-ROUND(SUM($F$25:F205),2),ROUND($E$24/$D$8,2))))","v":""},{"$f":"IF(A205=$D$8,ROUND(SUM($G$25:G205),2),IF(A206>$D$8,\"\",IF(T206<>T205,ROUND(SUM(V206*$D$9*E205/T206,W206*$D$9*E205/T205),2),ROUND(E205*$D$9*D206/T205,2))))","v":""},{"$f":"IF(A205=$D$8,SUM($H$25:H205),IF(A205>$D$8,\"\",F206+G206))","v":""},"",{"$f":"IF(A205=$D$8,$J$24,\"\")","v":""},null,"","","",null,{"$f":"IF(A205=$D$8,XIRR(H$24:H205,C$24:C205),\"\")","v":""},"",0,{"$error":"#VALUE!"},{"$error":"#VALUE!"},{"$error":"#VALUE!"},{"$error":"#VALUE!"},{"$error":"#VALUE!"}]
["",""," ","","",{"$f":"IF(AND(A206=\"\",A208=\"\"),\"\",IF(A207=\"\",ROUND(SUM($F$25:F206),2),IF(A207=$D$8,$E$24-ROUND(SUM($F$25:F206),2),ROUND($E$24/$D$8,2))))","v":""},{"$f":"IF(A206=$D$8,ROUND(SUM($G$25:G206),2),IF(A207>$D$8,\"\",IF(T207<>T206,ROUND(SUM(V207*$D$9*E206/T207,W207*$D$9*E206/T206),2),ROUND(E206*$D$9*D207/T206,2))))","v":""},{"$f":"IF(A206=$D$8,SUM($H$25:H206),IF(A206>$D$8,\"\",F207+G207))","v":""},"","",null,"","","",null,{"$f":"IF(A206=$D$8,XIRR(H$24:H206,C$24:C206),\"\")","v":""},"",0,{"$error":"#VALUE!"},{"$error":"#VALUE!"},{"$error":"#VALUE!"},{"$error":"#VALUE!"},{"$error":"#VALUE!"}]
["",""," ","","",{"$f":"IF(AND(A207=\"\",A209=\"\"),\"\",IF(A208=\"\",ROUND(SUM($F$25:F207),2),IF(A208=$D$8,$E$24-ROUND(SUM($F$25:F207),2),ROUND($E$24/$D$8,2))))","v":""},{"$f":"IF(A207=$D$8,ROUND(SUM($G$25:G207),2),IF(A208>$D$8,\"\",IF(T208<>T207,ROUND(SUM(V208*$D$9*E207/T208,W208*$D$9*E207/T207),2),ROUND(E207*$D$9*D208/T207,2))))","v":""},{"$f":"IF(A207=$D$8,SUM($H$25:H207),IF(A207>$D$8,\"\",F208+G208))","v":""},"","",null,"","","",null,{"$f":"IF(A207=$D$8,XIRR(H$24:H207,C$24:C207),\"\")","v":""},"",0,{"$error":"#VALUE!"},{"$error":"#VALUE!"},{"$error":"#VALUE!"},{"$error":"#VALUE!"},{"$error":"#VALUE!"}]
["",""," ","","",{"$f":"IF(AND(A208=\"\",A210=\"\"),\"\",IF(A209=\"\",ROUND(SUM($F$25:F208),2),IF(A209=$D$8,$E$24-ROUND(SUM($F$25:F208),2),ROUND($E$24/$D$8,2))))","v":""},{"$f":"IF(A208=$D$8,ROUND(SUM($G$25:G208),2),IF(A209>$D$8,\"\",IF(T209<>T208,ROUND(SUM(V209*$D$9*E208/T209,W209*$D$9*E208/T208),2),ROUND(E208*$D$9*D209/T208,2))))","v":""},{"$f":"IF(A208=$D$8,SUM($H$25:H208),IF(A208>$D$8,\"\",F209+G209))","v":""},"","",null,"","","",null,{"$f":"IF(A208=$D$8,XIRR(H$24:H208,C$24:C208),\"\")","v":""},"",0,{"$error":"#VALUE!"},{"$error":"#VALUE!"},{"$error":"#VALUE!"},{"$error":"#VALUE!"},{"$error":"#VALUE!"}]
["",""," ","","",{"$f":"IF(AND(A209=\"\",A211=\"\"),\"\",IF(A210=\"\",ROUND(SUM($F$25:F209),2),IF(A210=$D$8,$E$24-ROUND(SUM($F$25:F209),2),ROUND($E$24/$D$8,2))))","v":""},{"$f":"IF(A209=$D$8,ROUND(SUM($G$25:G209),2),IF(A210>$D$8,\"\",IF(T210<>T209,ROUND(SUM(V210*$D$9*E209/T210,W210*$D$9*E209/T209),2),ROUND(E209*$D$9*D210/T209,2))))","v":""},{"$f":"IF(A209=$D$8,SUM($H$25:H209),IF(A209>$D$8,\"\",F210+G210))","v":""},"","",null,"","","",null,{"$f":"IF(A209=$D$8,XIRR(H$24:H209,C$24:C209),\"\")","v":""},"",0,{"$error":"#VALUE!"},{"$error":"#VALUE!"},{"$error":"#VALUE!"},{"$error":"#VALUE!"},{"$error":"#VALUE!"}]
["",""," ","","",{"$f":"IF(AND(A210=\"\",A212=\"\"),\"\",IF(A211=\"\",ROUND(SUM($F$25:F210),2),IF(A211=$D$8,$E$24-ROUND(SUM($F$25:F210),2),ROUND($E$24/$D$8,2))))","v":""},{"$f":"IF(A210=$D$8,ROUND(SUM($G$25:G210),2),IF(A211>$D$8,\"\",IF(T211<>T210,ROUND(SUM(V211*$D$9*E210/T211,W211*$D$9*E210/T210),2),ROUND(E210*$D$9*D211/T210,2))))","v":""},{"$f":"IF(A210=$D$8,SUM($H$25:H210),IF(A210>$D$8,\"\",F211+G211))","v":""},"","",null,"","","",null,{"$f":"IF(A210=$D$8,XIRR(H$24:H210,C$24:C210),\"\")","v":""},"",0,{"$error":"#VALUE!"},{"$error":"#VALUE!"},{"$error":"#VALUE!"},{"$error":"#VALUE!"},{"$error":"#VALUE!"}]
["",""," ","","",{"$f":"IF(AND(A211=\"\",A213=\"\"),\"\",IF(A212=\"\",ROUND(SUM($F$25:F211),2),IF(A212=$D$8,$E$24-ROUND(SUM($F$25:F211),2),ROUND($E$24/$D$8,2))))","v":""},{"$f":"IF(A211=$D$8,ROUND(SUM($G$25:G211),2),IF(A212>$D$8,\"\",IF(T212<>T211,ROUND(SUM(V212*$D$9*E211/T212,W212*$D$9*E211/T211),2),ROUND(E211*$D$9*D212/T211,2))))","v":""},{"$f":"IF(A211=$D$8,SUM($H$25:H211),IF(A211>$D$8,\"\",F212+G212))","v":""},"","",null,"","","",null,{"$f":"IF(A211=$D$8,XIRR(H$24:H211,C$24:C211),\"\")","v":""},"",0,{"$error":"#VALUE!"},{"$error":"#VALUE!"},{"$error":"#VALUE!"},{"$error":"#VALUE!"},{"$error":"#VALUE!"}]
["",""," ","","",{"$f":"IF(AND(A212=\"\",A214=\"\"),\"\",IF(A213=\"\",ROUND(SUM($F$25:F212),2),IF(A213=$D$8,$E$24-ROUND(SUM($F$25:F212),2),ROUND($E$24/$D$8,2))))","v":""},{"$f":"IF(A212=$D$8,ROUND(SUM($G$25:G212),2),IF(A213>$D$8,\"\",IF(T213<>T212,ROUND(SUM(V213*$D$9*E212/T213,W213*$D$9*E212/T212),2),ROUND(E212*$D$9*D213/T212,2))))","v":""},{"$f":"IF(A212=$D$8,SUM($H$25:H212),IF(A212>$D$8,\"\",F213+G213))","v":""},"","",null,"","","",null,{"$f":"IF(A212=$D$8,XIRR(H$24:H212,C$24:C212),\"\")","v":""},"",0,{"$error":"#VALUE!"},{"$error":"#VALUE!"},{"$error":"#VALUE!"},{"$error":"#VALUE!"},{"$error":"#VALUE!"}]
["",""," ","","",{"$f":"IF(AND(A213=\"\",A215=\"\"),\"\",IF(A214=\"\",ROUND(SUM($F$25:F213),2),IF(A214=$D$8,$E$24-ROUND(SUM($F$25:F213),2),ROUND($E$24/$D$8,2))))","v":""},{"$f":"IF(A213=$D$8,ROUND(SUM($G$25:G213),2),IF(A214>$D$8,\"\",IF(T214<>T213,ROUND(SUM(V214*$D$9*E213/T214,W214*$D$9*E213/T213),2),ROUND(E213*$D$9*D214/T213,2))))","v":""},{"$f":"IF(A213=$D$8,SUM($H$25:H213),IF(A213>$D$8,\"\",F214+G214))","v":""},"","",null,"","","",null,{"$f":"IF(A213=$D$8,XIRR(H$24:H213,C$24:C213),\"\")","v":""},"",0,{"$error":"#VALUE!"},{"$error":"#VALUE!"},{"$error":"#VALUE!"},{"$error":"#VALUE!"},{"$error":"#VALUE!"}]
["",""," ","","",{"$f":"IF(AND(A214=\"\",A216=\"\"),\"\",IF(A215=\"\",ROUND(SUM($F$25:F214),2),IF(A215=$D$8,$E$24-ROUND(SUM($F$25:F214),2),ROUND($E$24/$D$8,2))))","v":""},{"$f":"IF(A214=$D$8,ROUND(SUM($G$25:G214),2),IF(A215>$D$8,\"\",IF(T215<>T214,ROUND(SUM(V215*$D$9*E214/T215,W215*$D$9*E214/T214),2),ROUND(E214*$D$9*D215/T214,2))))","v":""},{"$f":"IF(A214=$D$8,SUM($H$25:H214),IF(A214>$D$8,\"\",F215+G215))","v":""},"","",null,"","","",null,{"$f":"IF(A214=$D$8,XIRR(H$24:H214,C$24:C214),\"\")","v":""},"",0,{"$error":"#VALUE!"},{"$error":"#VALUE!"},{"$error":"#VALUE!"},{"$error":"#VALUE!"},{"$error":"#VALUE!"}]
["",""," ","","",{"$f":"IF(AND(A215=\"\",A217=\"\"),\"\",IF(A216=\"\",ROUND(SUM($F$25:F215),2),IF(A216=$D$8,$E$24-ROUND(SUM($F$25:F215),2),ROUND($E$24/$D$8,2))))","v":""},{"$f":"IF(A215=$D$8,ROUND(SUM($G$25:G215),2),IF(A216>$D$8,\"\",IF(T216<>T215,ROUND(SUM(V216*$D$9*E215/T216,W216*$D$9*E215/T215),2),ROUND(E215*$D$9*D216/T215,2))))","v":""},{"$f":"IF(A215=$D$8,SUM($H$25:H215),IF(A215>$D$8,\"\",F216+G216))","v":""},"","",null,"","","",null,{"$f":"IF(A215=$D$8,XIRR(H$24:H215,C$24:C215),\"\")","v":""},"",0,{"$error":"#VALUE!"},{"$error":"#VALUE!"},{"$error":"#VALUE!"},{"$error":"#VALUE!"},{"$error":"#VALUE!"}]
["",""," ","","",{"$f":"IF(AND(A216=\"\",A218=\"\"),\"\",IF(A217=\"\",ROUND(SUM($F$25:F216),2),IF(A217=$D$8,$E$24-ROUND(SUM($F$25:F216),2),ROUND($E$24/$D$8,2))))","v":""},{"$f":"IF(A216=$D$8,ROUND(SUM($G$25:G216),2),IF(A217>$D$8,\"\",IF(T217<>T216,ROUND(SUM(V217*$D$9*E216/T217,W217*$D$9*E216/T216),2),ROUND(E216*$D$9*D217/T216,2))))","v":""},{"$f":"IF(A216=$D$8,SUM($H$25:H216),IF(A216>$D$8,\"\",F217+G217))","v":""},"",{"$f":"IF($D$8>A216,$N$9,IF($D$8=A216,SUM($J$24:J216),\" \"))","v":" "},{"$f":"IF($D$8>A216,($O$8+$N$10*E216),IF(A216=$D$8,$K$37+$K$24+$K$49+$K$61+$K$73+$K$85+$K$97+$K$109+$K$121+$K$133+$K$145+$K$157+$K$169+$K$181+$K$193+$K$205,\"\"))","v":""},"","","",null,{"$f":"IF(A216=$D$8,XIRR(H$24:H216,C$24:C216),\"\")","v":""},"",0,{"$error":"#VALUE!"},{"$error":"#VALUE!"},{"$error":"#VALUE!"},{"$error":"#VALUE!"},{"$error":"#VALUE!"}]
[{"$f":"IF(A217<$D$8,A217+1,\"\")","v":""},"",{"$f":"IF(B218=$D$10,B218-1,(IF(B218>$D$10,\" \",B218)))","v":" "},"","",{"$f":"IF(AND(A217=\"\",A219=\"\"),\"\",IF(A218=\"\",ROUND(SUM($F$25:F217),2),IF(A218=$D$8,$E$24-ROUND(SUM($F$25:F217),2),ROUND($E$24/$D$8,2))))","v":""},{"$f":"IF(A217=$D$8,ROUND(SUM($G$25:G217),2),IF(A218>$D$8,\"\",IF(T218<>T217,ROUND(SUM(V218*$D$9*E217/T218,W218*$D$9*E217/T217),2),ROUND(E217*$D$9*D218/T217,2))))","v":""},{"$f":"IF(A217=$D$8,SUM($H$25:H217),IF(A217>$D$8,\"\",F218+G218))","v":""},"",{"$f":"IF(A217=$D$8,$J$24,\"\")","v":""},null,"","","",null,{"$f":"IF(A217=$D$8,XIRR(H$24:H217,C$24:C217),\"\")","v":""},"",{"$f":"SUM(H218:Q218)","v":0},{"$f":"IF(C218=\"\",\"\",YEAR(C218))","v":{"$error":"#VALUE!"}},{"$f":"IF(OR(S218=2024,S218=2028,S218=2016,S218=2020,S218=2024,S218=2028,S218=2032,S218=2036,S218=2040),366,365)","v":{"$error":"#VALUE!"}},{"$f":"IF(C218=\"\",\"\",DAY(C218))","v":{"$error":"#VALUE!"}},{"$f":"U218-1","v":{"$error":"#VALUE!"}},{"$f":"D218-V218","v":{"$error":"#VALUE!"}}]
["",""," ","","",{"$f":"IF(AND(A218=\"\",A220=\"\"),\"\",IF(A219=\"\",ROUND(SUM($F$25:F218),2),IF(A219=$D$8,$E$24-ROUND(SUM($F$25:F218),2),ROUND($E$24/$D$8,2))))","v":""},{"$f":"IF(A218=$D$8,ROUND(SUM($G$25:G218),2),IF(A219>$D$8,\"\",IF(T219<>T218,ROUND(SUM(V219*$D$9*E218/T219,W219*$D$9*E218/T218),2),ROUND(E218*$D$9*D219/T218,2))))","v":""},{"$f":"IF(A218=$D$8,SUM($H$25:H218),IF(A218>$D$8,\"\",F219+G219))","v":""},"","",null,"","","",null,{"$f":"IF(A218=$D$8,XIRR(H$24:H218,C$24:C218),\"\")","v":""},{"$f":"IF(A218=$D$8,G219+M219+F219+I219+J219+K219+L219+N219+O219,\"\")","v":""},0,{"$error":"#VALUE!"},{"$error":"#VALUE!"},{"$error":"#VALUE!"},{"$error":"#VALUE!"},{"$error":"#VALUE!"}]
["",""," ","","",{"$f":"IF(AND(A219=\"\",A221=\"\"),\"\",IF(A220=\"\",ROUND(SUM($F$25:F219),2),IF(A220=$D$8,$E$24-ROUND(SUM($F$25:F219),2),ROUND($E$24/$D$8,2))))","v":""},{"$f":"IF(A219=$D$8,ROUND(SUM($G$25:G219),2),IF(A220>$D$8,\"\",IF(T220<>T219,ROUND(SUM(V220*$D$9*E219/T220,W220*$D$9*E219/T219),2),ROUND(E219*$D$9*D220/T219,2))))","v":""},{"$f":"IF(A219=$D$8,SUM($H$25:H219),IF(A219>$D$8,\"\",F220+G220))","v":""},"","",null,"","","",null,{"$f":"IF(A219=$D$8,XIRR(H$24:H219,C$24:C219),\"\")","v":""},"",0,{"$error":"#VALUE!"},{"$error":"#VALUE!"},{"$error":"#VALUE!"},{"$error":"#VALUE!"},{"$error":"#VALUE!"}]
["",""," ","","",{"$f":"IF(AND(A220=\"\",A222=\"\"),\"\",IF(A221=\"\",ROUND(SUM($F$25:F220),2),IF(A221=$D$8,$E$24-ROUND(SUM($F$25:F220),2),ROUND($E$24/$D$8,2))))","v":""},{"$f":"IF(A220=$D$8,ROUND(SUM($G$25:G220),2),IF(A221>$D$8,\"\",IF(T221<>T220,ROUND(SUM(V221*$D$9*E220/T221,W221*$D$9*E220/T220),2),ROUND(E220*$D$9*D221/T220,2))))","v":""},{"$f":"IF(A220=$D$8,SUM($H$25:H220),IF(A220>$D$8,\"\",F221+G221))","v":""},"","",null,"","",{"$f":"IF(A220=$D$8,$N$24,\"\")","v":""},null,{"$f":"IF(A220=$D$8,XIRR(H$24:H220,C$24:C220),\"\")","v":""},"",0,{"$error":"#VALUE!"},{"$error":"#VALUE!"},{"$error":"#VALUE!"},{"$error":"#VALUE!"},{"$error":"#VALUE!"}]
["",""," ","","",{"$f":"IF(AND(A221=\"\",A223=\"\"),\"\",IF(A222=\"\",ROUND(SUM($F$25:F221),2),IF(A222=$D$8,$E$24-ROUND(SUM($F$25:F221),2),ROUND($E$24/$D$8,2))))","v":""},{"$f":"IF(A221=$D$8,ROUND(SUM($G$25:G221),2),IF(A222>$D$8,\"\",IF(T222<>T221,ROUND(SUM(V222*$D$9*E221/T222,W222*$D$9*E221/T221),2),ROUND(E221*$D$9*D222/T221,2))))","v":""},{"$f":"IF(A221=$D$8,SUM($H$25:H221),IF(A221>$D$8,\"\",F222+G222))","v":""},"","",null,"",{"$f":"IF(A221=$D$8,$M$24,\"\")","v":""},"",null,{"$f":"IF(A221=$D$8,XIRR(H$24:H221,C$24:C221),\"\")","v":""},"",0,{"$error":"#VALUE!"},{"$error":"#VALUE!"},{"$error":"#VALUE!"},{"$error":"#VALUE!"},{"$error":"#VALUE!"}]
["",""," ","","",{"$f":"IF(AND(A222=\"\",A224=\"\"),\"\",IF(A223=\"\",ROUND(SUM($F$25:F222),2),IF(A223=$D$8,$E$24-ROUND(SUM($F$25:F222),2),ROUND($E$24/$D$8,2))))","v":""},{"$f":"IF(A222=$D$8,ROUND(SUM($G$25:G222),2),IF(A223>$D$8,\"\",IF(T223<>T222,ROUND(SUM(V223*$D$9*E222/T223,W223*$D$9*E222/T222),2),ROUND(E222*$D$9*D223/T222,2))))","v":""},{"$f":"IF(A222=$D$8,SUM($H$25:H222),IF(A222>$D$8,\"\",F223+G223))","v":""},"","",null,"","","",null,{"$f":"IF(A222=$D$8,XIRR(H$24:H222,C$24:C222),\"\")","v":""},"",0,{"$error":"#VALUE!"},{"$error":"#VALUE!"},{"$error":"#VALUE!"},{"$error":"#VALUE!"},{"$error":"#VALUE!"}]
["",""," ","","",{"$f":"IF(AND(A223=\"\",A225=\"\"),\"\",IF(A224=\"\",ROUND(SUM($F$25:F223),2),IF(A224=$D$8,$E$24-ROUND(SUM($F$25:F223),2),ROUND($E$24/$D$8,2))))","v":""},{"$f":"IF(A223=$D$8,ROUND(SUM($G$25:G223),2),IF(A224>$D$8,\"\",IF(T224<>T223,ROUND(SUM(V224*$D$9*E223/T224,W224*$D$9*E223/T223),2),ROUND(E223*$D$9*D224/T223,2))))","v":""},{"$f":"IF(A223=$D$8,SUM($H$25:H223),IF(A223>$D$8,\"\",F224+G224))","v":""},"","",null,"","","",null,{"$f":"IF(A223=$D$8,XIRR(H$24:H223,C$24:C223),\"\")","v":""},"",0,{"$error":"#VALUE!"},{"$error":"#VALUE!"},{"$error":"#VALUE!"},{"$error":"#VALUE!"},{"$error":"#VALUE!"}]
["",""," ","","",{"$f":"IF(AND(A224=\"\",A226=\"\"),\"\",IF(A225=\"\",ROUND(SUM($F$25:F224),2),IF(A225=$D$8,$E$24-ROUND(SUM($F$25:F224),2),ROUND($E$24/$D$8,2))))","v":""},{"$f":"IF(A224=$D$8,ROUND(SUM($G$25:G224),2),IF(A225>$D$8,\"\",IF(T225<>T224,ROUND(SUM(V225*$D$9*E224/T225,W225*$D$9*E224/T224),2),ROUND(E224*$D$9*D225/T224,2))))","v":""},{"$f":"IF(A224=$D$8,SUM($H$25:H224),IF(A224>$D$8,\"\",F225+G225))","v":""},"","",null,"","","",null,{"$f":"IF(A224=$D$8,XIRR(H$24:H224,C$24:C224),\"\")","v":""},"",0,{"$error":"#VALUE!"},{"$error":"#VALUE!"},{"$error":"#VALUE!"},{"$error":"#VALUE!"},{"$error":"#VALUE!"}]
["",""," ","","",{"$f":"IF(AND(A225=\"\",A227=\"\"),\"\",IF(A226=\"\",ROUND(SUM($F$25:F225),2),IF(A226=$D$8,$E$24-ROUND(SUM($F$25:F225),2),ROUND($E$24/$D$8,2))))","v":""},{"$f":"IF(A225=$D$8,ROUND(SUM($G$25:G225),2),IF(A226>$D$8,\"\",IF(T226<>T225,ROUND(SUM(V226*$D$9*E225/T226,W226*$D$9*E225/T225),2),ROUND(E225*$D$9*D226/T225,2))))","v":""},{"$f":"IF(A225=$D$8,SUM($H$25:H225),IF(A225>$D$8,\"\",F226+G226))","v":""},"","",null,"","","",null,{"$f":"IF(A225=$D$8,XIRR(H$24:H225,C$24:C225),\"\")","v":""},"",0,{"$error":"#VALUE!"},{"$error":"#VALUE!"},{"$error":"#VALUE!"},{"$error":"#VALUE!"},{"$error":"#VALUE!"}]
["",""," ","","",{"$f":"IF(AND(A226=\"\",A228=\"\"),\"\",IF(A227=\"\",ROUND(SUM($F$25:F226),2),IF(A227=$D$8,$E$24-ROUND(SUM($F$25:F226),2),ROUND($E$24/$D$8,2))))","v":""},{"$f":"IF(A226=$D$8,ROUND(SUM($G$25:G226),2),IF(A227>$D$8,\"\",IF(T227<>T226,ROUND(SUM(V227*$D$9*E226/T227,W227*$D$9*E226/T226),2),ROUND(E226*$D$9*D227/T226,2))))","v":""},{"$f":"IF(A226=$D$8,SUM($H$25:H226),IF(A226>$D$8,\"\",F227+G227))","v":""},"","",null,"","","",null,{"$f":"IF(A226=$D$8,XIRR(H$24:H226,C$24:C226),\"\")","v":""},"",0,{"$error":"#VALUE!"},{"$error":"#VALUE!"},{"$error":"#VALUE!"},{"$error":"#VALUE!"},{"$error":"#VALUE!"}]
["",""," ","","",{"$f":"IF(AND(A227=\"\",A229=\"\"),\"\",IF(A228=\"\",ROUND(SUM($F$25:F227),2),IF(A228=$D$8,$E$24-ROUND(SUM($F$25:F227),2),ROUND($E$24/$D$8,2))))","v":""},{"$f":"IF(A227=$D$8,ROUND(SUM($G$25:G227),2),IF(A228>$D$8,\"\",IF(T228<>T227,ROUND(SUM(V228*$D$9*E227/T228,W228*$D$9*E227/T227),2),ROUND(E227*$D$9*D228/T227,2))))","v":""},{"$f":"IF(A227=$D$8,SUM($H$25:H227),IF(A227>$D$8,\"\",F228+G228))","v":""},"","",null,"","","",null,{"$f":"IF(A227=$D$8,XIRR(H$24:H227,C$24:C227),\"\")","v":""},"",0,{"$error":"#VALUE!"},{"$error":"#VALUE!"},{"$error":"#VALUE!"},{"$error":"#VALUE!"},{"$error":"#VALUE!"}]
["",""," ",{"$f":"IF(A229>$D$8,\"\",C229-C228)","v":""},{"$f":"IF(A229>$D$8,\"\",E228-F229)","v":""},{"$f":"IF(AND(A228=\"\",A230=\"\"),\"\",IF(A229=\"\",ROUND(SUM($F$25:F228),2),IF(A229=$D$8,$E$24-ROUND(SUM($F$25:F228),2),ROUND($E$24/$D$8,2))))","v":""},{"$f":"IF(A228=$D$8,ROUND(SUM($G$25:G228),2),IF(A229>$D$8,\"\",IF(T229<>T228,ROUND(SUM(V229*$D$9*E228/T229,W229*$D$9*E228/T228),2),ROUND(E228*$D$9*D229/T228,2))))","v":""},{"$f":"IF(A228=$D$8,SUM($H$25:H228),IF(A228>$D$8,\"\",F229+G229))","v":""},"",{"$f":"IF($D$8>A228,$N$9,IF($D$8=A228,SUM($J$24:J228),\" \"))","v":" "},{"$f":"IF($D$8>A228,($O$8+$N$10*E228),IF(A228=$D$8,$K$37+$K$24+$K$49+$K$61+$K$73+$K$85+$K$97+$K$109+$K$121+$K$133+$K$145+$K$157+$K$169+$K$181+$K$193+$K$205+$K$217,\"\"))","v":""},"","","",null,{"$f":"IF(A228=$D$8,XIRR(H$24:H228,C$24:C228),\"\")","v":""},"",0,{"$error":"#VALUE!"},{"$error":"#VALUE!"},{"$error":"#VALUE!"},{"$error":"#VALUE!"},{"$error":"#VALUE!"}]
["",{"$f":"IF(A230=\"\",\"\",EDATE($B$24,A230))","v":""}," ","","",{"$f":"IF(AND(A229=\"\",A231=\"\"),\"\",IF(A230=\"\",ROUND(SUM($F$25:F229),2),IF(A230=$D$8,$E$24-ROUND(SUM($F$25:F229),2),ROUND($E$24/$D$8,2))))","v":""},{"$f":"IF(A229=$D$8,ROUND(SUM($G$25:G229),2),IF(A230>$D$8,\"\",IF(T230<>T229,ROUND(SUM(V230*$D$9*E229/T230,W230*$D$9*E229/T229),2),ROUND(E229*$D$9*D230/T229,2))))","v":""},{"$f":"IF(A229=$D$8,SUM($H$25:H229),IF(A229>$D$8,\"\",F230+G230))","v":""},{"$f":"IF(A229=$D$8,$I$24,\"\")","v":""},{"$f":"IF(A229=$D$8,$J$24,\"\")","v":""},null,{"$f":"IF(A229=$D$8,$L$24,\"\")","v":""},"","",null,{"$f":"IF(A229=$D$8,XIRR(H$24:H229,C$24:C229),\"\")","v":""},"",0,{"$error":"#VALUE!"},{"$error":"#VALUE!"},{"$error":"#VALUE!"},{"$error":"#VALUE!"},{"$error":"#VALUE!"}]
["",""," ","","",{"$f":"IF(AND(A230=\"\",A232=\"\"),\"\",IF(A231=\"\",ROUND(SUM($F$25:F230),2),IF(A231=$D$8,$E$24-ROUND(SUM($F$25:F230),2),ROUND($E$24/$D$8,2))))","v":""},{"$f":"IF(A230=$D$8,ROUND(SUM($G$25:G230),2),IF(A231>$D$8,\"\",IF(T231<>T230,ROUND(SUM(V231*$D$9*E230/T231,W231*$D$9*E230/T230),2),ROUND(E230*$D$9*D231/T230,2))))","v":""},{"$f":"IF(A230=$D$8,SUM($H$25:H230),IF(A230>$D$8,\"\",F231+G231))","v":""},"","",null,"","","",null,{"$f":"IF(A230=$D$8,XIRR(H$24:H230,C$24:C230),\"\")","v":""},"",0,{"$error":"#VALUE!"},{"$error":"#VALUE!"},{"$error":"#VALUE!"},{"$error":"#VALUE!"},{"$error":"#VALUE!"}]
["",""," ","","",{"$f":"IF(AND(A231=\"\",A233=\"\"),\"\",IF(A232=\"\",ROUND(SUM($F$25:F231),2),IF(A232=$D$8,$E$24-ROUND(SUM($F$25:F231),2),ROUND($E$24/$D$8,2))))","v":""},{"$f":"IF(A231=$D$8,ROUND(SUM($G$25:G231),2),IF(A232>$D$8,\"\",IF(T232<>T231,ROUND(SUM(V232*$D$9*E231/T232,W232*$D$9*E231/T231),2),ROUND(E231*$D$9*D232/T231,2))))","v":""},{"$f":"IF(A231=$D$8,SUM($H$25:H231),IF(A231>$D$8,\"\",F232+G232))","v":""},"","",null,"","","",null,{"$f":"IF(A231=$D$8,XIRR(H$24:H231,C$24:C231),\"\")","v":""},"",0,{"$error":"#VALUE!"},{"$error":"#VALUE!"},{"$error":"#VALUE!"},{"$error":"#VALUE!"},{"$error":"#VALUE!"}]
["",""," ","","",{"$f":"IF(AND(A232=\"\",A234=\"\"),\"\",IF(A233=\"\",ROUND(SUM($F$25:F232),2),IF(A233=$D$8,$E$24-ROUND(SUM($F$25:F232),2),ROUND($E$24/$D$8,2))))","v":""},{"$f":"IF(A232=$D$8,ROUND(SUM($G$25:G232),2),IF(A233>$D$8,\"\",IF(T233<>T232,ROUND(SUM(V233*$D$9*E232/T233,W233*$D$9*E232/T232),2),ROUND(E232*$D$9*D233/T232,2))))","v":""},{"$f":"IF(A232=$D$8,SUM($H$25:H232),IF(A232>$D$8,\"\",F233+G233))","v":""},"","",null,"","","",null,{"$f":"IF(A232=$D$8,XIRR(H$24:H232,C$24:C232),\"\")","v":""},"",0,{"$error":"#VALUE!"},{"$error":"#VALUE!"},{"$error":"#VALUE!"},{"$error":"#VALUE!"},{"$error":"#VALUE!"}]
["",""," ","","",{"$f":"IF(AND(A233=\"\",A235=\"\"),\"\",IF(A234=\"\",ROUND(SUM($F$25:F233),2),IF(A234=$D$8,$E$24-ROUND(SUM($F$25:F233),2),ROUND($E$24/$D$8,2))))","v":""},{"$f":"IF(A233=$D$8,ROUND(SUM($G$25:G233),2),IF(A234>$D$8,\"\",IF(T234<>T233,ROUND(SUM(V234*$D$9*E233/T234,W234*$D$9*E233/T233),2),ROUND(E233*$D$9*D234/T233,2))))","v":""},{"$f":"IF(A233=$D$8,SUM($H$25:H233),IF(A233>$D$8,\"\",F234+G234))","v":""},"","",null,"","","",null,{"$f":"IF(A233=$D$8,XIRR(H$24:H233,C$24:C233),\"\")","v":""},"",0,{"$error":"#VALUE!"},{"$error":"#VALUE!"},{"$error":"#VALUE!"},{"$error":"#VALUE!"},{"$error":"#VALUE!"}]
["",""," ","","",{"$f":"IF(AND(A234=\"\",A236=\"\"),\"\",IF(A235=\"\",ROUND(SUM($F$25:F234),2),IF(A235=$D$8,$E$24-ROUND(SUM($F$25:F234),2),ROUND($E$24/$D$8,2))))","v":""},{"$f":"IF(A234=$D$8,ROUND(SUM($G$25:G234),2),IF(A235>$D$8,\"\",IF(T235<>T234,ROUND(SUM(V235*$D$9*E234/T235,W235*$D$9*E234/T234),2),ROUND(E234*$D$9*D235/T234,2))))","v":""},{"$f":"IF(A234=$D$8,SUM($H$25:H234),IF(A234>$D$8,\"\",F235+G235))","v":""},"","",null,"","","",null,{"$f":"IF(A234=$D$8,XIRR(H$24:H234,C$24:C234),\"\")","v":""},"",0,{"$error":"#VALUE!"},{"$error":"#VALUE!"},{"$error":"#VALUE!"},{"$error":"#VALUE!"},{"$error":"#VALUE!"}]
["",""," ","","",{"$f":"IF(AND(A235=\"\",A237=\"\"),\"\",IF(A236=\"\",ROUND(SUM($F$25:F235),2),IF(A236=$D$8,$E$24-ROUND(SUM($F$25:F235),2),ROUND($E$24/$D$8,2))))","v":""},{"$f":"IF(A235=$D$8,ROUND(SUM($G$25:G235),2),IF(A236>$D$8,\"\",IF(T236<>T235,ROUND(SUM(V236*$D$9*E235/T236,W236*$D$9*E235/T235),2),ROUND(E235*$D$9*D236/T235,2))))","v":""},{"$f":"IF(A235=$D$8,SUM($H$25:H235),IF(A235>$D$8,\"\",F236+G236))","v":""},"","",null,"","","",null,{"$f":"IF(A235=$D$8,XIRR(H$24:H235,C$24:C235),\"\")","v":""},"",0,{"$error":"#VALUE!"},{"$error":"#VALUE!"},{"$error":"#VALUE!"},{"$error":"#VALUE!"},{"$error":"#VALUE!"}]
["",""," ","","",{"$f":"IF(AND(A236=\"\",A238=\"\"),\"\",IF(A237=\"\",ROUND(SUM($F$25:F236),2),IF(A237=$D$8,$E$24-ROUND(SUM($F$25:F236),2),ROUND($E$24/$D$8,2))))","v":""},{"$f":"IF(A236=$D$8,ROUND(SUM($G$25:G236),2),IF(A237>$D$8,\"\",IF(T237<>T236,ROUND(SUM(V237*$D$9*E236/T237,W237*$D$9*E236/T236),2),ROUND(E236*$D$9*D237/T236,2))))","v":""},{"$f":"IF(A236=$D$8,SUM($H$25:H236),IF(A236>$D$8,\"\",F237+G237))","v":""},"","",null,"","","",null,{"$f":"IF(A236=$D$8,XIRR(H$24:H236,C$24:C236),\"\")","v":""},"",0,{"$error":"#VALUE!"},{"$error":"#VALUE!"},{"$error":"#VALUE!"},{"$error":"#VALUE!"},{"$error":"#VALUE!"}]
["",""," ","","",{"$f":"IF(AND(A237=\"\",A239=\"\"),\"\",IF(A238=\"\",ROUND(SUM($F$25:F237),2),IF(A238=$D$8,$E$24-ROUND(SUM($F$25:F237),2),ROUND($E$24/$D$8,2))))","v":""},{"$f":"IF(A237=$D$8,ROUND(SUM($G$25:G237),2),IF(A238>$D$8,\"\",IF(T238<>T237,ROUND(SUM(V238*$D$9*E237/T238,W238*$D$9*E237/T237),2),ROUND(E237*$D$9*D238/T237,2))))","v":""},{"$f":"IF(A237=$D$8,SUM($H$25:H237),IF(A237>$D$8,\"\",F238+G238))","v":""},"","",null,"","","",null,{"$f":"IF(A237=$D$8,XIRR(H$24:H237,C$24:C237),\"\")","v":""},"",0,{"$error":"#VALUE!"},{"$error":"#VALUE!"},{"$error":"#VALUE!"},{"$error":"#VALUE!"},{"$error":"#VALUE!"}]
["",""," ","","",{"$f":"IF(AND(A238=\"\",A240=\"\"),\"\",IF(A239=\"\",ROUND(SUM($F$25:F238),2),IF(A239=$D$8,$E$24-ROUND(SUM($F$25:F238),2),ROUND($E$24/$D$8,2))))","v":""},{"$f":"IF(A238=$D$8,ROUND(SUM($G$25:G238),2),IF(A239>$D$8,\"\",IF(T239<>T238,ROUND(SUM(V239*$D$9*E238/T239,W239*$D$9*E238/T238),2),ROUND(E238*$D$9*D239/T238,2))))","v":""},{"$f":"IF(A238=$D$8,SUM($H$25:H238),IF(A238>$D$8,\"\",F239+G239))","v":""},"","",null,"","","",null,{"$f":"IF(A238=$D$8,XIRR(H$24:H238,C$24:C238),\"\")","v":""},"",0,{"$error":"#VALUE!"},{"$error":"#VALUE!"},{"$error":"#VALUE!"},{"$error":"#VALUE!"},{"$error":"#VALUE!"}]
["",""," ","","",{"$f":"IF(AND(A239=\"\",A241=\"\"),\"\",IF(A240=\"\",ROUND(SUM($F$25:F239),2),IF(A240=$D$8,$E$24-ROUND(SUM($F$25:F239),2),ROUND($E$24/$D$8,2))))","v":""},{"$f":"IF(A239=$D$8,ROUND(SUM($G$25:G239),2),IF(A240>$D$8,\"\",IF(T240<>T239,ROUND(SUM(V240*$D$9*E239/T240,W240*$D$9*E239/T239),2),ROUND(E239*$D$9*D240/T239,2))))","v":""},{"$f":"IF(A239=$D$8,SUM($H$25:H239),IF(A239>$D$8,\"\",F240+G240))","v":""},"","",null,"","","",null,{"$f":"IF(A239=$D$8,XIRR(H$24:H239,C$24:C239),\"\")","v":""},"",0,{"$error":"#VALUE!"},{"$error":"#VALUE!"},{"$error":"#VALUE!"},{"$error":"#VALUE!"},{"$error":"#VALUE!"}]
["",""," ","","",{"$f":"IF(AND(A240=\"\",A242=\"\"),\"\",IF(A241=\"\",ROUND(SUM($F$25:F240),2),IF(A241=$D$8,$E$24-ROUND(SUM($F$25:F240),2),ROUND($E$24/$D$8,2))))","v":""},{"$f":"IF(A240=$D$8,ROUND(SUM($G$25:G240),2),IF(A241>$D$8,\"\",IF(T241<>T240,ROUND(SUM(V241*$D$9*E240/T241,W241*$D$9*E240/T240),2),ROUND(E240*$D$9*D241/T240,2))))","v":""},{"$f":"IF(A240=$D$8,SUM($H$25:H240),IF(A240>$D$8,\"\",F241+G241))","v":""},"",{"$f":"IF($D$8>A240,$N$9,IF($D$8=A240,SUM($J$24:J240),\" \"))","v":" "},{"$f":"IF($D$8>A240,($O$8+$N$10*E240),IF(A240=$D$8,$K$37+$K$24+$K$49+$K$61+$K$73+$K$85+$K$97+$K$109+$K$121+$K$133+$K$145+$K$157+$K$169+$K$181+$K$193+$K$205+$K$217+$K$229,\"\"))","v":""},"","","",null,{"$f":"IF(A240=$D$8,XIRR(H$24:H240,C$24:C240),\"\")","v":""},"",0,{"$error":"#VALUE!"},{"$error":"#VALUE!"},{"$error":"#VALUE!"},{"$error":"#VALUE!"},{"$error":"#VALUE!"}]
["",""," ","","",{"$f":"IF(AND(A241=\"\",A243=\"\"),\"\",IF(A242=\"\",ROUND(SUM($F$25:F241),2),IF(A242=$D$8,$E$24-ROUND(SUM($F$25:F241),2),ROUND($E$24/$D$8,2))))","v":""},{"$f":"IF(A241=$D$8,ROUND(SUM($G$25:G241),2),IF(A242>$D$8,\"\",IF(T242<>T241,ROUND(SUM(V242*$D$9*E241/T242,W242*$D$9*E241/T241),2),ROUND(E241*$D$9*D242/T241,2))))","v":""},{"$f":"IF(A241=$D$8,SUM($H$25:H241),IF(A241>$D$8,\"\",F242+G242))","v":""},"",{"$f":"IF(A241=$D$8,$J$24,\"\")","v":""},null,"","","",null,{"$f":"IF(A241=$D$8,XIRR(H$24:H241,C$24:C241),\"\")","v":""},"",0,{"$error":"#VALUE!"},{"$error":"#VALUE!"},{"$error":"#VALUE!"},{"$error":"#VALUE!"},{"$error":"#VALUE!"}]
["",""," ","","",{"$f":"IF(AND(A242=\"\",A244=\"\"),\"\",IF(A243=\"\",ROUND(SUM($F$25:F242),2),IF(A243=$D$8,$E$24-ROUND(SUM($F$25:F242),2),ROUND($E$24/$D$8,2))))","v":""},{"$f":"IF(A242=$D$8,ROUND(SUM($G$25:G242),2),IF(A243>$D$8,\"\",IF(T243<>T242,ROUND(SUM(V243*$D$9*E242/T243,W243*$D$9*E242/T242),2),ROUND(E242*$D$9*D243/T242,2))))","v":""},{"$f":"IF(A242=$D$8,SUM($H$25:H242),IF(A242>$D$8,\"\",F243+G243))","v":""},"","",null,"","","",null,{"$f":"IF(A242=$D$8,XIRR(H$24:H242,C$24:C242),\"\")","v":""},"",0,{"$error":"#VALUE!"},{"$error":"#VALUE!"},{"$error":"#VALUE!"},{"$error":"#VALUE!"},{"$error":"#VALUE!"}]
["",""," ","","",{"$f":"IF(AND(A243=\"\",A245=\"\"),\"\",IF(A244=\"\",ROUND(SUM($F$25:F243),2),IF(A244=$D$8,$E$24-ROUND(SUM($F$25:F243),2),ROUND($E$24/$D$8,2))))","v":""},{"$f":"IF(A243=$D$8,ROUND(SUM($G$25:G243),2),IF(A244>$D$8,\"\",IF(T244<>T243,ROUND(SUM(V244*$D$9*E243/T244,W244*$D$9*E243/T243),2),ROUND(E243*$D$9*D244/T243,2))))","v":""},{"$f":"IF(A243=$D$8,SUM($H$25:H243),IF(A243>$D$8,\"\",F244+G244))","v":""},"","",null,"","","",null,{"$f":"IF(A243=$D$8,XIRR(H$24:H243,C$24:C243),\"\")","v":""},"",0,{"$error":"#VALUE!"},{"$error":"#VALUE!"},{"$error":"#VALUE!"},{"$error":"#VALUE!"},{"$error":"#VALUE!"}]
["",""," ","","",{"$f":"IF(AND(A244=\"\",A246=\"\"),\"\",IF(A245=\"\",ROUND(SUM($F$25:F244),2),IF(A245=$D$8,$E$24-ROUND(SUM($F$25:F244),2),ROUND($E$24/$D$8,2))))","v":""},{"$f":"IF(A244=$D$8,ROUND(SUM($G$25:G244),2),IF(A245>$D$8,\"\",IF(T245<>T244,ROUND(SUM(V245*$D$9*E244/T245,W245*$D$9*E244/T244),2),ROUND(E244*$D$9*D245/T244,2))))","v":""},{"$f":"IF(A244=$D$8,SUM($H$25:H244),IF(A244>$D$8,\"\",F245+G245))","v":""},"","",null,"","","",null,{"$f":"IF(A244=$D$8,XIRR(H$24:H244,C$24:C244),\"\")","v":""},"",0,{"$error":"#VALUE!"},{"$error":"#VALUE!"},{"$error":"#VALUE!"},{"$error":"#VALUE!"},{"$error":"#VALUE!"}]
["",""," ","","",{"$f":"IF(AND(A245=\"\",A247=\"\"),\"\",IF(A246=\"\",ROUND(SUM($F$25:F245),2),IF(A246=$D$8,$E$24-ROUND(SUM($F$25:F245),2),ROUND($E$24/$D$8,2))))","v":""},{"$f":"IF(A245=$D$8,ROUND(SUM($G$25:G245),2),IF(A246>$D$8,\"\",IF(T246<>T245,ROUND(SUM(V246*$D$9*E245/T246,W246*$D$9*E245/T245),2),ROUND(E245*$D$9*D246/T245,2))))","v":""},{"$f":"IF(A245=$D$8,SUM($H$25:H245),IF(A245>$D$8,\"\",F246+G246))","v":""},"","",null,"","","",null,{"$f":"IF(A245=$D$8,XIRR(H$24:H245,C$24:C245),\"\")","v":""},"",0,{"$error":"#VALUE!"},{"$error":"#VALUE!"},{"$error":"#VALUE!"},{"$error":"#VALUE!"},{"$error":"#VALUE!"}]
["",""," ","","",{"$f":"IF(AND(A246=\"\",A248=\"\"),\"\",IF(A247=\"\",ROUND(SUM($F$25:F246),2),IF(A247=$D$8,$E$24-ROUND(SUM($F$25:F246),2),ROUND($E$24/$D$8,2))))","v":""},{"$f":"IF(A246=$D$8,ROUND(SUM($G$25:G246),2),IF(A247>$D$8,\"\",IF(T247<>T246,ROUND(SUM(V247*$D$9*E246/T247,W247*$D$9*E246/T246),2),ROUND(E246*$D$9*D247/T246,2))))","v":""},{"$f":"IF(A246=$D$8,SUM($H$25:H246),IF(A246>$D$8,\"\",F247+G247))","v":""},"","",null,"","","",null,{"$f":"IF(A246=$D$8,XIRR(H$24:H246,C$24:C246),\"\")","v":""},"",0,{"$error":"#VALUE!"},{"$error":"#VALUE!"},{"$error":"#VALUE!"},{"$error":"#VALUE!"},{"$error":"#VALUE!"}]
["",""," ","","",{"$f":"IF(AND(A247=\"\",A249=\"\"),\"\",IF(A248=\"\",ROUND(SUM($F$25:F247),2),IF(A248=$D$8,$E$24-ROUND(SUM($F$25:F247),2),ROUND($E$24/$D$8,2))))","v":""},{"$f":"IF(A247=$D$8,ROUND(SUM($G$25:G247),2),IF(A248>$D$8,\"\",IF(T248<>T247,ROUND(SUM(V248*$D$9*E247/T248,W248*$D$9*E247/T247),2),ROUND(E247*$D$9*D248/T247,2))))","v":""},{"$f":"IF(A247=$D$8,SUM($H$25:H247),IF(A247>$D$8,\"\",F248+G248))","v":""},"","",null,"","","",null,{"$f":"IF(A247=$D$8,XIRR(H$24:H247,C$24:C247),\"\")","v":""},"",0,{"$error":"#VALUE!"},{"$error":"#VALUE!"},{"$error":"#VALUE!"},{"$error":"#VALUE!"},{"$error":"#VALUE!"}]
["",""," ","","",{"$f":"IF(AND(A248=\"\",A250=\"\"),\"\",IF(A249=\"\",ROUND(SUM($F$25:F248),2),IF(A249=$D$8,$E$24-ROUND(SUM($F$25:F248),2),ROUND($E$24/$D$8,2))))","v":""},{"$f":"IF(A248=$D$8,ROUND(SUM($G$25:G248),2),IF(A249>$D$8,\"\",IF(T249<>T248,ROUND(SUM(V249*$D$9*E248/T249,W249*$D$9*E248/T248),2),ROUND(E248*$D$9*D249/T248,2))))","v":""},{"$f":"IF(A248=$D$8,SUM($H$25:H248),IF(A248>$D$8,\"\",F249+G249))","v":""},"","",null,"","","",null,{"$f":"IF(A248=$D$8,XIRR(H$24:H248,C$24:C248),\"\")","v":""},"",0,{"$error":"#VALUE!"},{"$error":"#VALUE!"},{"$error":"#VALUE!"},{"$error":"#VALUE!"},{"$error":"#VALUE!"}]
["",""," ","","",{"$f":"IF(AND(A249=\"\",A251=\"\"),\"\",IF(A250=\"\",ROUND(SUM($F$25:F249),2),IF(A250=$D$8,$E$24-ROUND(SUM($F$25:F249),2),ROUND($E$24/$D$8,2))))","v":""},{"$f":"IF(A249=$D$8,ROUND(SUM($G$25:G249),2),IF(A250>$D$8,\"\",IF(T250<>T249,ROUND(SUM(V250*$D$9*E249/T250,W250*$D$9*E249/T249),2),ROUND(E249*$D$9*D250/T249,2))))","v":""},{"$f":"IF(A249=$D$8,SUM($H$25:H249),IF(A249>$D$8,\"\",F250+G250))","v":""},"","",null,"","","",null,{"$f":"IF(A249=$D$8,XIRR(H$24:H249,C$24:C249),\"\")","v":""},"",0,{"$error":"#VALUE!"},{"$error":"#VALUE!"},{"$error":"#VALUE!"},{"$error":"#VALUE!"},{"$error":"#VALUE!"}]
["",""," ","","",{"$f":"IF(AND(A250=\"\",A252=\"\"),\"\",IF(A251=\"\",ROUND(SUM($F$25:F250),2),IF(A251=$D$8,$E$24-ROUND(SUM($F$25:F250),2),ROUND($E$24/$D$8,2))))","v":""},{"$f":"IF(A250=$D$8,ROUND(SUM($G$25:G250),2),IF(A251>$D$8,\"\",IF(T251<>T250,ROUND(SUM(V251*$D$9*E250/T251,W251*$D$9*E250/T250),2),ROUND(E250*$D$9*D251/T250,2))))","v":""},{"$f":"IF(A250=$D$8,SUM($H$25:H250),IF(A250>$D$8,\"\",F251+G251))","v":""},"","",null,"","","",null,{"$f":"IF(A250=$D$8,XIRR(H$24:H250,C$24:C250),\"\")","v":""},"",0,{"$error":"#VALUE!"},{"$error":"#VALUE!"},{"$error":"#VALUE!"},{"$error":"#VALUE!"},{"$error":"#VALUE!"}]
["",""," ","","",{"$f":"IF(AND(A251=\"\",A253=\"\"),\"\",IF(A252=\"\",ROUND(SUM($F$25:F251),2),IF(A252=$D$8,$E$24-ROUND(SUM($F$25:F251),2),ROUND($E$24/$D$8,2))))","v":""},{"$f":"IF(A251=$D$8,ROUND(SUM($G$25:G251),2),IF(A252>$D$8,\"\",IF(T252<>T251,ROUND(SUM(V252*$D$9*E251/T252,W252*$D$9*E251/T251),2),ROUND(E251*$D$9*D252/T251,2))))","v":""},{"$f":"IF(A251=$D$8,SUM($H$25:H251),IF(A251>$D$8,\"\",F252+G252))","v":""},"","",null,"","","",null,{"$f":"IF(A251=$D$8,XIRR(H$24:H251,C$24:C251),\"\")","v":""},"",0,{"$error":"#VALUE!"},{"$error":"#VALUE!"},{"$error":"#VALUE!"},{"$error":"#VALUE!"},{"$error":"#VALUE!"}]
["",""," ","","",{"$f":"IF(AND(A252=\"\",A254=\"\"),\"\",IF(A253=\"\",ROUND(SUM($F$25:F252),2),IF(A253=$D$8,$E$24-ROUND(SUM($F$25:F252),2),ROUND($E$24/$D$8,2))))","v":""},{"$f":"IF(A252=$D$8,ROUND(SUM($G$25:G252),2),IF(A253>$D$8,\"\",IF(T253<>T252,ROUND(SUM(V253*$D$9*E252/T253,W253*$D$9*E252/T252),2),ROUND(E252*$D$9*D253/T252,2))))","v":""},{"$f":"IF(A252=$D$8,SUM($H$25:H252),IF(A252>$D$8,\"\",F253+G253))","v":""},"",{"$f":"IF($D$8>A252,$N$9,IF($D$8=A252,SUM($J$24:J252),\" \"))","v":" "},{"$f":"IF($D$8>A252,($O$8+$N$10*E252),IF(A252=$D$8,$K$37+$K$24+$K$49+$K$61+$K$73+$K$85+$K$97+$K$109+$K$121+$K$133+$K$145+$K$157+$K$169+$K$181+$K$193+$K$205+$K$217+$K$229+$K$241,\"\"))","v":""},"","","",null,{"$f":"IF(A252=$D$8,XIRR(H$24:H252,C$24:C252),\"\")","v":""},"",0,{"$error":"#VALUE!"},{"$error":"#VALUE!"},{"$error":"#VALUE!"},{"$error":"#VALUE!"},{"$error":"#VALUE!"}]
["",""," ","","",{"$f":"IF(AND(A253=\"\",A255=\"\"),\"\",IF(A254=\"\",ROUND(SUM($F$25:F253),2),IF(A254=$D$8,$E$24-ROUND(SUM($F$25:F253),2),ROUND($E$24/$D$8,2))))","v":""},{"$f":"IF(A253=$D$8,ROUND(SUM($G$25:G253),2),IF(A254>$D$8,\"\",IF(T254<>T253,ROUND(SUM(V254*$D$9*E253/T254,W254*$D$9*E253/T253),2),ROUND(E253*$D$9*D254/T253,2))))","v":""},{"$f":"IF(A253=$D$8,SUM($H$25:H253),IF(A253>$D$8,\"\",F254+G254))","v":""},"",{"$f":"IF(A253=$D$8,$J$24,\"\")","v":""},{"$f":"IF(A253=$D$8,$K$24,\"\")","v":""},"","","",null,{"$f":"IF(A253=$D$8,XIRR(H$24:H253,C$24:C253),\"\")","v":""},"",0,{"$error":"#VALUE!"},{"$error":"#VALUE!"},{"$error":"#VALUE!"},{"$error":"#VALUE!"},{"$error":"#VALUE!"}]
["",""," ","","",{"$f":"IF(AND(A254=\"\",A256=\"\"),\"\",IF(A255=\"\",ROUND(SUM($F$25:F254),2),IF(A255=$D$8,$E$24-ROUND(SUM($F$25:F254),2),ROUND($E$24/$D$8,2))))","v":""},{"$f":"IF(A254=$D$8,ROUND(SUM($G$25:G254),2),IF(A255>$D$8,\"\",IF(T255<>T254,ROUND(SUM(V255*$D$9*E254/T255,W255*$D$9*E254/T254),2),ROUND(E254*$D$9*D255/T254,2))))","v":""},{"$f":"IF(A254=$D$8,SUM($H$25:H254),IF(A254>$D$8,\"\",F255+G255))","v":""},"","","","","","",null,{"$f":"IF(A254=$D$8,XIRR(H$24:H254,C$24:C254),\"\")","v":""},"",0,{"$error":"#VALUE!"},{"$error":"#VALUE!"},{"$error":"#VALUE!"},{"$error":"#VALUE!"},{"$error":"#VALUE!"}]
["",""," ","","",{"$f":"IF(AND(A255=\"\",A257=\"\"),\"\",IF(A256=\"\",ROUND(SUM($F$25:F255),2),IF(A256=$D$8,$E$24-ROUND(SUM($F$25:F255),2),ROUND($E$24/$D$8,2))))","v":""},{"$f":"IF(A255=$D$8,ROUND(SUM($G$25:G255),2),IF(A256>$D$8,\"\",IF(T256<>T255,ROUND(SUM(V256*$D$9*E255/T256,W256*$D$9*E255/T255),2),ROUND(E255*$D$9*D256/T255,2))))","v":""},{"$f":"IF(A255=$D$8,SUM($H$25:H255),IF(A255>$D$8,\"\",F256+G256))","v":""},"","","","","","",null,{"$f":"IF(A255=$D$8,XIRR(H$24:H255,C$24:C255),\"\")","v":""},"",0,{"$error":"#VALUE!"},{"$error":"#VALUE!"},{"$error":"#VALUE!"},{"$error":"#VALUE!"},{"$error":"#VALUE!"}]
["",""," ","","",{"$f":"IF(AND(A256=\"\",A258=\"\"),\"\",IF(A257=\"\",ROUND(SUM($F$25:F256),2),IF(A257=$D$8,$E$24-ROUND(SUM($F$25:F256),2),ROUND($E$24/$D$8,2))))","v":""},{"$f":"IF(A256=$D$8,ROUND(SUM($G$25:G256),2),IF(A257>$D$8,\"\",IF(T257<>T256,ROUND(SUM(V257*$D$9*E256/T257,W257*$D$9*E256/T256),2),ROUND(E256*$D$9*D257/T256,2))))","v":""},{"$f":"IF(A256=$D$8,SUM($H$25:H256),IF(A256>$D$8,\"\",F257+G257))","v":""},"","","","","","",null,{"$f":"IF(A256=$D$8,XIRR(H$24:H256,C$24:C256),\"\")","v":""},"",0,{"$error":"#VALUE!"},{"$error":"#VALUE!"},{"$error":"#VALUE!"},{"$error":"#VALUE!"},{"$error":"#VALUE!"}]
["",""," ","","",{"$f":"IF(AND(A257=\"\",A259=\"\"),\"\",IF(A258=\"\",ROUND(SUM($F$25:F257),2),IF(A258=$D$8,$E$24-ROUND(SUM($F$25:F257),2),ROUND($E$24/$D$8,2))))","v":""},{"$f":"IF(A257=$D$8,ROUND(SUM($G$25:G257),2),IF(A258>$D$8,\"\",IF(T258<>T257,ROUND(SUM(V258*$D$9*E257/T258,W258*$D$9*E257/T257),2),ROUND(E257*$D$9*D258/T257,2))))","v":""},{"$f":"IF(A257=$D$8,SUM($H$25:H257),IF(A257>$D$8,\"\",F258+G258))","v":""},"","","","","","",null,{"$f":"IF(A257=$D$8,XIRR(H$24:H257,C$24:C257),\"\")","v":""},"",0,{"$error":"#VALUE!"},{"$error":"#VALUE!"},{"$error":"#VALUE!"},{"$error":"#VALUE!"},{"$error":"#VALUE!"}]
["",""," ","","",{"$f":"IF(AND(A258=\"\",A260=\"\"),\"\",IF(A259=\"\",ROUND(SUM($F$25:F258),2),IF(A259=$D$8,$E$24-ROUND(SUM($F$25:F258),2),ROUND($E$24/$D$8,2))))","v":""},{"$f":"IF(A258=$D$8,ROUND(SUM($G$25:G258),2),IF(A259>$D$8,\"\",IF(T259<>T258,ROUND(SUM(V259*$D$9*E258/T259,W259*$D$9*E258/T258),2),ROUND(E258*$D$9*D259/T258,2))))","v":""},{"$f":"IF(A258=$D$8,SUM($H$25:H258),IF(A258>$D$8,\"\",F259+G259))","v":""},"","","","","","",null,{"$f":"IF(A258=$D$8,XIRR(H$24:H258,C$24:C258),\"\")","v":""},"",0,{"$error":"#VALUE!"},{"$error":"#VALUE!"},{"$error":"#VALUE!"},{"$error":"#VALUE!"},{"$error":"#VALUE!"}]
["",""," ","","",{"$f":"IF(AND(A259=\"\",A261=\"\"),\"\",IF(A260=\"\",ROUND(SUM($F$25:F259),2),IF(A260=$D$8,$E$24-ROUND(SUM($F$25:F259),2),ROUND($E$24/$D$8,2))))","v":""},{"$f":"IF(A259=$D$8,ROUND(SUM($G$25:G259),2),IF(A260>$D$8,\"\",IF(T260<>T259,ROUND(SUM(V260*$D$9*E259/T260,W260*$D$9*E259/T259),2),ROUND(E259*$D$9*D260/T259,2))))","v":""},{"$f":"IF(A259=$D$8,SUM($H$25:H259),IF(A259>$D$8,\"\",F260+G260))","v":""},"","","","","","",null,{"$f":"IF(A259=$D$8,XIRR(H$24:H259,C$24:C259),\"\")","v":""},"",0,{"$error":"#VALUE!"},{"$error":"#VALUE!"},{"$error":"#VALUE!"},{"$error":"#VALUE!"},{"$error":"#VALUE!"}]
["",""," ","","",{"$f":"IF(AND(A260=\"\",A262=\"\"),\"\",IF(A261=\"\",ROUND(SUM($F$25:F260),2),IF(A261=$D$8,$E$24-ROUND(SUM($F$25:F260),2),ROUND($E$24/$D$8,2))))","v":""},{"$f":"IF(A260=$D$8,ROUND(SUM($G$25:G260),2),IF(A261>$D$8,\"\",IF(T261<>T260,ROUND(SUM(V261*$D$9*E260/T261,W261*$D$9*E260/T260),2),ROUND(E260*$D$9*D261/T260,2))))","v":""},{"$f":"IF(A260=$D$8,SUM($H$25:H260),IF(A260>$D$8,\"\",F261+G261))","v":""},"","","","","","",null,{"$f":"IF(A260=$D$8,XIRR(H$24:H260,C$24:C260),\"\")","v":""},"",0,{"$error":"#VALUE!"},{"$error":"#VALUE!"},{"$error":"#VALUE!"},{"$error":"#VALUE!"},{"$error":"#VALUE!"}]
["",""," ","","",{"$f":"IF(AND(A261=\"\",A263=\"\"),\"\",IF(A262=\"\",ROUND(SUM($F$25:F261),2),IF(A262=$D$8,$E$24-ROUND(SUM($F$25:F261),2),ROUND($E$24/$D$8,2))))","v":""},{"$f":"IF(A261=$D$8,ROUND(SUM($G$25:G261),2),IF(A262>$D$8,\"\",IF(T262<>T261,ROUND(SUM(V262*$D$9*E261/T262,W262*$D$9*E261/T261),2),ROUND(E261*$D$9*D262/T261,2))))","v":""},{"$f":"IF(A261=$D$8,SUM($H$25:H261),IF(A261>$D$8,\"\",F262+G262))","v":""},"","","","","","",null,{"$f":"IF(A261=$D$8,XIRR(H$24:H261,C$24:C261),\"\")","v":""},"",0,{"$error":"#VALUE!"},{"$error":"#VALUE!"},{"$error":"#VALUE!"},{"$error":"#VALUE!"},{"$error":"#VALUE!"}]
["",""," ","","",{"$f":"IF(AND(A262=\"\",A264=\"\"),\"\",IF(A263=\"\",ROUND(SUM($F$25:F262),2),IF(A263=$D$8,$E$24-ROUND(SUM($F$25:F262),2),ROUND($E$24/$D$8,2))))","v":""},{"$f":"IF(A262=$D$8,ROUND(SUM($G$25:G262),2),IF(A263>$D$8,\"\",IF(T263<>T262,ROUND(SUM(V263*$D$9*E262/T263,W263*$D$9*E262/T262),2),ROUND(E262*$D$9*D263/T262,2))))","v":""},{"$f":"IF(A262=$D$8,SUM($H$25:H262),IF(A262>$D$8,\"\",F263+G263))","v":""},"","","","","","",null,{"$f":"IF(A262=$D$8,XIRR(H$24:H262,C$24:C262),\"\")","v":""},"",0,{"$error":"#VALUE!"},{"$error":"#VALUE!"},{"$error":"#VALUE!"},{"$error":"#VALUE!"},{"$error":"#VALUE!"}]
["",""," ","","",{"$f":"IF(AND(A263=\"\",A265=\"\"),\"\",IF(A264=\"\",ROUND(SUM($F$25:F263),2),IF(A264=$D$8,$E$24-ROUND(SUM($F$25:F263),2),ROUND($E$24/$D$8,2))))","v":""},{"$f":"IF(A263=$D$8,ROUND(SUM($G$25:G263),2),IF(A264>$D$8,\"\",IF(T264<>T263,ROUND(SUM(V264*$D$9*E263/T264,W264*$D$9*E263/T263),2),ROUND(E263*$D$9*D264/T263,2))))","v":""},{"$f":"IF(A263=$D$8,SUM($H$25:H263),IF(A263>$D$8,\"\",F264+G264))","v":""},"","","","","","",null,{"$f":"IF(A263=$D$8,XIRR(H$24:H263,C$24:C263),\"\")","v":""},"",0,{"$error":"#VALUE!"},{"$error":"#VALUE!"},{"$error":"#VALUE!"},{"$error":"#VALUE!"},{"$error":"#VALUE!"}]
[{"$f":"IF(A264<$D$8,A264+1,\"\")","v":""},null,null,null,{"$f":"IF(A265>$D$8,\"\",E264-F265)","v":""},{"$f":"IF(AND(A264=\"\",A266=\"\"),\"\",IF(A265=\"\",ROUND(SUM($F$25:F264),2),IF(A265=$D$8,$E$24-ROUND(SUM($F$25:F264),2),ROUND($E$24/$D$8,2))))","v":""},{"$f":"IF(A264=$D$8,ROUND(SUM($G$25:G264),2),IF(A265>$D$8,\"\",IF(T265<>T264,ROUND(SUM(V265*$D$9*E264/T265,W265*$D$9*E264/T264),2),ROUND(E264*$D$9*D265/T264,2))))","v":""},{"$f":"IF(A264=$D$8,SUM($H$25:H264),IF(A264>$D$8,\"\",F265+G265))","v":""},{"$f":"IF(A264=$D$8,$I$24,\"\")","v":""},{"$f":"IF($D$8>A264,$N$9,IF($D$8=A264,SUM($J$24:J264),\" \"))","v":" "},{"$f":"IF($D$8>A264,($O$8+$N$10*E264),IF(A264=$D$8,$K$37+$K$24+$K$49+$K$61+$K$73+$K$85+$K$97+$K$109+$K$121+$K$133+$K$145+$K$157+$K$169+$K$181+$K$193+$K$205+$K$217+$K$229+$K$241+K253,\"\"))","v":""},{"$f":"IF(A264=$D$8,$L$24,\"\")","v":""},{"$f":"IF(A264=$D$8,$M$24,\"\")","v":""},{"$f":"IF(A264=$D$8,$N$24,\"\")","v":""},null,{"$f":"IF(A264=$D$8,XIRR(R$24:R264,C$24:C264),\"\")","v":""},{"$f":"IF(A264=$D$8,G265+M265+F265+I265+J265+K265+L265+N265+O265,\"\")","v":""},null,{"$f":"IF(C265=\"\",\"\",YEAR(C265))","v":""}]
["",null,null,null,null,null,null,null,null,null,{"$f":"IF(A265=$D$8,$K$24,\"\")","v":""}]
[null,null,null,null,null,null,null,null,null,null,""]

{"sheet":"графік платежів","index":1,"n_rows":257,"n_cols":18,"rows_kept":257,"cut":false,"hidden":false,"merged":[[10,3,13,3],[10,4,10,15],[3,0,3,1],[3,4,3,5],[4,0,4,1],[4,4,4,5],[5,0,5,1],[5,4,5,5],[0,0,0,16],[10,16,13,16],[10,17,13,17],[11,4,13,4],[11,5,13,5],[11,6,11,15],[12,6,12,9],[12,10,12,11],[12,12,12,15],[6,0,6,1],[6,4,6,5],[7,0,7,1],[7,4,7,5],[10,0,13,0],[10,1,13,1],[10,2,13,2]]}
["Таблиця обчислення орієнтовної вартості споживчого кредиту під заставу нерухомості"]
[]
[]
["Дата кредиту",null,{"$f":"TODAY()","v":"2023-11-02"},null,"Разова комісія",null,0]
["Вартість Авто, грн",null,1333334,{"$f":"IF(C6/C5>75%,\"Співвідношення кредиту до застави має бути не менше 75%\",\" \")","v":" "},"Страхування Позичальника",null,0.06]
["Сумма кредиту, грн",null,1000000,{"$f":"IF(C6<50000,\"Мін. сума кредиту - 50 тис грн\",IF(C6>1000000,\"Макс. сума кредиту 1 млн. грн\",\" \"))","v":" "},"Послуги нотаріуса",null,4000]
["Строк кредиту, міс",null,60,{"$f":"IF(C7>60,\"Макс. Строк -60 міс.\",IF(C7<6,\"Мін. строк 6 міс.\",\" \"))","v":" "},"Послуги оцінювача",null,1500]
["Відсоткова ставка",null,0.25,null,"Страхування застави",null,0]
[]
[]
["№ з/п","Дата видачі кредиту/дата платежу","Кількість днів у розрахунковому періоді","Чиста сума кредиту/сума платежу за розрахунковий період, грн.","Види платежів за кредитом",null,null,null,null,null,null,null,null,null,null,null,"Реальна річна процентна ставка, %","Загальна вартість кредиту, грн"]
[null,null,null,null,"сума кредиту за договором","проценти за користування кредитом","платежі за додаткові та супутні послуги"]
[null,null,null,null,null,null,"банку",null,null,null,"кредитного посередника ",null,"третіх осіб"]
[null,null,null,null,null,null,"за обслуговування кредитної заборгованості","розрахунково-касове обслуговування","комісія за надання кредиту","інші послуги банку","комісійний збір","інша плата за послуги кредитного посередника","послуги нотаріуса","послуги оцінювача","послуги страховика","інші послуги третіх осіб"]
[1,2,3,4,5,6,7,8,9,10,11,12,13,14,15,16,17,18]
[null,{"$f":"' '!C24","v":"2021-01-01"},null,{"$f":"' '!D6*(-1)","v":-1000000},null,null,null,null,null,null,null,null,{"$f":"' '!I24","v":4000},{"$f":"' '!J24","v":1500},{"$f":"' '!K24","v":60000}]
[{"$f":"' '!A25","v":1},{"$f":"' '!C25","v":"2021-02-01"},{"$f":"' '!D25","v":31},{"$f":"' '!H25","v":29351.323376486274},{"$f":"' '!F25","v":8118.4433764862733},{"$f":"' '!G25","v":21232.880000000001},null,null,null,null,null,null,{"$f":"' '!I25","v":" "},null,null,null,{"$f":"' '!P25","v":""}]
[{"$f":"' '!A26","v":2},{"$f":"' '!C26","v":"2021-03-01"},{"$f":"' '!D26","v":28},{"$f":"' '!H26","v":29351.323376486274},{"$f":"' '!F26","v":10328.933376486275},{"$f":"' '!G26","v":19022.39},null,null,null,null,null,null,{"$f":"' '!I26","v":" "},null,null,null,{"$f":"' '!P26","v":""}]
[{"$f":"' '!A27","v":3},{"$f":"' '!C27","v":"2021-04-01"},{"$f":"' '!D27","v":31},{"$f":"' '!H27","v":29351.323376486274},{"$f":"' '!F27","v":8510.1333764862757},{"$f":"' '!G27","v":20841.189999999999},null,null,null,null,null,null,{"$f":"' '!I27","v":" "},null,null,null,{"$f":"' '!P27","v":""},{"$f":"' '!Q27","v":""}]
[{"$f":"' '!A28","v":4},{"$f":"' '!C28","v":"2021-05-01"},{"$f":"' '!D28","v":30},{"$f":"' '!H28","v":29351.323376486274},{"$f":"' '!F28","v":9357.3033764862739},{"$f":"' '!G28","v":19994.02},null,null,null,null,null,null,{"$f":"' '!I28","v":" "},null,null,null,{"$f":"' '!P28","v":""},{"$f":"' '!Q28","v":""}]
[{"$f":"' '!A29","v":5},{"$f":"' '!C29","v":"2021-06-01"},{"$f":"' '!D29","v":31},{"$f":"' '!H29","v":29351.323376486274},{"$f":"' '!F29","v":8889.513376486273},{"$f":"' '!G29","v":20461.810000000001},null,null,null,null,null,null,{"$f":"' '!I29","v":""},{"$f":"' '!J29","v":""},null,null,{"$f":"' '!P29","v":""},{"$f":"' '!Q29","v":""}]
[{"$f":"' '!A30","v":6},{"$f":"' '!C30","v":"2021-07-01"},{"$f":"' '!D30","v":30},{"$f":"' '!H30","v":29351.323376486274},{"$f":"' '!F30","v":9732.2333764862742},{"$f":"' '!G30","v":19619.09},null,null,null,null,null,null,{"$f":"' '!I30","v":""},{"$f":"' '!J30","v":""},null,null,{"$f":"' '!P30","v":""},{"$f":"' '!Q30","v":""}]
[{"$f":"' '!A31","v":7},{"$f":"' '!C31","v":"2021-08-01"},{"$f":"' '!D31","v":31},{"$f":"' '!H31","v":29351.323376486274},{"$f":"' '!F31","v":9284.9033764862761},{"$f":"' '!G31","v":20066.419999999998},null,null,null,null,null,null,{"$f":"' '!I31","v":""},{"$f":"' '!J31","v":""},null,null,{"$f":"' '!P31","v":""},{"$f":"' '!Q31","v":""}]
[{"$f":"' '!A32","v":8},{"$f":"' '!C32","v":"2021-09-01"},{"$f":"' '!D32","v":31},{"$f":"' '!H32","v":29351.323376486274},{"$f":"' '!F32","v":9482.0533764862739},{"$f":"' '!G32","v":19869.27},null,null,null,null,null,null,{"$f":"' '!I32","v":""},{"$f":"' '!J32","v":""},null,null,{"$f":"' '!P32","v":""},{"$f":"' '!Q32","v":""}]
[{"$f":"' '!A33","v":9},{"$f":"' '!C33","v":"2021-10-01"},{"$f":"' '!D33","v":30},{"$f":"' '!H33","v":29351.323376486274},{"$f":"' '!F33","v":10317.833376486273},{"$f":"' '!G33","v":19033.490000000002},null,null,null,null,null,null,{"$f":"' '!I33","v":""},{"$f":"' '!J33","v":""},null,null,{"$f":"' '!P33","v":""},{"$f":"' '!Q33","v":""}]
[{"$f":"' '!A34","v":10},{"$f":"' '!C34","v":"2021-11-01"},{"$f":"' '!D34","v":31},{"$f":"' '!H34","v":29351.323376486274},{"$f":"' '!F34","v":9902.4633764862738},{"$f":"' '!G34","v":19448.86},null,null,null,null,null,null,{"$f":"' '!I34","v":""},{"$f":"' '!J34","v":""},null,null,{"$f":"' '!P34","v":""},{"$f":"' '!Q34","v":""}]
[{"$f":"' '!A35","v":11},{"$f":"' '!C35","v":"2021-12-01"},{"$f":"' '!D35","v":30},{"$f":"' '!H35","v":29351.323376486274},{"$f":"' '!F35","v":10733.323376486274},{"$f":"' '!G35","v":18618},null,null,null,null,null,null,{"$f":"' '!I35","v":""},{"$f":"' '!J35","v":""},null,null,{"$f":"' '!P35","v":""},{"$f":"' '!Q35","v":""}]
[{"$f":"' '!A36","v":12},{"$f":"' '!C36","v":"2022-01-01"},{"$f":"' '!D36","v":31},{"$f":"' '!H36","v":29351.323376486274},{"$f":"' '!F36","v":10340.623376486274},{"$f":"' '!G36","v":19010.7},null,null,null,null,null,null,{"$f":"' '!I36","v":""},{"$f":"' '!J36","v":""},null,null,{"$f":"' '!P36","v":""},{"$f":"' '!Q36","v":""}]
[{"$f":"' '!A37","v":13},{"$f":"' '!C37","v":"2022-02-01"},{"$f":"' '!D37","v":31},{"$f":"' '!H37","v":29351.323376486274},{"$f":"' '!F37","v":10560.183376486275},{"$f":"' '!G37","v":18791.14},null,null,null,null,null,null,{"$f":"' '!I37","v":""},{"$f":"' '!J37","v":1500},{"$f":"' '!K37","v":53100.134368929874},null,{"$f":"' '!P37","v":""},{"$f":"' '!Q37","v":""}]
[{"$f":"' '!A38","v":14},{"$f":"' '!C38","v":"2022-03-01"},{"$f":"' '!D38","v":28},{"$f":"' '!H38","v":29351.323376486274},{"$f":"' '!F38","v":12581.203376486275},{"$f":"' '!G38","v":16770.12},null,null,null,null,null,null,{"$f":"' '!I38","v":""},{"$f":"' '!J38","v":""},null,null,{"$f":"' '!P38","v":""},{"$f":"' '!Q38","v":""}]
[{"$f":"' '!A39","v":15},{"$f":"' '!C39","v":"2022-04-01"},{"$f":"' '!D39","v":31},{"$f":"' '!H39","v":29351.323376486274},{"$f":"' '!F39","v":11051.533376486273},{"$f":"' '!G39","v":18299.79},null,null,null,null,null,null,{"$f":"' '!I39","v":""},{"$f":"' '!J39","v":""},null,null,{"$f":"' '!P39","v":""},{"$f":"' '!Q39","v":""}]
[{"$f":"' '!A40","v":16},{"$f":"' '!C40","v":"2022-05-01"},{"$f":"' '!D40","v":30},{"$f":"' '!H40","v":29351.323376486274},{"$f":"' '!F40","v":11868.943376486273},{"$f":"' '!G40","v":17482.38},null,null,null,null,null,null,{"$f":"' '!I40","v":""},{"$f":"' '!J40","v":""},null,null,{"$f":"' '!P40","v":""},{"$f":"' '!Q40","v":""}]
[{"$f":"' '!A41","v":17},{"$f":"' '!C41","v":"2022-06-01"},{"$f":"' '!D41","v":31},{"$f":"' '!H41","v":29351.323376486274},{"$f":"' '!F41","v":11538.203376486275},{"$f":"' '!G41","v":17813.12},null,null,null,null,null,null,{"$f":"' '!I41","v":""},{"$f":"' '!J41","v":""},null,null,{"$f":"' '!P41","v":""},{"$f":"' '!Q41","v":""}]
[{"$f":"' '!A42","v":18},{"$f":"' '!C42","v":"2022-07-01"},{"$f":"' '!D42","v":30},{"$f":"' '!H42","v":29351.323376486274},{"$f":"' '!F42","v":12349.913376486275},{"$f":"' '!G42","v":17001.41},null,null,null,null,null,null,{"$f":"' '!I42","v":""},{"$f":"' '!J42","v":""},null,null,{"$f":"' '!P42","v":""},{"$f":"' '!Q42","v":""}]
[{"$f":"' '!A43","v":19},{"$f":"' '!C43","v":"2022-08-01"},{"$f":"' '!D43","v":31},{"$f":"' '!H43","v":29351.323376486274},{"$f":"' '!F43","v":12045.423376486273},{"$f":"' '!G43","v":17305.900000000001},null,null,null,null,null,null,{"$f":"' '!I43","v":""},{"$f":"' '!J43","v":""},null,null,{"$f":"' '!P43","v":""},{"$f":"' '!Q43","v":""}]
[{"$f":"' '!A44","v":20},{"$f":"' '!C44","v":"2022-09-01"},{"$f":"' '!D44","v":31},{"$f":"' '!H44","v":29351.323376486274},{"$f":"' '!F44","v":12301.173376486273},{"$f":"' '!G44","v":17050.150000000001},null,null,null,null,null,null,{"$f":"' '!I44","v":""},{"$f":"' '!J44","v":""},null,null,{"$f":"' '!P44","v":""},{"$f":"' '!Q44","v":""}]
[{"$f":"' '!A45","v":21},{"$f":"' '!C45","v":"2022-10-01"},{"$f":"' '!D45","v":30},{"$f":"' '!H45","v":29351.323376486274},{"$f":"' '!F45","v":13103.943376486275},{"$f":"' '!G45","v":16247.38},null,null,null,null,null,null,{"$f":"' '!I45","v":""},{"$f":"' '!J45","v":""},null,null,{"$f":"' '!P45","v":""},{"$f":"' '!Q45","v":""}]
[{"$f":"' '!A46","v":22},{"$f":"' '!C46","v":"2022-11-01"},{"$f":"' '!D46","v":31},{"$f":"' '!H46","v":29351.323376486274},{"$f":"' '!F46","v":12840.603376486273},{"$f":"' '!G46","v":16510.72},null,null,null,null,null,null,{"$f":"' '!I46","v":""},{"$f":"' '!J46","v":""},null,null,{"$f":"' '!P46","v":""},{"$f":"' '!Q46","v":""}]
[{"$f":"' '!A47","v":23},{"$f":"' '!C47","v":"2022-12-01"},{"$f":"' '!D47","v":30},{"$f":"' '!H47","v":29351.323376486274},{"$f":"' '!F47","v":13637.053376486274},{"$f":"' '!G47","v":15714.27},null,null,null,null,null,null,{"$f":"' '!I47","v":""},{"$f":"' '!J47","v":""},null,null,{"$f":"' '!P47","v":""},{"$f":"' '!Q47","v":""}]
[{"$f":"' '!A48","v":24},{"$f":"' '!C48","v":"2023-01-01"},{"$f":"' '!D48","v":31},{"$f":"' '!H48","v":29351.323376486274},{"$f":"' '!F48","v":13402.803376486274},{"$f":"' '!G48","v":15948.52},null,null,null,null,null,null,{"$f":"' '!I48","v":""},{"$f":"' '!J48","v":""},null,null,{"$f":"' '!P48","v":""},{"$f":"' '!Q48","v":""}]
[{"$f":"' '!A49","v":25},{"$f":"' '!C49","v":"2023-02-01"},{"$f":"' '!D49","v":31},{"$f":"' '!H49","v":29351.323376486274},{"$f":"' '!F49","v":13687.383376486274},{"$f":"' '!G49","v":15663.94},null,null,null,null,null,null,{"$f":"' '!I49","v":""},{"$f":"' '!J49","v":1500},{"$f":"' '!K49","v":44263.27553785975},null,{"$f":"' '!P49","v":""},{"$f":"' '!Q49","v":""}]
[{"$f":"' '!A50","v":26},{"$f":"' '!C50","v":"2023-03-01"},{"$f":"' '!D50","v":28},{"$f":"' '!H50","v":29351.323376486274},{"$f":"' '!F50","v":15465.743376486274},{"$f":"' '!G50","v":13885.58},null,null,null,null,null,null,{"$f":"' '!I50","v":""},{"$f":"' '!J50","v":""},null,null,{"$f":"' '!P50","v":""},{"$f":"' '!Q50","v":""}]
[{"$f":"' '!A51","v":27},{"$f":"' '!C51","v":"2023-04-01"},{"$f":"' '!D51","v":31},{"$f":"' '!H51","v":29351.323376486274},{"$f":"' '!F51","v":14306.383376486274},{"$f":"' '!G51","v":15044.94},null,null,null,null,null,null,{"$f":"' '!I51","v":""},{"$f":"' '!J51","v":""},null,null,{"$f":"' '!P51","v":""},{"$f":"' '!Q51","v":""}]
[{"$f":"' '!A52","v":28},{"$f":"' '!C52","v":"2023-05-01"},{"$f":"' '!D52","v":30},{"$f":"' '!H52","v":29351.323376486274},{"$f":"' '!F52","v":15085.673376486275},{"$f":"' '!G52","v":14265.65},null,null,null,null,null,null,{"$f":"' '!I52","v":""},{"$f":"' '!J52","v":""},null,null,{"$f":"' '!P52","v":""},{"$f":"' '!Q52","v":""}]
[{"$f":"' '!A53","v":29},{"$f":"' '!C53","v":"2023-06-01"},{"$f":"' '!D53","v":31},{"$f":"' '!H53","v":29351.323376486274},{"$f":"' '!F53","v":14930.463376486274},{"$f":"' '!G53","v":14420.86},null,null,null,null,null,null,{"$f":"' '!I53","v":""},{"$f":"' '!J53","v":""},null,null,{"$f":"' '!P53","v":""},{"$f":"' '!Q53","v":""}]
[{"$f":"' '!A54","v":30},{"$f":"' '!C54","v":"2023-07-01"},{"$f":"' '!D54","v":30},{"$f":"' '!H54","v":29351.323376486274},{"$f":"' '!F54","v":15702.443376486275},{"$f":"' '!G54","v":13648.88},null,null,null,null,null,null,{"$f":"' '!I54","v":""},{"$f":"' '!J54","v":""},null,null,{"$f":"' '!P54","v":""},{"$f":"' '!Q54","v":""}]
[{"$f":"' '!A55","v":31},{"$f":"' '!C55","v":"2023-08-01"},{"$f":"' '!D55","v":31},{"$f":"' '!H55","v":29351.323376486274},{"$f":"' '!F55","v":15580.883376486274},{"$f":"' '!G55","v":13770.44},null,null,null,null,null,null,{"$f":"' '!I55","v":""},{"$f":"' '!J55","v":""},null,null,{"$f":"' '!P55","v":""},{"$f":"' '!Q55","v":""}]
[{"$f":"' '!A56","v":32},{"$f":"' '!C56","v":"2023-09-01"},{"$f":"' '!D56","v":31},{"$f":"' '!H56","v":29351.323376486274},{"$f":"' '!F56","v":15911.713376486274},{"$f":"' '!G56","v":13439.61},null,null,null,null,null,null,{"$f":"' '!I56","v":""},{"$f":"' '!J56","v":""},null,null,{"$f":"' '!P56","v":""},{"$f":"' '!Q56","v":""}]
[{"$f":"' '!A57","v":33},{"$f":"' '!C57","v":"2023-10-01"},{"$f":"' '!D57","v":30},{"$f":"' '!H57","v":29351.323376486274},{"$f":"' '!F57","v":16672.203376486272},{"$f":"' '!G57","v":12679.12},null,null,null,null,null,null,{"$f":"' '!I57","v":""},{"$f":"' '!J57","v":""},null,null,{"$f":"' '!P57","v":""},{"$f":"' '!Q57","v":""}]
[{"$f":"' '!A58","v":34},{"$f":"' '!C58","v":"2023-11-01"},{"$f":"' '!D58","v":31},{"$f":"' '!H58","v":29351.323376486274},{"$f":"' '!F58","v":16603.563376486272},{"$f":"' '!G58","v":12747.76},null,null,null,null,null,null,{"$f":"' '!I58","v":""},{"$f":"' '!J58","v":""},null,null,{"$f":"' '!P58","v":""},{"$f":"' '!Q58","v":""}]
[{"$f":"' '!A59","v":35},{"$f":"' '!C59","v":"2023-12-01"},{"$f":"' '!D59","v":30},{"$f":"' '!H59","v":29351.323376486274},{"$f":"' '!F59","v":17355.953376486272},{"$f":"' '!G59","v":11995.37},null,null,null,null,null,null,{"$f":"' '!I59","v":""},{"$f":"' '!J59","v":""},null,null,{"$f":"' '!P59","v":""},{"$f":"' '!Q59","v":""}]
[{"$f":"' '!A60","v":36},{"$f":"' '!C60","v":"2024-01-01"},{"$f":"' '!D60","v":31},{"$f":"' '!H60","v":29351.323376486274},{"$f":"' '!F60","v":17324.623376486274},{"$f":"' '!G60","v":12026.7},null,null,null,null,null,null,{"$f":"' '!I60","v":""},{"$f":"' '!J60","v":""},null,null,{"$f":"' '!P60","v":""},{"$f":"' '!Q60","v":""}]
[{"$f":"' '!A61","v":37},{"$f":"' '!C61","v":"2024-02-01"},{"$f":"' '!D61","v":31},{"$f":"' '!H61","v":29351.323376486274},{"$f":"' '!F61","v":17724.323376486274},{"$f":"' '!G61","v":11627},null,null,null,null,null,null,{"$f":"' '!I61","v":""},{"$f":"' '!J61","v":1500},{"$f":"' '!K61","v":32945.653706789621},null,{"$f":"' '!P61","v":""},{"$f":"' '!Q61","v":""}]
[{"$f":"' '!A62","v":38},{"$f":"' '!C62","v":"2024-03-01"},{"$f":"' '!D62","v":29},{"$f":"' '!H62","v":29351.323376486274},{"$f":"' '!F62","v":18825.553376486274},{"$f":"' '!G62","v":10525.77},null,null,null,null,null,null,{"$f":"' '!I62","v":""},{"$f":"' '!J62","v":""},null,null,{"$f":"' '!P62","v":""},{"$f":"' '!Q62","v":""}]
[{"$f":"' '!A63","v":39},{"$f":"' '!C63","v":"2024-04-01"},{"$f":"' '!D63","v":31},{"$f":"' '!H63","v":29351.323376486274},{"$f":"' '!F63","v":18498.263376486277},{"$f":"' '!G63","v":10853.06},null,null,null,null,null,null,{"$f":"' '!I63","v":""},{"$f":"' '!J63","v":""},null,null,{"$f":"' '!P63","v":""},{"$f":"' '!Q63","v":""}]
[{"$f":"' '!A64","v":40},{"$f":"' '!C64","v":"2024-05-01"},{"$f":"' '!D64","v":30},{"$f":"' '!H64","v":29351.323376486274},{"$f":"' '!F64","v":19227.423376486273},{"$f":"' '!G64","v":10123.9},null,null,null,null,null,null,{"$f":"' '!I64","v":""},{"$f":"' '!J64","v":""},null,null,{"$f":"' '!P64","v":""},{"$f":"' '!Q64","v":""}]
[{"$f":"' '!A65","v":41},{"$f":"' '!C65","v":"2024-06-01"},{"$f":"' '!D65","v":31},{"$f":"' '!H65","v":29351.323376486274},{"$f":"' '!F65","v":19297.103376486273},{"$f":"' '!G65","v":10054.219999999999},null,null,null,null,null,null,{"$f":"' '!I65","v":""},{"$f":"' '!J65","v":""},null,null,{"$f":"' '!P65","v":""},{"$f":"' '!Q65","v":""}]
[{"$f":"' '!A66","v":42},{"$f":"' '!C66","v":"2024-07-01"},{"$f":"' '!D66","v":30},{"$f":"' '!H66","v":29351.323376486274},{"$f":"' '!F66","v":20016.863376486275},{"$f":"' '!G66","v":9334.4599999999991},null,null,null,null,null,null,{"$f":"' '!I66","v":""},{"$f":"' '!J66","v":""},null,null,{"$f":"' '!P66","v":""},{"$f":"' '!Q66","v":""}]
[{"$f":"' '!A67","v":43},{"$f":"' '!C67","v":"2024-08-01"},{"$f":"' '!D67","v":31},{"$f":"' '!H67","v":29351.323376486274},{"$f":"' '!F67","v":20129.573376486274},{"$f":"' '!G67","v":9221.75},null,null,null,null,null,null,{"$f":"' '!I67","v":""},{"$f":"' '!J67","v":""},null,null,{"$f":"' '!P67","v":""},{"$f":"' '!Q67","v":""}]
[{"$f":"' '!A68","v":44},{"$f":"' '!C68","v":"2024-09-01"},{"$f":"' '!D68","v":31},{"$f":"' '!H68","v":29351.323376486274},{"$f":"' '!F68","v":20555.813376486272},{"$f":"' '!G68","v":8795.51},null,null,null,null,null,null,{"$f":"' '!I68","v":""},{"$f":"' '!J68","v":""},null,null,{"$f":"' '!P68","v":""},{"$f":"' '!Q68","v":""}]
[{"$f":"' '!A69","v":45},{"$f":"' '!C69","v":"2024-10-01"},{"$f":"' '!D69","v":30},{"$f":"' '!H69","v":29351.323376486274},{"$f":"' '!F69","v":21260.763376486273},{"$f":"' '!G69","v":8090.56},null,null,null,null,null,null,{"$f":"' '!I69","v":""},{"$f":"' '!J69","v":""},null,null,{"$f":"' '!P69","v":""},{"$f":"' '!Q69","v":""}]
[{"$f":"' '!A70","v":46},{"$f":"' '!C70","v":"2024-11-01"},{"$f":"' '!D70","v":31},{"$f":"' '!H70","v":29351.323376486274},{"$f":"' '!F70","v":21441.273376486275},{"$f":"' '!G70","v":7910.05},null,null,null,null,null,null,{"$f":"' '!I70","v":""},{"$f":"' '!J70","v":""},null,null,{"$f":"' '!P70","v":""},{"$f":"' '!Q70","v":""}]
[{"$f":"' '!A71","v":47},{"$f":"' '!C71","v":"2024-12-01"},{"$f":"' '!D71","v":30},{"$f":"' '!H71","v":29351.323376486274},{"$f":"' '!F71","v":22135.803376486274},{"$f":"' '!G71","v":7215.52},null,null,null,null,null,null,{"$f":"' '!I71","v":""},{"$f":"' '!J71","v":""},null,null,{"$f":"' '!P71","v":""},{"$f":"' '!Q71","v":""}]
[{"$f":"' '!A72","v":48},{"$f":"' '!C72","v":"2025-01-01"},{"$f":"' '!D72","v":31},{"$f":"' '!H72","v":29351.323376486274},{"$f":"' '!F72","v":22364.013376486273},{"$f":"' '!G72","v":6987.31},null,null,null,null,null,null,{"$f":"' '!I72","v":""},{"$f":"' '!J72","v":""},null,null,{"$f":"' '!P72","v":""},{"$f":"' '!Q72","v":""}]
[{"$f":"' '!A73","v":49},{"$f":"' '!C73","v":"2025-02-01"},{"$f":"' '!D73","v":31},{"$f":"' '!H73","v":29351.323376486274},{"$f":"' '!F73","v":22819.723376486276},{"$f":"' '!G73","v":6531.6},null,null,null,null,null,null,{"$f":"' '!I73","v":""},{"$f":"' '!J73","v":1500},{"$f":"' '!K73","v":18457.047475719508},null,{"$f":"' '!P73","v":""},{"$f":"' '!Q73","v":""}]
[{"$f":"' '!A74","v":50},{"$f":"' '!C74","v":"2025-03-01"},{"$f":"' '!D74","v":28},{"$f":"' '!H74","v":29351.323376486274},{"$f":"' '!F74","v":23889.453376486275},{"$f":"' '!G74","v":5461.87},null,null,null,null,null,null,{"$f":"' '!I74","v":""},{"$f":"' '!J74","v":""},null,null,{"$f":"' '!P74","v":""},{"$f":"' '!Q74","v":""}]
[{"$f":"' '!A75","v":51},{"$f":"' '!C75","v":"2025-04-01"},{"$f":"' '!D75","v":31},{"$f":"' '!H75","v":29351.323376486274},{"$f":"' '!F75","v":23811.493376486273},{"$f":"' '!G75","v":5539.83},null,null,null,null,null,null,{"$f":"' '!I75","v":""},{"$f":"' '!J75","v":""},null,null,{"$f":"' '!P75","v":""},{"$f":"' '!Q75","v":""}]
[{"$f":"' '!A76","v":52},{"$f":"' '!C76","v":"2025-05-01"},{"$f":"' '!D76","v":30},{"$f":"' '!H76","v":29351.323376486274},{"$f":"' '!F76","v":24479.473376486276},{"$f":"' '!G76","v":4871.8500000000004},null,null,null,null,null,null,{"$f":"' '!I76","v":""},{"$f":"' '!J76","v":""},null,null,{"$f":"' '!P76","v":""},{"$f":"' '!Q76","v":""}]
[{"$f":"' '!A77","v":53},{"$f":"' '!C77","v":"2025-06-01"},{"$f":"' '!D77","v":31},{"$f":"' '!H77","v":29351.323376486274},{"$f":"' '!F77","v":24836.843376486275},{"$f":"' '!G77","v":4514.4799999999996},null,null,null,null,null,null,{"$f":"' '!I77","v":""},{"$f":"' '!J77","v":""},null,null,{"$f":"' '!P77","v":""},{"$f":"' '!Q77","v":""}]
[{"$f":"' '!A78","v":54},{"$f":"' '!C78","v":"2025-07-01"},{"$f":"' '!D78","v":30},{"$f":"' '!H78","v":29351.323376486274},{"$f":"' '!F78","v":25492.823376486274},{"$f":"' '!G78","v":3858.5},null,null,null,null,null,null,{"$f":"' '!I78","v":""},{"$f":"' '!J78","v":""},null,null,{"$f":"' '!P78","v":""},{"$f":"' '!Q78","v":""}]
[{"$f":"' '!A79","v":55},{"$f":"' '!C79","v":"2025-08-01"},{"$f":"' '!D79","v":31},{"$f":"' '!H79","v":29351.323376486274},{"$f":"' '!F79","v":25905.493376486273},{"$f":"' '!G79","v":3445.83},null,null,null,null,null,null,{"$f":"' '!I79","v":""},{"$f":"' '!J79","v":""},null,null,{"$f":"' '!P79","v":""},{"$f":"' '!Q79","v":""}]
[{"$f":"' '!A80","v":56},{"$f":"' '!C80","v":"2025-09-01"},{"$f":"' '!D80","v":31},{"$f":"' '!H80","v":29351.323376486274},{"$f":"' '!F80","v":26455.533376486273},{"$f":"' '!G80","v":2895.79},null,null,null,null,null,null,{"$f":"' '!I80","v":""},{"$f":"' '!J80","v":""},null,null,{"$f":"' '!P80","v":""},{"$f":"' '!Q80","v":""}]
[{"$f":"' '!A81","v":57},{"$f":"' '!C81","v":"2025-10-01"},{"$f":"' '!D81","v":30},{"$f":"' '!H81","v":29351.323376486274},{"$f":"' '!F81","v":27092.553376486274},{"$f":"' '!G81","v":2258.77},null,null,null,null,null,null,{"$f":"' '!I81","v":""},{"$f":"' '!J81","v":""},null,null,{"$f":"' '!P81","v":""},{"$f":"' '!Q81","v":""}]
[{"$f":"' '!A82","v":58},{"$f":"' '!C82","v":"2025-11-01"},{"$f":"' '!D82","v":31},{"$f":"' '!H82","v":29351.323376486274},{"$f":"' '!F82","v":27592.513376486273},{"$f":"' '!G82","v":1758.81},null,null,null,null,null,null,{"$f":"' '!I82","v":""},{"$f":"' '!J82","v":""},null,null,{"$f":"' '!P82","v":""},{"$f":"' '!Q82","v":""}]
[{"$f":"' '!A83","v":59},{"$f":"' '!C83","v":"2025-12-01"},{"$f":"' '!D83","v":30},{"$f":"' '!H83","v":29351.323376486274},{"$f":"' '!F83","v":28216.223376486276},{"$f":"' '!G83","v":1135.0999999999999},null,null,null,null,null,null,{"$f":"' '!I83","v":""},{"$f":"' '!J83","v":""},null,null,{"$f":"' '!P83","v":""},{"$f":"' '!Q83","v":""}]
[{"$f":"' '!A84","v":60},{"$f":"' '!C84","v":"2025-12-31"},{"$f":"' '!D84","v":30},{"$f":"' '!H84","v":27580.649999999958},{"$f":"' '!F84","v":27025.329999999958},{"$f":"' '!G84","v":555.32000000000005},null,null,null,null,null,null,{"$f":"' '!I84","v":""},{"$f":"' '!J84","v":""},null,null,{"$f":"' '!P84","v":""},{"$f":"' '!Q84","v":""}]
[{"$f":"' '!A85","v":""},{"$f":"' '!C85","v":" "},{"$f":"' '!D85","v":""},{"$f":"' '!H85","v":1759308.7292126913},{"$f":"' '!F85","v":1000000},{"$f":"' '!G85","v":759308.73},null,null,null,null,null,null,{"$f":"' '!I85","v":4000},{"$f":"' '!J85","v":7500},{"$f":"' '!K85","v":208766.11108929873},null,{"$f":"' '!P85","v":0.38698084950447076},{"$f":"' '!Q85","v":1979574.8410892987}]
[{"$f":"' '!A86","v":""},{"$f":"' '!C86","v":" "},{"$f":"' '!D86","v":""},{"$f":"' '!H86","v":""},{"$f":"' '!F86","v":""},{"$f":"' '!G86","v":""},null,null,null,null,null,null,{"$f":"' '!I86","v":""},{"$f":"' '!J86","v":""},null,null,{"$f":"' '!P86","v":""},{"$f":"' '!Q86","v":""}]
[{"$f":"' '!A87","v":""},{"$f":"' '!C87","v":" "},{"$f":"' '!D87","v":""},{"$f":"' '!H87","v":""},{"$f":"' '!F87","v":""},{"$f":"' '!G87","v":""},null,null,null,null,null,null,{"$f":"' '!I87","v":""},{"$f":"' '!J87","v":""},null,null,{"$f":"' '!P87","v":""},{"$f":"' '!Q87","v":""}]
[{"$f":"' '!A88","v":""},{"$f":"' '!C88","v":" "},{"$f":"' '!D88","v":""},{"$f":"' '!H88","v":""},{"$f":"' '!F88","v":""},{"$f":"' '!G88","v":""},null,null,null,null,null,null,{"$f":"' '!I88","v":""},{"$f":"' '!J88","v":""},null,null,{"$f":"' '!P88","v":""},{"$f":"' '!Q88","v":""}]
[{"$f":"' '!A89","v":""},{"$f":"' '!C89","v":" "},{"$f":"' '!D89","v":""},{"$f":"' '!H89","v":""},{"$f":"' '!F89","v":""},{"$f":"' '!G89","v":""},null,null,null,null,null,null,{"$f":"' '!I89","v":""},{"$f":"' '!J89","v":""},null,null,{"$f":"' '!P89","v":""},{"$f":"' '!Q89","v":""}]
[{"$f":"' '!A90","v":""},{"$f":"' '!C90","v":" "},{"$f":"' '!D90","v":""},{"$f":"' '!H90","v":""},{"$f":"' '!F90","v":""},{"$f":"' '!G90","v":""},null,null,null,null,null,null,{"$f":"' '!I90","v":""},{"$f":"' '!J90","v":""},null,null,{"$f":"' '!P90","v":""},{"$f":"' '!Q90","v":""}]
[{"$f":"' '!A91","v":""},{"$f":"' '!C91","v":" "},{"$f":"' '!D91","v":""},{"$f":"' '!H91","v":""},{"$f":"' '!F91","v":""},{"$f":"' '!G91","v":""},null,null,null,null,null,null,{"$f":"' '!I91","v":""},{"$f":"' '!J91","v":""},null,null,{"$f":"' '!P91","v":""},{"$f":"' '!Q91","v":""}]
[{"$f":"' '!A92","v":""},{"$f":"' '!C92","v":" "},{"$f":"' '!D92","v":""},{"$f":"' '!H92","v":""},{"$f":"' '!F92","v":""},{"$f":"' '!G92","v":""},null,null,null,null,null,null,{"$f":"' '!I92","v":""},{"$f":"' '!J92","v":""},null,null,{"$f":"' '!P92","v":""},{"$f":"' '!Q92","v":""}]
[{"$f":"' '!A93","v":""},{"$f":"' '!C93","v":" "},{"$f":"' '!D93","v":""},{"$f":"' '!H93","v":""},{"$f":"' '!F93","v":""},{"$f":"' '!G93","v":""},null,null,null,null,null,null,{"$f":"' '!I93","v":""},{"$f":"' '!J93","v":""},null,null,{"$f":"' '!P93","v":""},{"$f":"' '!Q93","v":""}]
[{"$f":"' '!A94","v":""},{"$f":"' '!C94","v":" "},{"$f":"' '!D94","v":""},{"$f":"' '!H94","v":""},{"$f":"' '!F94","v":""},{"$f":"' '!G94","v":""},null,null,null,null,null,null,{"$f":"' '!I94","v":""},{"$f":"' '!J94","v":""},null,null,{"$f":"' '!P94","v":""},{"$f":"' '!Q94","v":""}]
[{"$f":"' '!A95","v":""},{"$f":"' '!C95","v":" "},{"$f":"' '!D95","v":""},{"$f":"' '!H95","v":""},{"$f":"' '!F95","v":""},{"$f":"' '!G95","v":""},null,null,null,null,null,null,{"$f":"' '!I95","v":""},{"$f":"' '!J95","v":""},null,null,{"$f":"' '!P95","v":""},{"$f":"' '!Q95","v":""}]
[{"$f":"' '!A96","v":""},{"$f":"' '!C96","v":" "},{"$f":"' '!D96","v":""},{"$f":"' '!H96","v":""},{"$f":"' '!F96","v":""},{"$f":"' '!G96","v":""},null,null,null,null,null,null,{"$f":"' '!I96","v":""},{"$f":"' '!J96","v":""},null,null,{"$f":"' '!P96","v":""},{"$f":"' '!Q96","v":""}]
[{"$f":"' '!A97","v":""},{"$f":"' '!C97","v":" "},{"$f":"' '!D97","v":""},{"$f":"' '!H97","v":""},{"$f":"' '!F97","v":""},{"$f":"' '!G97","v":""},null,null,null,null,null,null,{"$f":"' '!I97","v":""},{"$f":"' '!J97","v":" "},{"$f":"' '!K97","v":""},null,{"$f":"' '!P97","v":""},{"$f":"' '!Q97","v":""}]
[{"$f":"' '!A98","v":""},{"$f":"' '!C98","v":" "},{"$f":"' '!D98","v":""},{"$f":"' '!H98","v":""},{"$f":"' '!F98","v":""},{"$f":"' '!G98","v":""},null,null,null,null,null,null,{"$f":"' '!I98","v":""},{"$f":"' '!J98","v":""},null,null,{"$f":"' '!P98","v":""},{"$f":"' '!Q98","v":""}]
[{"$f":"' '!A99","v":""},{"$f":"' '!C99","v":" "},{"$f":"' '!D99","v":""},{"$f":"' '!H99","v":""},{"$f":"' '!F99","v":""},{"$f":"' '!G99","v":""},null,null,null,null,null,null,{"$f":"' '!I99","v":""},{"$f":"' '!J99","v":""},null,null,{"$f":"' '!P99","v":""},{"$f":"' '!Q99","v":""}]
[{"$f":"' '!A100","v":""},{"$f":"' '!C100","v":" "},{"$f":"' '!D100","v":""},{"$f":"' '!H100","v":""},{"$f":"' '!F100","v":""},{"$f":"' '!G100","v":""},null,null,null,null,null,null,{"$f":"' '!I100","v":""},{"$f":"' '!J100","v":""},null,null,{"$f":"' '!P100","v":""},{"$f":"' '!Q100","v":""}]
[{"$f":"' '!A101","v":""},{"$f":"' '!C101","v":" "},{"$f":"' '!D101","v":""},{"$f":"' '!H101","v":""},{"$f":"' '!F101","v":""},{"$f":"' '!G101","v":""},null,null,null,null,null,null,{"$f":"' '!I101","v":""},{"$f":"' '!J101","v":""},null,null,{"$f":"' '!P101","v":""},{"$f":"' '!Q101","v":""}]
[{"$f":"' '!A102","v":""},{"$f":"' '!C102","v":" "},{"$f":"' '!D102","v":""},{"$f":"' '!H102","v":""},{"$f":"' '!F102","v":""},{"$f":"' '!G102","v":""},null,null,null,null,null,null,{"$f":"' '!I102","v":""},{"$f":"' '!J102","v":""},null,null,{"$f":"' '!P102","v":""},{"$f":"' '!Q102","v":""}]
[{"$f":"' '!A103","v":""},{"$f":"' '!C103","v":" "},{"$f":"' '!D103","v":""},{"$f":"' '!H103","v":""},{"$f":"' '!F103","v":""},{"$f":"' '!G103","v":""},null,null,null,null,null,null,{"$f":"' '!I103","v":""},{"$f":"' '!J103","v":""},null,null,{"$f":"' '!P103","v":""},{"$f":"' '!Q103","v":""}]
[{"$f":"' '!A104","v":""},{"$f":"' '!C104","v":" "},{"$f":"' '!D104","v":""},{"$f":"' '!H104","v":""},{"$f":"' '!F104","v":""},{"$f":"' '!G104","v":""},null,null,null,null,null,null,{"$f":"' '!I104","v":""},{"$f":"' '!J104","v":""},null,null,{"$f":"' '!P104","v":""},{"$f":"' '!Q104","v":""}]
[{"$f":"' '!A105","v":""},{"$f":"' '!C105","v":" "},{"$f":"' '!D105","v":""},{"$f":"' '!H105","v":""},{"$f":"' '!F105","v":""},{"$f":"' '!G105","v":""},null,null,null,null,null,null,{"$f":"' '!I105","v":""},{"$f":"' '!J105","v":""},null,null,{"$f":"' '!P105","v":""},{"$f":"' '!Q105","v":""}]
[{"$f":"' '!A106","v":""},{"$f":"' '!C106","v":" "},{"$f":"' '!D106","v":""},{"$f":"' '!H106","v":""},{"$f":"' '!F106","v":""},{"$f":"' '!G106","v":""},null,null,null,null,null,null,{"$f":"' '!I106","v":""},{"$f":"' '!J106","v":""},null,null,{"$f":"' '!P106","v":""},{"$f":"' '!Q106","v":""}]
[{"$f":"' '!A107","v":""},{"$f":"' '!C107","v":" "},{"$f":"' '!D107","v":""},{"$f":"' '!H107","v":""},{"$f":"' '!F107","v":""},{"$f":"' '!G107","v":""},null,null,null,null,null,null,{"$f":"' '!I107","v":""},{"$f":"' '!J107","v":""},null,null,{"$f":"' '!P107","v":""},{"$f":"' '!Q107","v":""}]
[{"$f":"' '!A108","v":""},{"$f":"' '!C108","v":" "},{"$f":"' '!D108","v":""},{"$f":"' '!H108","v":""},{"$f":"' '!F108","v":""},{"$f":"' '!G108","v":""},null,null,null,null,null,null,{"$f":"' '!I108","v":""},{"$f":"' '!J108","v":""},null,null,{"$f":"' '!P108","v":""},{"$f":"' '!Q108","v":""}]
[{"$f":"' '!A109","v":""},{"$f":"' '!C109","v":" "},{"$f":"' '!D109","v":""},{"$f":"' '!H109","v":""},{"$f":"' '!F109","v":""},{"$f":"' '!G109","v":""},null,null,null,null,null,null,{"$f":"' '!I109","v":""},{"$f":"' '!J109","v":" "},{"$f":"' '!K109","v":""},null,{"$f":"' '!P109","v":""},{"$f":"' '!Q109","v":""}]
[{"$f":"' '!A110","v":""},{"$f":"' '!C110","v":" "},{"$f":"' '!D110","v":""},{"$f":"' '!H110","v":""},{"$f":"' '!F110","v":""},{"$f":"' '!G110","v":""},null,null,null,null,null,null,{"$f":"' '!I110","v":""},{"$f":"' '!J110","v":""},null,null,{"$f":"' '!P110","v":""},{"$f":"' '!Q110","v":""}]
[{"$f":"' '!A111","v":""},{"$f":"' '!C111","v":" "},{"$f":"' '!D111","v":""},{"$f":"' '!H111","v":""},{"$f":"' '!F111","v":""},{"$f":"' '!G111","v":""},null,null,null,null,null,null,{"$f":"' '!I111","v":""},{"$f":"' '!J111","v":""},null,null,{"$f":"' '!P111","v":""},{"$f":"' '!Q111","v":""}]
[{"$f":"' '!A112","v":""},{"$f":"' '!C112","v":" "},{"$f":"' '!D112","v":""},{"$f":"' '!H112","v":""},{"$f":"' '!F112","v":""},{"$f":"' '!G112","v":""},null,null,null,null,null,null,{"$f":"' '!I112","v":""},{"$f":"' '!J112","v":""},null,null,{"$f":"' '!P112","v":""},{"$f":"' '!Q112","v":""}]
[{"$f":"' '!A113","v":""},{"$f":"' '!C113","v":" "},{"$f":"' '!D113","v":""},{"$f":"' '!H113","v":""},{"$f":"' '!F113","v":""},{"$f":"' '!G113","v":""},null,null,null,null,null,null,{"$f":"' '!I113","v":""},{"$f":"' '!J113","v":""},null,null,{"$f":"' '!P113","v":""},{"$f":"' '!Q113","v":""}]
[{"$f":"' '!A114","v":""},{"$f":"' '!C114","v":" "},{"$f":"' '!D114","v":""},{"$f":"' '!H114","v":""},{"$f":"' '!F114","v":""},{"$f":"' '!G114","v":""},null,null,null,null,null,null,{"$f":"' '!I114","v":""},{"$f":"' '!J114","v":""},null,null,{"$f":"' '!P114","v":""},{"$f":"' '!Q114","v":""}]
[{"$f":"' '!A115","v":""},{"$f":"' '!C115","v":" "},{"$f":"' '!D115","v":""},{"$f":"' '!H115","v":""},{"$f":"' '!F115","v":""},{"$f":"' '!G115","v":""},null,null,null,null,null,null,{"$f":"' '!I115","v":""},{"$f":"' '!J115","v":""},null,null,{"$f":"' '!P115","v":""},{"$f":"' '!Q115","v":""}]
[{"$f":"' '!A116","v":""},{"$f":"' '!C116","v":" "},{"$f":"' '!D116","v":""},{"$f":"' '!H116","v":""},{"$f":"' '!F116","v":""},{"$f":"' '!G116","v":""},null,null,null,null,null,null,{"$f":"' '!I116","v":""},{"$f":"' '!J116","v":""},null,null,{"$f":"' '!P116","v":""},{"$f":"' '!Q116","v":""}]
[{"$f":"' '!A117","v":""},{"$f":"' '!C117","v":" "},{"$f":"' '!D117","v":""},{"$f":"' '!H117","v":""},{"$f":"' '!F117","v":""},{"$f":"' '!G117","v":""},null,null,null,null,null,null,{"$f":"' '!I117","v":""},{"$f":"' '!J117","v":""},null,null,{"$f":"' '!P117","v":""},{"$f":"' '!Q117","v":""}]
[{"$f":"' '!A118","v":""},{"$f":"' '!C118","v":" "},{"$f":"' '!D118","v":""},{"$f":"' '!H118","v":""},{"$f":"' '!F118","v":""},{"$f":"' '!G118","v":""},null,null,null,null,null,null,{"$f":"' '!I118","v":""},{"$f":"' '!J118","v":""},null,null,{"$f":"' '!P118","v":""},{"$f":"' '!Q118","v":""}]
[{"$f":"' '!A119","v":""},{"$f":"' '!C119","v":" "},{"$f":"' '!D119","v":""},{"$f":"' '!H119","v":""},{"$f":"' '!F119","v":""},{"$f":"' '!G119","v":""},null,null,null,null,null,null,{"$f":"' '!I119","v":""},{"$f":"' '!J119","v":""},null,null,{"$f":"' '!P119","v":""},{"$f":"' '!Q119","v":""}]
[{"$f":"' '!A120","v":""},{"$f":"' '!C120","v":" "},{"$f":"' '!D120","v":""},{"$f":"' '!H120","v":""},{"$f":"' '!F120","v":""},{"$f":"' '!G120","v":""},null,null,null,null,null,null,{"$f":"' '!I120","v":""},{"$f":"' '!J120","v":""},null,null,{"$f":"' '!P120","v":""},{"$f":"' '!Q120","v":""}]
[{"$f":"' '!A121","v":""},{"$f":"' '!C121","v":" "},{"$f":"' '!D121","v":""},{"$f":"' '!H121","v":""},{"$f":"' '!F121","v":""},{"$f":"' '!G121","v":""},null,null,null,null,null,null,{"$f":"' '!I121","v":""},{"$f":"' '!J121","v":" "},{"$f":"' '!K121","v":""},null,{"$f":"' '!P121","v":""},{"$f":"' '!Q121","v":""}]
[{"$f":"' '!A122","v":""},{"$f":"' '!C122","v":" "},{"$f":"' '!D122","v":""},{"$f":"' '!H122","v":""},{"$f":"' '!F122","v":""},{"$f":"' '!G122","v":""},null,null,null,null,null,null,{"$f":"' '!I122","v":""},{"$f":"' '!J122","v":""},null,null,{"$f":"' '!P122","v":""},{"$f":"' '!Q122","v":""}]
[{"$f":"' '!A123","v":""},{"$f":"' '!C123","v":" "},{"$f":"' '!D123","v":""},{"$f":"' '!H123","v":""},{"$f":"' '!F123","v":""},{"$f":"' '!G123","v":""},null,null,null,null,null,null,{"$f":"' '!I123","v":""},{"$f":"' '!J123","v":""},null,null,{"$f":"' '!P123","v":""},{"$f":"' '!Q123","v":""}]
[{"$f":"' '!A124","v":""},{"$f":"' '!C124","v":" "},{"$f":"' '!D124","v":""},{"$f":"' '!H124","v":""},{"$f":"' '!F124","v":""},{"$f":"' '!G124","v":""},null,null,null,null,null,null,{"$f":"' '!I124","v":""},{"$f":"' '!J124","v":""},null,null,{"$f":"' '!P124","v":""},{"$f":"' '!Q124","v":""}]
[{"$f":"' '!A125","v":""},{"$f":"' '!C125","v":" "},{"$f":"' '!D125","v":""},{"$f":"' '!H125","v":""},{"$f":"' '!F125","v":""},{"$f":"' '!G125","v":""},null,null,null,null,null,null,{"$f":"' '!I125","v":""},{"$f":"' '!J125","v":""},null,null,{"$f":"' '!P125","v":""},{"$f":"' '!Q125","v":""}]
[{"$f":"' '!A126","v":""},{"$f":"' '!C126","v":" "},{"$f":"' '!D126","v":""},{"$f":"' '!H126","v":""},{"$f":"' '!F126","v":""},{"$f":"' '!G126","v":""},null,null,null,null,null,null,{"$f":"' '!I126","v":""},{"$f":"' '!J126","v":""},null,null,{"$f":"' '!P126","v":""},{"$f":"' '!Q126","v":""}]
[{"$f":"' '!A127","v":""},{"$f":"' '!C127","v":" "},{"$f":"' '!D127","v":""},{"$f":"' '!H127","v":""},{"$f":"' '!F127","v":""},{"$f":"' '!G127","v":""},null,null,null,null,null,null,{"$f":"' '!I127","v":""},{"$f":"' '!J127","v":""},null,null,{"$f":"' '!P127","v":""},{"$f":"' '!Q127","v":""}]
[{"$f":"' '!A128","v":""},{"$f":"' '!C128","v":" "},{"$f":"' '!D128","v":""},{"$f":"' '!H128","v":""},{"$f":"' '!F128","v":""},{"$f":"' '!G128","v":""},null,null,null,null,null,null,{"$f":"' '!I128","v":""},{"$f":"' '!J128","v":""},null,null,{"$f":"' '!P128","v":""},{"$f":"' '!Q128","v":""}]
[{"$f":"' '!A129","v":""},{"$f":"' '!C129","v":" "},{"$f":"' '!D129","v":""},{"$f":"' '!H129","v":""},{"$f":"' '!F129","v":""},{"$f":"' '!G129","v":""},null,null,null,null,null,null,{"$f":"' '!I129","v":""},{"$f":"' '!J129","v":""},null,null,{"$f":"' '!P129","v":""},{"$f":"' '!Q129","v":""}]
[{"$f":"' '!A130","v":""},{"$f":"' '!C130","v":" "},{"$f":"' '!D130","v":""},{"$f":"' '!H130","v":""},{"$f":"' '!F130","v":""},{"$f":"' '!G130","v":""},null,null,null,null,null,null,{"$f":"' '!I130","v":""},{"$f":"' '!J130","v":""},null,null,{"$f":"' '!P130","v":""},{"$f":"' '!Q130","v":""}]
[{"$f":"' '!A131","v":""},{"$f":"' '!C131","v":" "},{"$f":"' '!D131","v":""},{"$f":"' '!H131","v":""},{"$f":"' '!F131","v":""},{"$f":"' '!G131","v":""},null,null,null,null,null,null,{"$f":"' '!I131","v":""},{"$f":"' '!J131","v":""},null,null,{"$f":"' '!P131","v":""},{"$f":"' '!Q131","v":""}]
[{"$f":"' '!A132","v":""},{"$f":"' '!C132","v":" "},{"$f":"' '!D132","v":""},{"$f":"' '!H132","v":""},{"$f":"' '!F132","v":""},{"$f":"' '!G132","v":""},null,null,null,null,null,null,{"$f":"' '!I132","v":""},{"$f":"' '!J132","v":""},null,null,{"$f":"' '!P132","v":""},{"$f":"' '!Q132","v":""}]
[{"$f":"' '!A133","v":""},{"$f":"' '!C133","v":" "},{"$f":"' '!D133","v":""},{"$f":"' '!H133","v":""},{"$f":"' '!F133","v":""},{"$f":"' '!G133","v":""},null,null,null,null,null,null,{"$f":"' '!I133","v":""},{"$f":"' '!J133","v":" "},{"$f":"' '!K133","v":""},null,{"$f":"' '!P133","v":""},{"$f":"' '!Q133","v":""}]
[{"$f":"' '!A134","v":""},{"$f":"' '!C134","v":" "},{"$f":"' '!D134","v":""},{"$f":"' '!H134","v":""},{"$f":"' '!F134","v":""},{"$f":"' '!G134","v":""},null,null,null,null,null,null,{"$f":"' '!I134","v":""},{"$f":"' '!J134","v":""},null,null,{"$f":"' '!P134","v":""},{"$f":"' '!Q134","v":""}]
[{"$f":"' '!A135","v":""},{"$f":"' '!C135","v":" "},{"$f":"' '!D135","v":""},{"$f":"' '!H135","v":""},{"$f":"' '!F135","v":""},{"$f":"' '!G135","v":""},null,null,null,null,null,null,{"$f":"' '!I135","v":""},{"$f":"' '!J135","v":""},null,null,{"$f":"' '!P135","v":""},{"$f":"' '!Q135","v":""}]
[{"$f":"' '!A136","v":""},{"$f":"' '!C136","v":" "},{"$f":"' '!D136","v":""},{"$f":"' '!H136","v":""},{"$f":"' '!F136","v":""},{"$f":"' '!G136","v":""},null,null,null,null,null,null,{"$f":"' '!I136","v":""},{"$f":"' '!J136","v":""},null,null,{"$f":"' '!P136","v":""},{"$f":"' '!Q136","v":""}]
[{"$f":"' '!A137","v":""},{"$f":"' '!C137","v":" "},{"$f":"' '!D137","v":""},{"$f":"' '!H137","v":""},{"$f":"' '!F137","v":""},{"$f":"' '!G137","v":""},null,null,null,null,null,null,{"$f":"' '!I137","v":""},{"$f":"' '!J137","v":""},null,null,{"$f":"' '!P137","v":""},{"$f":"' '!Q137","v":""}]
[{"$f":"' '!A138","v":""},{"$f":"' '!C138","v":" "},{"$f":"' '!D138","v":""},{"$f":"' '!H138","v":""},{"$f":"' '!F138","v":""},{"$f":"' '!G138","v":""},null,null,null,null,null,null,{"$f":"' '!I138","v":""},{"$f":"' '!J138","v":""},null,null,{"$f":"' '!P138","v":""},{"$f":"' '!Q138","v":""}]
[{"$f":"' '!A139","v":""},{"$f":"' '!C139","v":" "},{"$f":"' '!D139","v":""},{"$f":"' '!H139","v":""},{"$f":"' '!F139","v":""},{"$f":"' '!G139","v":""},null,null,null,null,null,null,{"$f":"' '!I139","v":""},{"$f":"' '!J139","v":""},null,null,{"$f":"' '!P139","v":""},{"$f":"' '!Q139","v":""}]
[{"$f":"' '!A140","v":""},{"$f":"' '!C140","v":" "},{"$f":"' '!D140","v":""},{"$f":"' '!H140","v":""},{"$f":"' '!F140","v":""},{"$f":"' '!G140","v":""},null,null,null,null,null,null,{"$f":"' '!I140","v":""},{"$f":"' '!J140","v":""},null,null,{"$f":"' '!P140","v":""},{"$f":"' '!Q140","v":""}]
[{"$f":"' '!A141","v":""},{"$f":"' '!C141","v":" "},{"$f":"' '!D141","v":""},{"$f":"' '!H141","v":""},{"$f":"' '!F141","v":""},{"$f":"' '!G141","v":""},null,null,null,null,null,null,{"$f":"' '!I141","v":""},{"$f":"' '!J141","v":""},null,null,{"$f":"' '!P141","v":""},{"$f":"' '!Q141","v":""}]
[{"$f":"' '!A142","v":""},{"$f":"' '!C142","v":" "},{"$f":"' '!D142","v":""},{"$f":"' '!H142","v":""},{"$f":"' '!F142","v":""},{"$f":"' '!G142","v":""},null,null,null,null,null,null,{"$f":"' '!I142","v":""},{"$f":"' '!J142","v":""},null,null,{"$f":"' '!P142","v":""},{"$f":"' '!Q142","v":""}]
[{"$f":"' '!A143","v":""},{"$f":"' '!C143","v":" "},{"$f":"' '!D143","v":""},{"$f":"' '!H143","v":""},{"$f":"' '!F143","v":""},{"$f":"' '!G143","v":""},null,null,null,null,null,null,{"$f":"' '!I143","v":""},{"$f":"' '!J143","v":""},null,null,{"$f":"' '!P143","v":""},{"$f":"' '!Q143","v":""}]
[{"$f":"' '!A144","v":""},{"$f":"' '!C144","v":" "},{"$f":"' '!D144","v":""},{"$f":"' '!H144","v":""},{"$f":"' '!F144","v":""},{"$f":"' '!G144","v":""},null,null,null,null,null,null,{"$f":"' '!I144","v":""},{"$f":"' '!J144","v":""},null,null,{"$f":"' '!P144","v":""},{"$f":"' '!Q144","v":""}]
[{"$f":"' '!A145","v":""},{"$f":"' '!C145","v":" "},{"$f":"' '!D145","v":""},{"$f":"' '!H145","v":""},{"$f":"' '!F145","v":""},{"$f":"' '!G145","v":""},null,null,null,null,null,null,{"$f":"' '!I145","v":""},{"$f":"' '!J145","v":" "},{"$f":"' '!K145","v":""},null,{"$f":"' '!P145","v":""},{"$f":"' '!Q145","v":""}]
[{"$f":"' '!A146","v":""},{"$f":"' '!C146","v":" "},{"$f":"' '!D146","v":""},{"$f":"' '!H146","v":""},{"$f":"' '!F146","v":""},{"$f":"' '!G146","v":""},null,null,null,null,null,null,{"$f":"' '!I146","v":""},{"$f":"' '!J146","v":""},null,null,{"$f":"' '!P146","v":""},{"$f":"' '!Q146","v":""}]
[{"$f":"' '!A147","v":""},{"$f":"' '!C147","v":" "},{"$f":"' '!D147","v":""},{"$f":"' '!H147","v":""},{"$f":"' '!F147","v":""},{"$f":"' '!G147","v":""},null,null,null,null,null,null,{"$f":"' '!I147","v":""},{"$f":"' '!J147","v":""},null,null,{"$f":"' '!P147","v":""},{"$f":"' '!Q147","v":""}]
[{"$f":"' '!A148","v":""},{"$f":"' '!C148","v":" "},{"$f":"' '!D148","v":""},{"$f":"' '!H148","v":""},{"$f":"' '!F148","v":""},{"$f":"' '!G148","v":""},null,null,null,null,null,null,{"$f":"' '!I148","v":""},{"$f":"' '!J148","v":""},null,null,{"$f":"' '!P148","v":""},{"$f":"' '!Q148","v":""}]
[{"$f":"' '!A149","v":""},{"$f":"' '!C149","v":" "},{"$f":"' '!D149","v":""},{"$f":"' '!H149","v":""},{"$f":"' '!F149","v":""},{"$f":"' '!G149","v":""},null,null,null,null,null,null,{"$f":"' '!I149","v":""},{"$f":"' '!J149","v":""},null,null,{"$f":"' '!P149","v":""},{"$f":"' '!Q149","v":""}]
[{"$f":"' '!A150","v":""},{"$f":"' '!C150","v":" "},{"$f":"' '!D150","v":""},{"$f":"' '!H150","v":""},{"$f":"' '!F150","v":""},{"$f":"' '!G150","v":""},null,null,null,null,null,null,{"$f":"' '!I150","v":""},{"$f":"' '!J150","v":""},null,null,{"$f":"' '!P150","v":""},{"$f":"' '!Q150","v":""}]
[{"$f":"' '!A151","v":""},{"$f":"' '!C151","v":" "},{"$f":"' '!D151","v":""},{"$f":"' '!H151","v":""},{"$f":"' '!F151","v":""},{"$f":"' '!G151","v":""},null,null,null,null,null,null,{"$f":"' '!I151","v":""},{"$f":"' '!J151","v":""},null,null,{"$f":"' '!P151","v":""},{"$f":"' '!Q151","v":""}]
[{"$f":"' '!A152","v":""},{"$f":"' '!C152","v":" "},{"$f":"' '!D152","v":""},{"$f":"' '!H152","v":""},{"$f":"' '!F152","v":""},{"$f":"' '!G152","v":""},null,null,null,null,null,null,{"$f":"' '!I152","v":""},{"$f":"' '!J152","v":""},null,null,{"$f":"' '!P152","v":""},{"$f":"' '!Q152","v":""}]
[{"$f":"' '!A153","v":""},{"$f":"' '!C153","v":" "},{"$f":"' '!D153","v":""},{"$f":"' '!H153","v":""},{"$f":"' '!F153","v":""},{"$f":"' '!G153","v":""},null,null,null,null,null,null,{"$f":"' '!I153","v":""},{"$f":"' '!J153","v":""},null,null,{"$f":"' '!P153","v":""},{"$f":"' '!Q153","v":""}]
[{"$f":"' '!A154","v":""},{"$f":"' '!C154","v":" "},{"$f":"' '!D154","v":""},{"$f":"' '!H154","v":""},{"$f":"' '!F154","v":""},{"$f":"' '!G154","v":""},null,null,null,null,null,null,{"$f":"' '!I154","v":""},{"$f":"' '!J154","v":""},null,null,{"$f":"' '!P154","v":""},{"$f":"' '!Q154","v":""}]
[{"$f":"' '!A155","v":""},{"$f":"' '!C155","v":" "},{"$f":"' '!D155","v":""},{"$f":"' '!H155","v":""},{"$f":"' '!F155","v":""},{"$f":"' '!G155","v":""},null,null,null,null,null,null,{"$f":"' '!I155","v":""},{"$f":"' '!J155","v":""},null,null,{"$f":"' '!P155","v":""},{"$f":"' '!Q155","v":""}]
[{"$f":"' '!A156","v":""},{"$f":"' '!C156","v":" "},{"$f":"' '!D156","v":""},{"$f":"' '!H156","v":""},{"$f":"' '!F156","v":""},{"$f":"' '!G156","v":""},null,null,null,null,null,null,{"$f":"' '!I156","v":""},{"$f":"' '!J156","v":""},null,null,{"$f":"' '!P156","v":""},{"$f":"' '!Q156","v":""}]
[{"$f":"' '!A157","v":""},{"$f":"' '!C157","v":" "},{"$f":"' '!D157","v":""},{"$f":"' '!H157","v":""},{"$f":"' '!F157","v":""},{"$f":"' '!G157","v":""},null,null,null,null,null,null,{"$f":"' '!I157","v":""},{"$f":"' '!J157","v":" "},{"$f":"' '!K157","v":""},null,{"$f":"' '!P157","v":""},{"$f":"' '!Q157","v":""}]
[{"$f":"' '!A158","v":""},{"$f":"' '!C158","v":" "},{"$f":"' '!D158","v":""},{"$f":"' '!H158","v":""},{"$f":"' '!F158","v":""},{"$f":"' '!G158","v":""},null,null,null,null,null,null,{"$f":"' '!I158","v":""},{"$f":"' '!J158","v":""},null,null,{"$f":"' '!P158","v":""},{"$f":"' '!Q158","v":""}]
[{"$f":"' '!A159","v":""},{"$f":"' '!C159","v":" "},{"$f":"' '!D159","v":""},{"$f":"' '!H159","v":""},{"$f":"' '!F159","v":""},{"$f":"' '!G159","v":""},null,null,null,null,null,null,{"$f":"' '!I159","v":""},{"$f":"' '!J159","v":""},null,null,{"$f":"' '!P159","v":""},{"$f":"' '!Q159","v":""}]
[{"$f":"' '!A160","v":""},{"$f":"' '!C160","v":" "},{"$f":"' '!D160","v":""},{"$f":"' '!H160","v":""},{"$f":"' '!F160","v":""},{"$f":"' '!G160","v":""},null,null,null,null,null,null,{"$f":"' '!I160","v":""},{"$f":"' '!J160","v":""},null,null,{"$f":"' '!P160","v":""},{"$f":"' '!Q160","v":""}]
[{"$f":"' '!A161","v":""},{"$f":"' '!C161","v":" "},{"$f":"' '!D161","v":""},{"$f":"' '!H161","v":""},{"$f":"' '!F161","v":""},{"$f":"' '!G161","v":""},null,null,null,null,null,null,{"$f":"' '!I161","v":""},{"$f":"' '!J161","v":""},null,null,{"$f":"' '!P161","v":""},{"$f":"' '!Q161","v":""}]
[{"$f":"' '!A162","v":""},{"$f":"' '!C162","v":" "},{"$f":"' '!D162","v":""},{"$f":"' '!H162","v":""},{"$f":"' '!F162","v":""},{"$f":"' '!G162","v":""},null,null,null,null,null,null,{"$f":"' '!I162","v":""},{"$f":"' '!J162","v":""},null,null,{"$f":"' '!P162","v":""},{"$f":"' '!Q162","v":""}]
[{"$f":"' '!A163","v":""},{"$f":"' '!C163","v":" "},{"$f":"' '!D163","v":""},{"$f":"' '!H163","v":""},{"$f":"' '!F163","v":""},{"$f":"' '!G163","v":""},null,null,null,null,null,null,{"$f":"' '!I163","v":""},{"$f":"' '!J163","v":""},null,null,{"$f":"' '!P163","v":""},{"$f":"' '!Q163","v":""}]
[{"$f":"' '!A164","v":""},{"$f":"' '!C164","v":" "},{"$f":"' '!D164","v":""},{"$f":"' '!H164","v":""},{"$f":"' '!F164","v":""},{"$f":"' '!G164","v":""},null,null,null,null,null,null,{"$f":"' '!I164","v":""},{"$f":"' '!J164","v":""},null,null,{"$f":"' '!P164","v":""},{"$f":"' '!Q164","v":""}]
[{"$f":"' '!A165","v":""},{"$f":"' '!C165","v":" "},{"$f":"' '!D165","v":""},{"$f":"' '!H165","v":""},{"$f":"' '!F165","v":""},{"$f":"' '!G165","v":""},null,null,null,null,null,null,{"$f":"' '!I165","v":""},{"$f":"' '!J165","v":""},null,null,{"$f":"' '!P165","v":""},{"$f":"' '!Q165","v":""}]
[{"$f":"' '!A166","v":""},{"$f":"' '!C166","v":" "},{"$f":"' '!D166","v":""},{"$f":"' '!H166","v":""},{"$f":"' '!F166","v":""},{"$f":"' '!G166","v":""},null,null,null,null,null,null,{"$f":"' '!I166","v":""},{"$f":"' '!J166","v":""},null,null,{"$f":"' '!P166","v":""},{"$f":"' '!Q166","v":""}]
[{"$f":"' '!A167","v":""},{"$f":"' '!C167","v":" "},{"$f":"' '!D167","v":""},{"$f":"' '!H167","v":""},{"$f":"' '!F167","v":""},{"$f":"' '!G167","v":""},null,null,null,null,null,null,{"$f":"' '!I167","v":""},{"$f":"' '!J167","v":""},null,null,{"$f":"' '!P167","v":""},{"$f":"' '!Q167","v":""}]
[{"$f":"' '!A168","v":""},{"$f":"' '!C168","v":" "},{"$f":"' '!D168","v":""},{"$f":"' '!H168","v":""},{"$f":"' '!F168","v":""},{"$f":"' '!G168","v":""},null,null,null,null,null,null,{"$f":"' '!I168","v":""},{"$f":"' '!J168","v":""},null,null,{"$f":"' '!P168","v":""},{"$f":"' '!Q168","v":""}]
[{"$f":"' '!A169","v":""},{"$f":"' '!C169","v":" "},{"$f":"' '!D169","v":""},{"$f":"' '!H169","v":""},{"$f":"' '!F169","v":""},{"$f":"' '!G169","v":""},null,null,null,null,null,null,{"$f":"' '!I169","v":""},{"$f":"' '!J169","v":" "},{"$f":"' '!K169","v":""},null,{"$f":"' '!P169","v":""},{"$f":"' '!Q169","v":""}]
[{"$f":"' '!A170","v":""},{"$f":"' '!C170","v":" "},{"$f":"' '!D170","v":""},{"$f":"' '!H170","v":""},{"$f":"' '!F170","v":""},{"$f":"' '!G170","v":""},null,null,null,null,null,null,{"$f":"' '!I170","v":""},{"$f":"' '!J170","v":""},null,null,{"$f":"' '!P170","v":""},{"$f":"' '!Q170","v":""}]
[{"$f":"' '!A171","v":""},{"$f":"' '!C171","v":" "},{"$f":"' '!D171","v":""},{"$f":"' '!H171","v":""},{"$f":"' '!F171","v":""},{"$f":"' '!G171","v":""},null,null,null,null,null,null,{"$f":"' '!I171","v":""},{"$f":"' '!J171","v":""},null,null,{"$f":"' '!P171","v":""},{"$f":"' '!Q171","v":""}]
[{"$f":"' '!A172","v":""},{"$f":"' '!C172","v":" "},{"$f":"' '!D172","v":""},{"$f":"' '!H172","v":""},{"$f":"' '!F172","v":""},{"$f":"' '!G172","v":""},null,null,null,null,null,null,{"$f":"' '!I172","v":""},{"$f":"' '!J172","v":""},null,null,{"$f":"' '!P172","v":""},{"$f":"' '!Q172","v":""}]
[{"$f":"' '!A173","v":""},{"$f":"' '!C173","v":" "},{"$f":"' '!D173","v":""},{"$f":"' '!H173","v":""},{"$f":"' '!F173","v":""},{"$f":"' '!G173","v":""},null,null,null,null,null,null,{"$f":"' '!I173","v":""},{"$f":"' '!J173","v":""},null,null,{"$f":"' '!P173","v":""},{"$f":"' '!Q173","v":""}]
[{"$f":"' '!A174","v":""},{"$f":"' '!C174","v":" "},{"$f":"' '!D174","v":""},{"$f":"' '!H174","v":""},{"$f":"' '!F174","v":""},{"$f":"' '!G174","v":""},null,null,null,null,null,null,{"$f":"' '!I174","v":""},{"$f":"' '!J174","v":""},null,null,{"$f":"' '!P174","v":""},{"$f":"' '!Q174","v":""}]
[{"$f":"' '!A175","v":""},{"$f":"' '!C175","v":" "},{"$f":"' '!D175","v":""},{"$f":"' '!H175","v":""},{"$f":"' '!F175","v":""},{"$f":"' '!G175","v":""},null,null,null,null,null,null,{"$f":"' '!I175","v":""},{"$f":"' '!J175","v":""},null,null,{"$f":"' '!P175","v":""},{"$f":"' '!Q175","v":""}]
[{"$f":"' '!A176","v":""},{"$f":"' '!C176","v":" "},{"$f":"' '!D176","v":""},{"$f":"' '!H176","v":""},{"$f":"' '!F176","v":""},{"$f":"' '!G176","v":""},null,null,null,null,null,null,{"$f":"' '!I176","v":""},{"$f":"' '!J176","v":""},null,null,{"$f":"' '!P176","v":""},{"$f":"' '!Q176","v":""}]
[{"$f":"' '!A177","v":""},{"$f":"' '!C177","v":" "},{"$f":"' '!D177","v":""},{"$f":"' '!H177","v":""},{"$f":"' '!F177","v":""},{"$f":"' '!G177","v":""},null,null,null,null,null,null,{"$f":"' '!I177","v":""},{"$f":"' '!J177","v":""},null,null,{"$f":"' '!P177","v":""},{"$f":"' '!Q177","v":""}]
[{"$f":"' '!A178","v":""},{"$f":"' '!C178","v":" "},{"$f":"' '!D178","v":""},{"$f":"' '!H178","v":""},{"$f":"' '!F178","v":""},{"$f":"' '!G178","v":""},null,null,null,null,null,null,{"$f":"' '!I178","v":""},{"$f":"' '!J178","v":""},null,null,{"$f":"' '!P178","v":""},{"$f":"' '!Q178","v":""}]
[{"$f":"' '!A179","v":""},{"$f":"' '!C179","v":" "},{"$f":"' '!D179","v":""},{"$f":"' '!H179","v":""},{"$f":"' '!F179","v":""},{"$f":"' '!G179","v":""},null,null,null,null,null,null,{"$f":"' '!I179","v":""},{"$f":"' '!J179","v":""},null,null,{"$f":"' '!P179","v":""},{"$f":"' '!Q179","v":""}]
[{"$f":"' '!A180","v":""},{"$f":"' '!C180","v":" "},{"$f":"' '!D180","v":""},{"$f":"' '!H180","v":""},{"$f":"' '!F180","v":""},{"$f":"' '!G180","v":""},null,null,null,null,null,null,{"$f":"' '!I180","v":""},{"$f":"' '!J180","v":""},null,null,{"$f":"' '!P180","v":""},{"$f":"' '!Q180","v":""}]
[{"$f":"' '!A181","v":""},{"$f":"' '!C181","v":" "},{"$f":"' '!D181","v":""},{"$f":"' '!H181","v":""},{"$f":"' '!F181","v":""},{"$f":"' '!G181","v":""},null,null,null,null,null,null,{"$f":"' '!I181","v":""},{"$f":"' '!J181","v":" "},{"$f":"' '!K181","v":""},null,{"$f":"' '!P181","v":""},{"$f":"' '!Q181","v":""}]
[{"$f":"' '!A182","v":""},{"$f":"' '!C182","v":" "},{"$f":"' '!D182","v":""},{"$f":"' '!H182","v":""},{"$f":"' '!F182","v":""},{"$f":"' '!G182","v":""},null,null,null,null,null,null,{"$f":"' '!I182","v":""},{"$f":"' '!J182","v":""},null,null,{"$f":"' '!P182","v":""},{"$f":"' '!Q182","v":""}]
[{"$f":"' '!A183","v":""},{"$f":"' '!C183","v":" "},{"$f":"' '!D183","v":""},{"$f":"' '!H183","v":""},{"$f":"' '!F183","v":""},{"$f":"' '!G183","v":""},null,null,null,null,null,null,{"$f":"' '!I183","v":""},{"$f":"' '!J183","v":""},null,null,{"$f":"' '!P183","v":""},{"$f":"' '!Q183","v":""}]
[{"$f":"' '!A184","v":""},{"$f":"' '!C184","v":" "},{"$f":"' '!D184","v":""},{"$f":"' '!H184","v":""},{"$f":"' '!F184","v":""},{"$f":"' '!G184","v":""},null,null,null,null,null,null,{"$f":"' '!I184","v":""},{"$f":"' '!J184","v":""},null,null,{"$f":"' '!P184","v":""},{"$f":"' '!Q184","v":""}]
[{"$f":"' '!A185","v":""},{"$f":"' '!C185","v":" "},{"$f":"' '!D185","v":""},{"$f":"' '!H185","v":""},{"$f":"' '!F185","v":""},{"$f":"' '!G185","v":""},null,null,null,null,null,null,{"$f":"' '!I185","v":""},{"$f":"' '!J185","v":""},null,null,{"$f":"' '!P185","v":""},{"$f":"' '!Q185","v":""}]
[{"$f":"' '!A186","v":""},{"$f":"' '!C186","v":" "},{"$f":"' '!D186","v":""},{"$f":"' '!H186","v":""},{"$f":"' '!F186","v":""},{"$f":"' '!G186","v":""},null,null,null,null,null,null,{"$f":"' '!I186","v":""},{"$f":"' '!J186","v":""},null,null,{"$f":"' '!P186","v":""},{"$f":"' '!Q186","v":""}]
[{"$f":"' '!A187","v":""},{"$f":"' '!C187","v":" "},{"$f":"' '!D187","v":""},{"$f":"' '!H187","v":""},{"$f":"' '!F187","v":""},{"$f":"' '!G187","v":""},null,null,null,null,null,null,{"$f":"' '!I187","v":""},{"$f":"' '!J187","v":""},null,null,{"$f":"' '!P187","v":""},{"$f":"' '!Q187","v":""}]
[{"$f":"' '!A188","v":""},{"$f":"' '!C188","v":" "},{"$f":"' '!D188","v":""},{"$f":"' '!H188","v":""},{"$f":"' '!F188","v":""},{"$f":"' '!G188","v":""},null,null,null,null,null,null,{"$f":"' '!I188","v":""},{"$f":"' '!J188","v":""},null,null,{"$f":"' '!P188","v":""},{"$f":"' '!Q188","v":""}]
[{"$f":"' '!A189","v":""},{"$f":"' '!C189","v":" "},{"$f":"' '!D189","v":""},{"$f":"' '!H189","v":""},{"$f":"' '!F189","v":""},{"$f":"' '!G189","v":""},null,null,null,null,null,null,{"$f":"' '!I189","v":""},{"$f":"' '!J189","v":""},null,null,{"$f":"' '!P189","v":""},{"$f":"' '!Q189","v":""}]
[{"$f":"' '!A190","v":""},{"$f":"' '!C190","v":" "},{"$f":"' '!D190","v":""},{"$f":"' '!H190","v":""},{"$f":"' '!F190","v":""},{"$f":"' '!G190","v":""},null,null,null,null,null,null,{"$f":"' '!I190","v":""},{"$f":"' '!J190","v":""},null,null,{"$f":"' '!P190","v":""},{"$f":"' '!Q190","v":""}]
[{"$f":"' '!A191","v":""},{"$f":"' '!C191","v":" "},{"$f":"' '!D191","v":""},{"$f":"' '!H191","v":""},{"$f":"' '!F191","v":""},{"$f":"' '!G191","v":""},null,null,null,null,null,null,{"$f":"' '!I191","v":""},{"$f":"' '!J191","v":""},null,null,{"$f":"' '!P191","v":""},{"$f":"' '!Q191","v":""}]
[{"$f":"' '!A192","v":""},{"$f":"' '!C192","v":" "},{"$f":"' '!D192","v":""},{"$f":"' '!H192","v":""},{"$f":"' '!F192","v":""},{"$f":"' '!G192","v":""},null,null,null,null,null,null,{"$f":"' '!I192","v":""},{"$f":"' '!J192","v":""},null,null,{"$f":"' '!P192","v":""},{"$f":"' '!Q192","v":""}]
[{"$f":"' '!A193","v":""},{"$f":"' '!C193","v":" "},{"$f":"' '!D193","v":""},{"$f":"' '!H193","v":""},{"$f":"' '!F193","v":""},{"$f":"' '!G193","v":""},null,null,null,null,null,null,{"$f":"' '!I193","v":""},{"$f":"' '!J193","v":" "},{"$f":"' '!K193","v":""},null,{"$f":"' '!P193","v":""},{"$f":"' '!Q193","v":""}]
[{"$f":"' '!A194","v":""},{"$f":"' '!C194","v":" "},{"$f":"' '!D194","v":""},{"$f":"' '!H194","v":""},{"$f":"' '!F194","v":""},{"$f":"' '!G194","v":""},null,null,null,null,null,null,{"$f":"' '!I194","v":""},{"$f":"' '!J194","v":""},null,null,{"$f":"' '!P194","v":""},{"$f":"' '!Q194","v":""}]
[{"$f":"' '!A195","v":""},{"$f":"' '!C195","v":" "},{"$f":"' '!D195","v":""},{"$f":"' '!H195","v":""},{"$f":"' '!F195","v":""},{"$f":"' '!G195","v":""},null,null,null,null,null,null,{"$f":"' '!I195","v":""},{"$f":"' '!J195","v":""},null,null,{"$f":"' '!P195","v":""},{"$f":"' '!Q195","v":""}]
[{"$f":"' '!A196","v":""},{"$f":"' '!C196","v":" "},{"$f":"' '!D196","v":""},{"$f":"' '!H196","v":""},{"$f":"' '!F196","v":""},{"$f":"' '!G196","v":""},null,null,null,null,null,null,{"$f":"' '!I196","v":""},{"$f":"' '!J196","v":""},null,null,{"$f":"' '!P196","v":""},{"$f":"' '!Q196","v":""}]
[{"$f":"' '!A197","v":""},{"$f":"' '!C197","v":" "},{"$f":"' '!D197","v":""},{"$f":"' '!H197","v":""},{"$f":"' '!F197","v":""},{"$f":"' '!G197","v":""},null,null,null,null,null,null,{"$f":"' '!I197","v":""},{"$f":"' '!J197","v":""},null,null,{"$f":"' '!P197","v":""},{"$f":"' '!Q197","v":""}]
[{"$f":"' '!A198","v":""},{"$f":"' '!C198","v":" "},{"$f":"' '!D198","v":""},{"$f":"' '!H198","v":""},{"$f":"' '!F198","v":""},{"$f":"' '!G198","v":""},null,null,null,null,null,null,{"$f":"' '!I198","v":""},{"$f":"' '!J198","v":""},null,null,{"$f":"' '!P198","v":""},{"$f":"' '!Q198","v":""}]
[{"$f":"' '!A199","v":""},{"$f":"' '!C199","v":" "},{"$f":"' '!D199","v":""},{"$f":"' '!H199","v":""},{"$f":"' '!F199","v":""},{"$f":"' '!G199","v":""},null,null,null,null,null,null,{"$f":"' '!I199","v":""},{"$f":"' '!J199","v":""},null,null,{"$f":"' '!P199","v":""},{"$f":"' '!Q199","v":""}]
[{"$f":"' '!A200","v":""},{"$f":"' '!C200","v":" "},{"$f":"' '!D200","v":""},{"$f":"' '!H200","v":""},{"$f":"' '!F200","v":""},{"$f":"' '!G200","v":""},null,null,null,null,null,null,{"$f":"' '!I200","v":""},{"$f":"' '!J200","v":""},null,null,{"$f":"' '!P200","v":""},{"$f":"' '!Q200","v":""}]
[{"$f":"' '!A201","v":""},{"$f":"' '!C201","v":" "},{"$f":"' '!D201","v":""},{"$f":"' '!H201","v":""},{"$f":"' '!F201","v":""},{"$f":"' '!G201","v":""},null,null,null,null,null,null,{"$f":"' '!I201","v":""},{"$f":"' '!J201","v":""},null,null,{"$f":"' '!P201","v":""},{"$f":"' '!Q201","v":""}]
[{"$f":"' '!A202","v":""},{"$f":"' '!C202","v":" "},{"$f":"' '!D202","v":""},{"$f":"' '!H202","v":""},{"$f":"' '!F202","v":""},{"$f":"' '!G202","v":""},null,null,null,null,null,null,{"$f":"' '!I202","v":""},{"$f":"' '!J202","v":""},null,null,{"$f":"' '!P202","v":""},{"$f":"' '!Q202","v":""}]
[{"$f":"' '!A203","v":""},{"$f":"' '!C203","v":" "},{"$f":"' '!D203","v":""},{"$f":"' '!H203","v":""},{"$f":"' '!F203","v":""},{"$f":"' '!G203","v":""},null,null,null,null,null,null,{"$f":"' '!I203","v":""},{"$f":"' '!J203","v":""},null,null,{"$f":"' '!P203","v":""},{"$f":"' '!Q203","v":""}]
[{"$f":"' '!A204","v":""},{"$f":"' '!C204","v":" "},{"$f":"' '!D204","v":""},{"$f":"' '!H204","v":""},{"$f":"' '!F204","v":""},{"$f":"' '!G204","v":""},null,null,null,null,null,null,{"$f":"' '!I204","v":""},{"$f":"' '!J204","v":""},null,null,{"$f":"' '!P204","v":""},{"$f":"' '!Q204","v":""}]
[{"$f":"' '!A205","v":""},{"$f":"' '!C205","v":" "},{"$f":"' '!D205","v":""},{"$f":"' '!H205","v":""},{"$f":"' '!F205","v":""},{"$f":"' '!G205","v":""},null,null,null,null,null,null,{"$f":"' '!I205","v":""},{"$f":"' '!J205","v":" "},{"$f":"' '!K205","v":""},null,{"$f":"' '!P205","v":""},{"$f":"' '!Q205","v":""}]
[{"$f":"' '!A206","v":""},{"$f":"' '!C206","v":" "},{"$f":"' '!D206","v":""},{"$f":"' '!H206","v":""},{"$f":"' '!F206","v":""},{"$f":"' '!G206","v":""},null,null,null,null,null,null,{"$f":"' '!I206","v":""},{"$f":"' '!J206","v":""},null,null,{"$f":"' '!P206","v":""},{"$f":"' '!Q206","v":""}]
[{"$f":"' '!A207","v":""},{"$f":"' '!C207","v":" "},{"$f":"' '!D207","v":""},{"$f":"' '!H207","v":""},{"$f":"' '!F207","v":""},{"$f":"' '!G207","v":""},null,null,null,null,null,null,{"$f":"' '!I207","v":""},{"$f":"' '!J207","v":""},null,null,{"$f":"' '!P207","v":""},{"$f":"' '!Q207","v":""}]
[{"$f":"' '!A208","v":""},{"$f":"' '!C208","v":" "},{"$f":"' '!D208","v":""},{"$f":"' '!H208","v":""},{"$f":"' '!F208","v":""},{"$f":"' '!G208","v":""},null,null,null,null,null,null,{"$f":"' '!I208","v":""},{"$f":"' '!J208","v":""},null,null,{"$f":"' '!P208","v":""},{"$f":"' '!Q208","v":""}]
[{"$f":"' '!A209","v":""},{"$f":"' '!C209","v":" "},{"$f":"' '!D209","v":""},{"$f":"' '!H209","v":""},{"$f":"' '!F209","v":""},{"$f":"' '!G209","v":""},null,null,null,null,null,null,{"$f":"' '!I209","v":""},{"$f":"' '!J209","v":""},null,null,{"$f":"' '!P209","v":""},{"$f":"' '!Q209","v":""}]
[{"$f":"' '!A210","v":""},{"$f":"' '!C210","v":" "},{"$f":"' '!D210","v":""},{"$f":"' '!H210","v":""},{"$f":"' '!F210","v":""},{"$f":"' '!G210","v":""},null,null,null,null,null,null,{"$f":"' '!I210","v":""},{"$f":"' '!J210","v":""},null,null,{"$f":"' '!P210","v":""},{"$f":"' '!Q210","v":""}]
[{"$f":"' '!A211","v":""},{"$f":"' '!C211","v":" "},{"$f":"' '!D211","v":""},{"$f":"' '!H211","v":""},{"$f":"' '!F211","v":""},{"$f":"' '!G211","v":""},null,null,null,null,null,null,{"$f":"' '!I211","v":""},{"$f":"' '!J211","v":""},null,null,{"$f":"' '!P211","v":""},{"$f":"' '!Q211","v":""}]
[{"$f":"' '!A212","v":""},{"$f":"' '!C212","v":" "},{"$f":"' '!D212","v":""},{"$f":"' '!H212","v":""},{"$f":"' '!F212","v":""},{"$f":"' '!G212","v":""},null,null,null,null,null,null,{"$f":"' '!I212","v":""},{"$f":"' '!J212","v":""},null,null,{"$f":"' '!P212","v":""},{"$f":"' '!Q212","v":""}]
[{"$f":"' '!A213","v":""},{"$f":"' '!C213","v":" "},{"$f":"' '!D213","v":""},{"$f":"' '!H213","v":""},{"$f":"' '!F213","v":""},{"$f":"' '!G213","v":""},null,null,null,null,null,null,{"$f":"' '!I213","v":""},{"$f":"' '!J213","v":""},null,null,{"$f":"' '!P213","v":""},{"$f":"' '!Q213","v":""}]
[{"$f":"' '!A214","v":""},{"$f":"' '!C214","v":" "},{"$f":"' '!D214","v":""},{"$f":"' '!H214","v":""},{"$f":"' '!F214","v":""},{"$f":"' '!G214","v":""},null,null,null,null,null,null,{"$f":"' '!I214","v":""},{"$f":"' '!J214","v":""},null,null,{"$f":"' '!P214","v":""},{"$f":"' '!Q214","v":""}]
[{"$f":"' '!A215","v":""},{"$f":"' '!C215","v":" "},{"$f":"' '!D215","v":""},{"$f":"' '!H215","v":""},{"$f":"' '!F215","v":""},{"$f":"' '!G215","v":""},null,null,null,null,null,null,{"$f":"' '!I215","v":""},{"$f":"' '!J215","v":""},null,null,{"$f":"' '!P215","v":""},{"$f":"' '!Q215","v":""}]
[{"$f":"' '!A216","v":""},{"$f":"' '!C216","v":" "},{"$f":"' '!D216","v":""},{"$f":"' '!H216","v":""},{"$f":"' '!F216","v":""},{"$f":"' '!G216","v":""},null,null,null,null,null,null,{"$f":"' '!I216","v":""},{"$f":"' '!J216","v":""},null,null,{"$f":"' '!P216","v":""},{"$f":"' '!Q216","v":""}]
[{"$f":"' '!A217","v":""},{"$f":"' '!C217","v":" "},{"$f":"' '!D217","v":""},{"$f":"' '!H217","v":""},{"$f":"' '!F217","v":""},{"$f":"' '!G217","v":""},null,null,null,null,null,null,{"$f":"' '!I217","v":""},{"$f":"' '!J217","v":" "},{"$f":"' '!K217","v":""},null,{"$f":"' '!P217","v":""},{"$f":"' '!Q217","v":""}]
[{"$f":"' '!A218","v":""},{"$f":"' '!C218","v":" "},{"$f":"' '!D218","v":""},{"$f":"' '!H218","v":""},{"$f":"' '!F218","v":""},{"$f":"' '!G218","v":""},null,null,null,null,null,null,{"$f":"' '!I218","v":""},{"$f":"' '!J218","v":""},null,null,{"$f":"' '!P218","v":""},{"$f":"' '!Q218","v":""}]
[{"$f":"' '!A219","v":""},{"$f":"' '!C219","v":" "},{"$f":"' '!D219","v":""},{"$f":"' '!H219","v":""},{"$f":"' '!F219","v":""},{"$f":"' '!G219","v":""},null,null,null,null,null,null,{"$f":"' '!I219","v":""},{"$f":"' '!J219","v":""},null,null,{"$f":"' '!P219","v":""},{"$f":"' '!Q219","v":""}]
[{"$f":"' '!A220","v":""},{"$f":"' '!C220","v":" "},{"$f":"' '!D220","v":""},{"$f":"' '!H220","v":""},{"$f":"' '!F220","v":""},{"$f":"' '!G220","v":""},null,null,null,null,null,null,{"$f":"' '!I220","v":""},{"$f":"' '!J220","v":""},null,null,{"$f":"' '!P220","v":""},{"$f":"' '!Q220","v":""}]
[{"$f":"' '!A221","v":""},{"$f":"' '!C221","v":" "},{"$f":"' '!D221","v":""},{"$f":"' '!H221","v":""},{"$f":"' '!F221","v":""},{"$f":"' '!G221","v":""},null,null,null,null,null,null,{"$f":"' '!I221","v":""},{"$f":"' '!J221","v":""},null,null,{"$f":"' '!P221","v":""},{"$f":"' '!Q221","v":""}]
[{"$f":"' '!A222","v":""},{"$f":"' '!C222","v":" "},{"$f":"' '!D222","v":""},{"$f":"' '!H222","v":""},{"$f":"' '!F222","v":""},{"$f":"' '!G222","v":""},null,null,null,null,null,null,{"$f":"' '!I222","v":""},{"$f":"' '!J222","v":""},null,null,{"$f":"' '!P222","v":""},{"$f":"' '!Q222","v":""}]
[{"$f":"' '!A223","v":""},{"$f":"' '!C223","v":" "},{"$f":"' '!D223","v":""},{"$f":"' '!H223","v":""},{"$f":"' '!F223","v":""},{"$f":"' '!G223","v":""},null,null,null,null,null,null,{"$f":"' '!I223","v":""},{"$f":"' '!J223","v":""},null,null,{"$f":"' '!P223","v":""},{"$f":"' '!Q223","v":""}]
[{"$f":"' '!A224","v":""},{"$f":"' '!C224","v":" "},{"$f":"' '!D224","v":""},{"$f":"' '!H224","v":""},{"$f":"' '!F224","v":""},{"$f":"' '!G224","v":""},null,null,null,null,null,null,{"$f":"' '!I224","v":""},{"$f":"' '!J224","v":""},null,null,{"$f":"' '!P224","v":""},{"$f":"' '!Q224","v":""}]
[{"$f":"' '!A225","v":""},{"$f":"' '!C225","v":" "},{"$f":"' '!D225","v":""},{"$f":"' '!H225","v":""},{"$f":"' '!F225","v":""},{"$f":"' '!G225","v":""},null,null,null,null,null,null,{"$f":"' '!I225","v":""},{"$f":"' '!J225","v":""},null,null,{"$f":"' '!P225","v":""},{"$f":"' '!Q225","v":""}]
[{"$f":"' '!A226","v":""},{"$f":"' '!C226","v":" "},{"$f":"' '!D226","v":""},{"$f":"' '!H226","v":""},{"$f":"' '!F226","v":""},{"$f":"' '!G226","v":""},null,null,null,null,null,null,{"$f":"' '!I226","v":""},{"$f":"' '!J226","v":""},null,null,{"$f":"' '!P226","v":""},{"$f":"' '!Q226","v":""}]
[{"$f":"' '!A227","v":""},{"$f":"' '!C227","v":" "},{"$f":"' '!D227","v":""},{"$f":"' '!H227","v":""},{"$f":"' '!F227","v":""},{"$f":"' '!G227","v":""},null,null,null,null,null,null,{"$f":"' '!I227","v":""},{"$f":"' '!J227","v":""},null,null,{"$f":"' '!P227","v":""},{"$f":"' '!Q227","v":""}]
[{"$f":"' '!A228","v":""},{"$f":"' '!C228","v":" "},{"$f":"' '!D228","v":""},{"$f":"' '!H228","v":""},{"$f":"' '!F228","v":""},{"$f":"' '!G228","v":""},null,null,null,null,null,null,{"$f":"' '!I228","v":""},{"$f":"' '!J228","v":""},null,null,{"$f":"' '!P228","v":""},{"$f":"' '!Q228","v":""}]
[{"$f":"' '!A229","v":""},{"$f":"' '!C229","v":" "},{"$f":"' '!D229","v":""},{"$f":"' '!H229","v":""},{"$f":"' '!F229","v":""},{"$f":"' '!G229","v":""},null,null,null,null,null,null,{"$f":"' '!I229","v":""},{"$f":"' '!J229","v":" "},{"$f":"' '!K229","v":""},null,{"$f":"' '!P229","v":""},{"$f":"' '!Q229","v":""}]
[{"$f":"' '!A230","v":""},{"$f":"' '!C230","v":" "},{"$f":"' '!D230","v":""},{"$f":"' '!H230","v":""},{"$f":"' '!F230","v":""},{"$f":"' '!G230","v":""},null,null,null,null,null,null,{"$f":"' '!I230","v":""},{"$f":"' '!J230","v":""},null,null,{"$f":"' '!P230","v":""},{"$f":"' '!Q230","v":""}]
[{"$f":"' '!A231","v":""},{"$f":"' '!C231","v":" "},{"$f":"' '!D231","v":""},{"$f":"' '!H231","v":""},{"$f":"' '!F231","v":""},{"$f":"' '!G231","v":""},null,null,null,null,null,null,{"$f":"' '!I231","v":""},{"$f":"' '!J231","v":""},null,null,{"$f":"' '!P231","v":""},{"$f":"' '!Q231","v":""}]
[{"$f":"' '!A232","v":""},{"$f":"' '!C232","v":" "},{"$f":"' '!D232","v":""},{"$f":"' '!H232","v":""},{"$f":"' '!F232","v":""},{"$f":"' '!G232","v":""},null,null,null,null,null,null,{"$f":"' '!I232","v":""},{"$f":"' '!J232","v":""},null,null,{"$f":"' '!P232","v":""},{"$f":"' '!Q232","v":""}]
[{"$f":"' '!A233","v":""},{"$f":"' '!C233","v":" "},{"$f":"' '!D233","v":""},{"$f":"' '!H233","v":""},{"$f":"' '!F233","v":""},{"$f":"' '!G233","v":""},null,null,null,null,null,null,{"$f":"' '!I233","v":""},{"$f":"' '!J233","v":""},null,null,{"$f":"' '!P233","v":""},{"$f":"' '!Q233","v":""}]
[{"$f":"' '!A234","v":""},{"$f":"' '!C234","v":" "},{"$f":"' '!D234","v":""},{"$f":"' '!H234","v":""},{"$f":"' '!F234","v":""},{"$f":"' '!G234","v":""},null,null,null,null,null,null,{"$f":"' '!I234","v":""},{"$f":"' '!J234","v":""},null,null,{"$f":"' '!P234","v":""},{"$f":"' '!Q234","v":""}]
[{"$f":"' '!A235","v":""},{"$f":"' '!C235","v":" "},{"$f":"' '!D235","v":""},{"$f":"' '!H235","v":""},{"$f":"' '!F235","v":""},{"$f":"' '!G235","v":""},null,null,null,null,null,null,{"$f":"' '!I235","v":""},{"$f":"' '!J235","v":""},null,null,{"$f":"' '!P235","v":""},{"$f":"' '!Q235","v":""}]
[{"$f":"' '!A236","v":""},{"$f":"' '!C236","v":" "},{"$f":"' '!D236","v":""},{"$f":"' '!H236","v":""},{"$f":"' '!F236","v":""},{"$f":"' '!G236","v":""},null,null,null,null,null,null,{"$f":"' '!I236","v":""},{"$f":"' '!J236","v":""},null,null,{"$f":"' '!P236","v":""},{"$f":"' '!Q236","v":""}]
[{"$f":"' '!A237","v":""},{"$f":"' '!C237","v":" "},{"$f":"' '!D237","v":""},{"$f":"' '!H237","v":""},{"$f":"' '!F237","v":""},{"$f":"' '!G237","v":""},null,null,null,null,null,null,{"$f":"' '!I237","v":""},{"$f":"' '!J237","v":""},null,null,{"$f":"' '!P237","v":""},{"$f":"' '!Q237","v":""}]
[{"$f":"' '!A238","v":""},{"$f":"' '!C238","v":" "},{"$f":"' '!D238","v":""},{"$f":"' '!H238","v":""},{"$f":"' '!F238","v":""},{"$f":"' '!G238","v":""},null,null,null,null,null,null,{"$f":"' '!I238","v":""},{"$f":"' '!J238","v":""},null,null,{"$f":"' '!P238","v":""},{"$f":"' '!Q238","v":""}]
[{"$f":"' '!A239","v":""},{"$f":"' '!C239","v":" "},{"$f":"' '!D239","v":""},{"$f":"' '!H239","v":""},{"$f":"' '!F239","v":""},{"$f":"' '!G239","v":""},null,null,null,null,null,null,{"$f":"' '!I239","v":""},{"$f":"' '!J239","v":""},null,null,{"$f":"' '!P239","v":""},{"$f":"' '!Q239","v":""}]
[{"$f":"' '!A240","v":""},{"$f":"' '!C240","v":" "},{"$f":"' '!D240","v":""},{"$f":"' '!H240","v":""},{"$f":"' '!F240","v":""},{"$f":"' '!G240","v":""},null,null,null,null,null,null,{"$f":"' '!I240","v":""},{"$f":"' '!J240","v":""},null,null,{"$f":"' '!P240","v":""},{"$f":"' '!Q240","v":""}]
[{"$f":"' '!A241","v":""},{"$f":"' '!C241","v":" "},{"$f":"' '!D241","v":""},{"$f":"' '!H241","v":""},{"$f":"' '!F241","v":""},{"$f":"' '!G241","v":""},null,null,null,null,null,null,{"$f":"' '!I241","v":""},{"$f":"' '!J241","v":" "},{"$f":"' '!K241","v":""},null,{"$f":"' '!P241","v":""},{"$f":"' '!Q241","v":""}]
[{"$f":"' '!A242","v":""},{"$f":"' '!C242","v":" "},{"$f":"' '!D242","v":""},{"$f":"' '!H242","v":""},{"$f":"' '!F242","v":""},{"$f":"' '!G242","v":""},null,null,null,null,null,null,{"$f":"' '!I242","v":""},{"$f":"' '!J242","v":""},null,null,{"$f":"' '!P242","v":""},{"$f":"' '!Q242","v":""}]
[{"$f":"' '!A243","v":""},{"$f":"' '!C243","v":" "},{"$f":"' '!D243","v":""},{"$f":"' '!H243","v":""},{"$f":"' '!F243","v":""},{"$f":"' '!G243","v":""},null,null,null,null,null,null,{"$f":"' '!I243","v":""},{"$f":"' '!J243","v":""},null,null,{"$f":"' '!P243","v":""},{"$f":"' '!Q243","v":""}]
[{"$f":"' '!A244","v":""},{"$f":"' '!C244","v":" "},{"$f":"' '!D244","v":""},{"$f":"' '!H244","v":""},{"$f":"' '!F244","v":""},{"$f":"' '!G244","v":""},null,null,null,null,null,null,{"$f":"' '!I244","v":""},{"$f":"' '!J244","v":""},null,null,{"$f":"' '!P244","v":""},{"$f":"' '!Q244","v":""}]
[{"$f":"' '!A245","v":""},{"$f":"' '!C245","v":" "},{"$f":"' '!D245","v":""},{"$f":"' '!H245","v":""},{"$f":"' '!F245","v":""},{"$f":"' '!G245","v":""},null,null,null,null,null,null,{"$f":"' '!I245","v":""},{"$f":"' '!J245","v":""},null,null,{"$f":"' '!P245","v":""},{"$f":"' '!Q245","v":""}]
[{"$f":"' '!A246","v":""},{"$f":"' '!C246","v":" "},{"$f":"' '!D246","v":""},{"$f":"' '!H246","v":""},{"$f":"' '!F246","v":""},{"$f":"' '!G246","v":""},null,null,null,null,null,null,{"$f":"' '!I246","v":""},{"$f":"' '!J246","v":""},null,null,{"$f":"' '!P246","v":""},{"$f":"' '!Q246","v":""}]
[{"$f":"' '!A247","v":""},{"$f":"' '!C247","v":" "},{"$f":"' '!D247","v":""},{"$f":"' '!H247","v":""},{"$f":"' '!F247","v":""},{"$f":"' '!G247","v":""},null,null,null,null,null,null,{"$f":"' '!I247","v":""},{"$f":"' '!J247","v":""},null,null,{"$f":"' '!P247","v":""},{"$f":"' '!Q247","v":""}]
[{"$f":"' '!A248","v":""},{"$f":"' '!C248","v":" "},{"$f":"' '!D248","v":""},{"$f":"' '!H248","v":""},{"$f":"' '!F248","v":""},{"$f":"' '!G248","v":""},null,null,null,null,null,null,{"$f":"' '!I248","v":""},{"$f":"' '!J248","v":""},null,null,{"$f":"' '!P248","v":""},{"$f":"' '!Q248","v":""}]
[{"$f":"' '!A249","v":""},{"$f":"' '!C249","v":" "},{"$f":"' '!D249","v":""},{"$f":"' '!H249","v":""},{"$f":"' '!F249","v":""},{"$f":"' '!G249","v":""},null,null,null,null,null,null,{"$f":"' '!I249","v":""},{"$f":"' '!J249","v":""},null,null,{"$f":"' '!P249","v":""},{"$f":"' '!Q249","v":""}]
[{"$f":"' '!A250","v":""},{"$f":"' '!C250","v":" "},{"$f":"' '!D250","v":""},{"$f":"' '!H250","v":""},{"$f":"' '!F250","v":""},{"$f":"' '!G250","v":""},null,null,null,null,null,null,{"$f":"' '!I250","v":""},{"$f":"' '!J250","v":""},null,null,{"$f":"' '!P250","v":""},{"$f":"' '!Q250","v":""}]
[{"$f":"' '!A251","v":""},{"$f":"' '!C251","v":" "},{"$f":"' '!D251","v":""},{"$f":"' '!H251","v":""},{"$f":"' '!F251","v":""},{"$f":"' '!G251","v":""},null,null,null,null,null,null,{"$f":"' '!I251","v":""},{"$f":"' '!J251","v":""},null,null,{"$f":"' '!P251","v":""},{"$f":"' '!Q251","v":""}]
[{"$f":"' '!A252","v":""},{"$f":"' '!C252","v":" "},{"$f":"' '!D252","v":""},{"$f":"' '!H252","v":""},{"$f":"' '!F252","v":""},{"$f":"' '!G252","v":""},null,null,null,null,null,null,{"$f":"' '!I252","v":""},{"$f":"' '!J252","v":""},null,null,{"$f":"' '!P252","v":""},{"$f":"' '!Q252","v":""}]
[{"$f":"' '!A253","v":""},{"$f":"' '!C253","v":" "},{"$f":"' '!D253","v":""},{"$f":"' '!H253","v":""},{"$f":"' '!F253","v":""},{"$f":"' '!G253","v":""},null,null,null,null,null,null,{"$f":"' '!I253","v":""},{"$f":"' '!J253","v":" "},{"$f":"' '!K253","v":""},null,{"$f":"' '!P253","v":""},{"$f":"' '!Q253","v":""}]
[{"$f":"' '!A254","v":""},{"$f":"' '!C254","v":" "},{"$f":"' '!D254","v":""},{"$f":"' '!H254","v":""},{"$f":"' '!F254","v":""},{"$f":"' '!G254","v":""},null,null,null,null,null,null,{"$f":"' '!I254","v":""},{"$f":"' '!J254","v":""},{"$f":"' '!K254","v":""},null,{"$f":"' '!P254","v":""},{"$f":"' '!Q254","v":""}]
[{"$f":"' '!A255","v":""},{"$f":"' '!C255","v":" "},{"$f":"' '!D255","v":""},{"$f":"' '!H255","v":""},{"$f":"' '!F255","v":""},{"$f":"' '!G255","v":""},null,null,null,null,null,null,{"$f":"' '!I255","v":""},{"$f":"' '!J255","v":""},{"$f":"' '!K255","v":""},null,{"$f":"' '!P255","v":""},{"$f":"' '!Q255","v":""}]
[{"$f":"' '!A256","v":""},{"$f":"' '!C256","v":" "},{"$f":"' '!D256","v":""},{"$f":"' '!H256","v":""},{"$f":"' '!F256","v":""},{"$f":"' '!G256","v":""},null,null,null,null,null,null,{"$f":"' '!I256","v":""},{"$f":"' '!J256","v":""},{"$f":"' '!K256","v":""},null,{"$f":"' '!P256","v":""},{"$f":"' '!Q256","v":""}]
[{"$f":"' '!A257","v":""},{"$f":"' '!C257","v":" "},{"$f":"' '!D257","v":""},{"$f":"' '!H257","v":""},{"$f":"' '!F257","v":""},{"$f":"' '!G257","v":""},null,null,null,null,null,null,{"$f":"' '!I257","v":""},{"$f":"' '!J257","v":""},{"$f":"' '!K257","v":""},null,{"$f":"' '!P257","v":""},{"$f":"' '!Q257","v":""}]
[{"$f":"' '!A258","v":""},{"$f":"' '!C258","v":" "},{"$f":"' '!D258","v":""},{"$f":"' '!H258","v":""},{"$f":"' '!F258","v":""},{"$f":"' '!G258","v":""},null,null,null,null,null,null,{"$f":"' '!I258","v":""},{"$f":"' '!J258","v":""},{"$f":"' '!K258","v":""},null,{"$f":"' '!P258","v":""},{"$f":"' '!Q258","v":""}]
[{"$f":"' '!A259","v":""},{"$f":"' '!C259","v":" "},{"$f":"' '!D259","v":""},{"$f":"' '!H259","v":""},{"$f":"' '!F259","v":""},{"$f":"' '!G259","v":""},null,null,null,null,null,null,{"$f":"' '!I259","v":""},{"$f":"' '!J259","v":""},{"$f":"' '!K259","v":""},null,{"$f":"' '!P259","v":""},{"$f":"' '!Q259","v":""}]
[{"$f":"' '!A260","v":""},{"$f":"' '!C260","v":" "},{"$f":"' '!D260","v":""},{"$f":"' '!H260","v":""},{"$f":"' '!F260","v":""},{"$f":"' '!G260","v":""},null,null,null,null,null,null,{"$f":"' '!I260","v":""},{"$f":"' '!J260","v":""},{"$f":"' '!K260","v":""},null,{"$f":"' '!P260","v":""},{"$f":"' '!Q260","v":""}]
[{"$f":"' '!A261","v":""},{"$f":"' '!C261","v":" "},{"$f":"' '!D261","v":""},{"$f":"' '!H261","v":""},{"$f":"' '!F261","v":""},{"$f":"' '!G261","v":""},null,null,null,null,null,null,{"$f":"' '!I261","v":""},{"$f":"' '!J261","v":""},{"$f":"' '!K261","v":""},null,{"$f":"' '!P261","v":""},{"$f":"' '!Q261","v":""}]
[{"$f":"' '!A262","v":""},{"$f":"' '!C262","v":" "},{"$f":"' '!D262","v":""},{"$f":"' '!H262","v":""},{"$f":"' '!F262","v":""},{"$f":"' '!G262","v":""},null,null,null,null,null,null,{"$f":"' '!I262","v":""},{"$f":"' '!J262","v":""},{"$f":"' '!K262","v":""},null,{"$f":"' '!P262","v":""},{"$f":"' '!Q262","v":""}]
[{"$f":"' '!A263","v":""},{"$f":"' '!C263","v":" "},{"$f":"' '!D263","v":""},{"$f":"' '!H263","v":""},{"$f":"' '!F263","v":""},{"$f":"' '!G263","v":""},null,null,null,null,null,null,{"$f":"' '!I263","v":""},{"$f":"' '!J263","v":""},{"$f":"' '!K263","v":""},null,{"$f":"' '!P263","v":""},{"$f":"' '!Q263","v":""}]
[{"$f":"' '!A264","v":""},{"$f":"' '!C264","v":" "},{"$f":"' '!D264","v":""},{"$f":"' '!H264","v":""},{"$f":"' '!F264","v":""},{"$f":"' '!G264","v":""},null,null,null,null,null,null,{"$f":"' '!I264","v":""},{"$f":"' '!J264","v":""},{"$f":"' '!K264","v":""},null,{"$f":"' '!P264","v":""},{"$f":"' '!Q264","v":""}]
[null,null,null,{"$f":"' '!H265","v":""},{"$f":"' '!F265","v":""},{"$f":"' '!G265","v":""},null,null,null,null,null,null,{"$f":"' '!I265","v":""},{"$f":"' '!J265","v":" "},{"$f":"' '!K265","v":""},null,{"$f":"' '!P265","v":""},{"$f":"' '!Q265","v":""}]

{"sheet":"Лист1","index":2,"n_rows":0,"n_cols":0,"rows_kept":0,"cut":false,"hidden":false,"merged":[]}